BEGIN:VCALENDAR
VERSION:2.0
PRODID:-//Moraine Park Technical College - ECPv6.15.20//NONSGML v1.0//EN
CALSCALE:GREGORIAN
METHOD:PUBLISH
X-WR-CALNAME:Moraine Park Technical College
X-ORIGINAL-URL:https://www.morainepark.edu
X-WR-CALDESC:Events for Moraine Park Technical College
REFRESH-INTERVAL;VALUE=DURATION:PT1H
X-Robots-Tag:noindex
X-PUBLISHED-TTL:PT1H
BEGIN:VTIMEZONE
TZID:America/Chicago
BEGIN:DAYLIGHT
TZOFFSETFROM:-0600
TZOFFSETTO:-0500
TZNAME:CDT
DTSTART:20200308T080000
END:DAYLIGHT
BEGIN:STANDARD
TZOFFSETFROM:-0500
TZOFFSETTO:-0600
TZNAME:CST
DTSTART:20201101T070000
END:STANDARD
BEGIN:DAYLIGHT
TZOFFSETFROM:-0600
TZOFFSETTO:-0500
TZNAME:CDT
DTSTART:20210314T080000
END:DAYLIGHT
BEGIN:STANDARD
TZOFFSETFROM:-0500
TZOFFSETTO:-0600
TZNAME:CST
DTSTART:20211107T070000
END:STANDARD
BEGIN:DAYLIGHT
TZOFFSETFROM:-0600
TZOFFSETTO:-0500
TZNAME:CDT
DTSTART:20220313T080000
END:DAYLIGHT
BEGIN:STANDARD
TZOFFSETFROM:-0500
TZOFFSETTO:-0600
TZNAME:CST
DTSTART:20221106T070000
END:STANDARD
END:VTIMEZONE
BEGIN:VEVENT
DTSTART;TZID=America/Chicago:20211203T080000
DTEND;TZID=America/Chicago:20211203T163000
DTSTAMP:20260420T155628
CREATED:20210713T163849Z
LAST-MODIFIED:20210713T163849Z
UID:10002922-1638518400-1638549000@www.morainepark.edu
SUMMARY:Building Relationships for Success in Sales
DESCRIPTION:If your trainees are in the business of sales\, then they are in the business of building relationships. In this course\, participants will discover that the business of all sales professionals is making friends and building relationships\, no matter the size of the company or the type of market. \n$299 per person. Price includes materials and refreshments.
URL:https://www.morainepark.edu/event/building-relationships-for-success-in-sales/
LOCATION:Fond du Lac Campus\, O-209\, 235 N National Ave\, Fond du Lac\, WI\, 54935\, United States
CATEGORIES:Business & Industry Course,Public
ORGANIZER;CN="Angela Gerlach":MAILTO:training@morainepark.edu
END:VEVENT
BEGIN:VEVENT
DTSTART;VALUE=DATE:20211204
DTEND;VALUE=DATE:20211205
DTSTAMP:20260420T155628
CREATED:20211130T155244Z
LAST-MODIFIED:20211130T155244Z
UID:10003734-1638576000-1638662399@www.morainepark.edu
SUMMARY:Gas Utility Club: Christmas in a Shoebox
DESCRIPTION:Buy items to fill a “Shoebox”-sized box (children ages 1-4\, 5-7\, and 8+) \nItem ideas: toys\, personal hygiene products\, winter supplies\, etc. \nReturn filled box to the Gas Utility Classroom K-501 (Beaver Dam Campus) \nContact Steve Logan with questions: 920-887-4411 \nDonations due by December 10
URL:https://www.morainepark.edu/event/gas-utility-club-christmas-in-a-shoebox/2021-12-04/
CATEGORIES:Club Happenings
ORGANIZER;CN="Lisa Manuell":MAILTO:lmanuell@morainepark.edu
END:VEVENT
BEGIN:VEVENT
DTSTART;TZID=America/Chicago:20211204T080000
DTEND;TZID=America/Chicago:20211204T160000
DTSTAMP:20260420T155628
CREATED:20210713T162009Z
LAST-MODIFIED:20210713T162104Z
UID:10002911-1638604800-1638633600@www.morainepark.edu
SUMMARY:Structural Welding Certification Exams
DESCRIPTION:Wisconsin Statute #Ind.53.63 requires that all structural welding done in the state of Wisconsin be performed by state-certified welders. Single family or two-family dwellings and buildings used solely for agricultural purposes are exempt from this requirement. \nAll tests are in accordance with AWS D1.1 Structural Steel Welding Code. All joint configurations and welding processes must meet the criteria given under section 3 of AWS D1.1 titled Prequalification of WPSs. \nExam Information: \n\nAll tests are given by State of Wisconsin Weld Test Conductors. Welders successfully passing this test can be registered with the state of Wisconsin as certified welders. This is commonly known as being “state certified.”\n\n\nExams are given on 1” or 3/8” steel plate.\nJoints are V-grooves with or without backing strips in the positions needed.\nSMAW\, FCAW or GMAW processes may be used.\nMore plates can be purchased for an additional fee.
URL:https://www.morainepark.edu/event/structural-welding-certification-exams-copy/
LOCATION:Jackson Regional Center\, Room JX-118
CATEGORIES:Business & Industry Course,Public
ORGANIZER;CN="Angela Gerlach":MAILTO:training@morainepark.edu
END:VEVENT
BEGIN:VEVENT
DTSTART;VALUE=DATE:20211206
DTEND;VALUE=DATE:20211207
DTSTAMP:20260420T155628
CREATED:20211130T155244Z
LAST-MODIFIED:20211130T155244Z
UID:10003735-1638748800-1638835199@www.morainepark.edu
SUMMARY:Gas Utility Club: Christmas in a Shoebox
DESCRIPTION:Buy items to fill a “Shoebox”-sized box (children ages 1-4\, 5-7\, and 8+) \nItem ideas: toys\, personal hygiene products\, winter supplies\, etc. \nReturn filled box to the Gas Utility Classroom K-501 (Beaver Dam Campus) \nContact Steve Logan with questions: 920-887-4411 \nDonations due by December 10
URL:https://www.morainepark.edu/event/gas-utility-club-christmas-in-a-shoebox/2021-12-06/
CATEGORIES:Club Happenings
ORGANIZER;CN="Lisa Manuell":MAILTO:lmanuell@morainepark.edu
END:VEVENT
BEGIN:VEVENT
DTSTART;VALUE=DATE:20211206
DTEND;VALUE=DATE:20211207
DTSTAMP:20260420T155628
CREATED:20211101T213910Z
LAST-MODIFIED:20211101T213910Z
UID:10003566-1638748800-1638835199@www.morainepark.edu
SUMMARY:BD: Ornament Sale - Weld Club Fundraiser
DESCRIPTION:Support the Welding Club with their Fundraiser! \nSnowman ornaments are $5 each\nStands are $10 each\nPay cash or check in the Library. All orders are due by December 3rd.\nPick up on December 10th.\nEmail Andrew Luby for questions or to place orders:\naluby@morainepark.edu
URL:https://www.morainepark.edu/event/bd-ornament-sale-weld-club-fundraiser/2021-12-06/
LOCATION:Beaver Dam
CATEGORIES:Club Happenings
ORGANIZER;CN="Lisa Manuell":MAILTO:lmanuell@morainepark.edu
END:VEVENT
BEGIN:VEVENT
DTSTART;TZID=America/Chicago:20211206T113000
DTEND;TZID=America/Chicago:20211206T123000
DTSTAMP:20260420T155628
CREATED:20211129T143503Z
LAST-MODIFIED:20211129T143503Z
UID:10003730-1638790200-1638793800@www.morainepark.edu
SUMMARY:FDL: Food and Facts - Drive Smart\, Drive Safe\, Save a Life!
DESCRIPTION:Curt Kindschuh was one of the first Drug Abuse Resistance Education (DARE) officers in the state of Wisconsin and has received statewide recognition for his outstanding work with young people.  Also\, the first State Executive Director of MADD (Mothers Against Drunk Driving)\, Curt will discuss his experiences working in law enforcement and his company Drunk Busters of America\, LLC\, the worldwide leader in drunk driving education and prevention. \nFree lunch for MPTC students and employees who attend the presentation! \nSponsored on Fond du Lac Student Senate.
URL:https://www.morainepark.edu/event/fdl-food-and-facts-drive-smart-drive-safe-save-a-life/
LOCATION:Fond du Lac Campus\, Commons Area\, 235 N. National Avenue\, Fond du Lac\, WI\, 54935
CATEGORIES:Student Event
ORGANIZER;CN="Lucas Nieman":MAILTO:lnieman@morainepark.edu
GEO:43.785821;-88.418698
X-APPLE-STRUCTURED-LOCATION;VALUE=URI;X-ADDRESS=Fond du Lac Campus Commons Area 235 N. National Avenue Fond du Lac WI 54935;X-APPLE-RADIUS=500;X-TITLE=235 N. National Avenue:geo:-88.418698,43.785821
END:VEVENT
BEGIN:VEVENT
DTSTART;TZID=America/Chicago:20211207T080000
DTEND;TZID=America/Chicago:20211207T120000
DTSTAMP:20260420T155628
CREATED:20210708T182109Z
LAST-MODIFIED:20210708T182109Z
UID:10003468-1638864000-1638878400@www.morainepark.edu
SUMMARY:Listening with Intent
DESCRIPTION:Being a great listener is essential at work. If someone shows a sincere desire to understand what others have to say\, has an open mind\, and is willing to have their assumptions and conclusions about others’ messages corrected\, they show the signs of being an active listener. Listening with Intent teaches participants how to master the skills of active listening. They will learn how to connect with the speaker\, how to collect information by paying attention to the context of the message\, how to reach an unbiased conclusion about what they learned\, and how to understand common situations that block active listening. \n$150 per person. Price includes material and refreshments.
URL:https://www.morainepark.edu/event/listening-with-intent/
LOCATION:Fond du Lac Campus\, Room O-205\, 235 N National Ave\, Fond du Lac\, 54935
CATEGORIES:Business & Industry Course,Public
ORGANIZER;CN="Angela Gerlach":MAILTO:training@morainepark.edu
END:VEVENT
BEGIN:VEVENT
DTSTART;TZID=America/Chicago:20211207T113000
DTEND;TZID=America/Chicago:20211207T123000
DTSTAMP:20260420T155628
CREATED:20210712T152604Z
LAST-MODIFIED:20210712T152604Z
UID:10002902-1638876600-1638880200@www.morainepark.edu
SUMMARY:BD: Holiday Bingo 'n Lunch
DESCRIPTION:Eat\, play and win!  Lots of prizes and free food for students. \nPRE-registration is required.  Contact Lisa in Student Life (lmanuell@morainepark.edu).  Seats are limited. \nSponsored by the Beaver Dam Student Senate.
URL:https://www.morainepark.edu/event/bd-holiday-bingo-n-lunch/
LOCATION:Beaver Dam Campus\, Room K-202\, 700 Gould Street\, Beaver Dam\, WI\, 53916\, United States
CATEGORIES:Student Event,Student Event - Beaver Dam
ORGANIZER;CN="Lisa Manuell":MAILTO:lmanuell@morainepark.edu
END:VEVENT
BEGIN:VEVENT
DTSTART;TZID=America/Chicago:20211207T150000
DTEND;TZID=America/Chicago:20211207T183000
DTSTAMP:20260420T155628
CREATED:20211130T195717Z
LAST-MODIFIED:20211201T183235Z
UID:10004000-1638889200-1638901800@www.morainepark.edu
SUMMARY:BD: Flag Football 'n Dinner
DESCRIPTION:Join us for a late Fall flag football game!  No experience\, just play to enjoy the game! \nFree dinner afterwards for players\, and door prizes too! \nMust pre-register with Lisa in Student Life\, lmanuell@morainepark.edu\, 920-887-4462. \nSponsored by the Beaver Dam Student Senate.
URL:https://www.morainepark.edu/event/bd-flag-football-n-dinner/
LOCATION:Beaver Dam
CATEGORIES:Student Event,Student Event - Beaver Dam
ORGANIZER;CN="Lisa Manuell":MAILTO:lmanuell@morainepark.edu
END:VEVENT
END:VCALENDAR