BEGIN:VCALENDAR
VERSION:2.0
PRODID:-//Moraine Park Technical College - ECPv6.15.20//NONSGML v1.0//EN
CALSCALE:GREGORIAN
METHOD:PUBLISH
X-WR-CALNAME:Moraine Park Technical College
X-ORIGINAL-URL:https://www.morainepark.edu
X-WR-CALDESC:Events for Moraine Park Technical College
REFRESH-INTERVAL;VALUE=DURATION:PT1H
X-Robots-Tag:noindex
X-PUBLISHED-TTL:PT1H
BEGIN:VTIMEZONE
TZID:America/Chicago
BEGIN:DAYLIGHT
TZOFFSETFROM:-0600
TZOFFSETTO:-0500
TZNAME:CDT
DTSTART:20200308T080000
END:DAYLIGHT
BEGIN:STANDARD
TZOFFSETFROM:-0500
TZOFFSETTO:-0600
TZNAME:CST
DTSTART:20201101T070000
END:STANDARD
BEGIN:DAYLIGHT
TZOFFSETFROM:-0600
TZOFFSETTO:-0500
TZNAME:CDT
DTSTART:20210314T080000
END:DAYLIGHT
BEGIN:STANDARD
TZOFFSETFROM:-0500
TZOFFSETTO:-0600
TZNAME:CST
DTSTART:20211107T070000
END:STANDARD
BEGIN:DAYLIGHT
TZOFFSETFROM:-0600
TZOFFSETTO:-0500
TZNAME:CDT
DTSTART:20220313T080000
END:DAYLIGHT
BEGIN:STANDARD
TZOFFSETFROM:-0500
TZOFFSETTO:-0600
TZNAME:CST
DTSTART:20221106T070000
END:STANDARD
END:VTIMEZONE
BEGIN:VEVENT
DTSTART;TZID=America/Chicago:20211109T123000
DTEND;TZID=America/Chicago:20211109T163000
DTSTAMP:20260422T200601
CREATED:20210708T182713Z
LAST-MODIFIED:20210708T182713Z
UID:10003469-1636461000-1636475400@www.morainepark.edu
SUMMARY:Think Critically
DESCRIPTION:Participants learn to differentiate assumptions from reality\, maintain an open mind approaching concepts and problems from different perspectives\, and use systematic\, logical thinking to analyze processes. \n$99 per person.
URL:https://www.morainepark.edu/event/think-critically-2/
LOCATION:Fond du Lac Campus\, Room O-205\, 235 N National Ave\, Fond du Lac\, 54935
CATEGORIES:Business & Industry Course,Public
ORGANIZER;CN="Angela Gerlach":MAILTO:training@morainepark.edu
END:VEVENT
BEGIN:VEVENT
DTSTART;VALUE=DATE:20211110
DTEND;VALUE=DATE:20211111
DTSTAMP:20260422T200601
CREATED:20211101T213910Z
LAST-MODIFIED:20211101T213910Z
UID:10003559-1636502400-1636588799@www.morainepark.edu
SUMMARY:BD: Ornament Sale - Weld Club Fundraiser
DESCRIPTION:Support the Welding Club with their Fundraiser! \nSnowman ornaments are $5 each\nStands are $10 each\nPay cash or check in the Library. All orders are due by December 3rd.\nPick up on December 10th.\nEmail Andrew Luby for questions or to place orders:\naluby@morainepark.edu
URL:https://www.morainepark.edu/event/bd-ornament-sale-weld-club-fundraiser/2021-11-10/
LOCATION:Beaver Dam
CATEGORIES:Club Happenings
ORGANIZER;CN="Lisa Manuell":MAILTO:lmanuell@morainepark.edu
END:VEVENT
BEGIN:VEVENT
DTSTART;TZID=America/Chicago:20211110T113000
DTEND;TZID=America/Chicago:20211110T130000
DTSTAMP:20260422T200601
CREATED:20210608T142230Z
LAST-MODIFIED:20211109T155005Z
UID:10002839-1636543800-1636549200@www.morainepark.edu
SUMMARY:WB: Lunch at Casino Day & Deer Hunting Raffle (commemorative hats will be distributed)
DESCRIPTION:Stop by the Commons to play Blackjack\, Roulette\, and Poker to win prizes!  FREE lunch for student participants. \nYou will also have a chance to enter a Deer Hunting Raffle to kick off the new season.  Lots of great deer hunting prizes will be available to win! \nSign up for the WB Student Senate Instagram page and you’ll receive a Commemorative MPTC Student Life Baseball Hat or Beanie! \nCome and go as your schedule allows.  No experience necessary;  all games are fun\, fast and easy to learn.  No pre-registration required. \nSponsored by the West Bend Student Senate.
URL:https://www.morainepark.edu/event/wb-casino-day-with-lunch-3/
LOCATION:West Bend Campus\, Commons Area
CATEGORIES:Student Event,Student Event - West Bend
ORGANIZER;CN="Sandy Botham":MAILTO:sbotham@morainepark.edu
END:VEVENT
BEGIN:VEVENT
DTSTART;TZID=America/Chicago:20211111T080000
DTEND;TZID=America/Chicago:20211111T163000
DTSTAMP:20260422T200601
CREATED:20210713T155448Z
LAST-MODIFIED:20210713T155448Z
UID:10003514-1636617600-1636648200@www.morainepark.edu
SUMMARY:Introduction to DC Circuits
DESCRIPTION:This course will introduce the basic theory of DC electrical circuits. Emphasis is placed on testing basic electrical circuits and troubleshooting practices. Scientific foundations used throughout electronic technology will be presented. \nThis training meets Thursday\, November 11 and Friday\, November 12\, 2021. \nPrice: $499 per person. Price includes materials.
URL:https://www.morainepark.edu/event/introduction-to-dc-circuits/
LOCATION:Fond du Lac Campus\, Room B-113\, 235 N National Ave\, Fond du Lac\, WI\, 54935\, United States
CATEGORIES:Business & Industry Course,Public
ORGANIZER;CN="Angela Gerlach":MAILTO:training@morainepark.edu
END:VEVENT
BEGIN:VEVENT
DTSTART;TZID=America/Chicago:20211111T120000
DTEND;TZID=America/Chicago:20211111T130000
DTSTAMP:20260422T200601
CREATED:20210708T185337Z
LAST-MODIFIED:20210708T185337Z
UID:10002873-1636632000-1636635600@www.morainepark.edu
SUMMARY:Mid-Day Wellness - Stress Relief
DESCRIPTION:Learn quick and easy ways to identify triggers and how to manage stress for better sleep\, immunity\, and mood followed by a session of stretching that can be done anywhere\, including your desk\, with a focus on hips and legs. Series 4 will review how stress can be the primary cause of many diseases and how it affects all your body systems. These mid-day classes are offered by a National Board-Certified Health and Wellness Coach via Zoom and students will be actively engaged and encouraged to participate in their work or work at home environment if they so desire. \n$25 per person. Price includes materials.
URL:https://www.morainepark.edu/event/mid-day-wellness-stress-relief/
LOCATION:Virtual
CATEGORIES:Business & Industry Course,Public
ORGANIZER;CN="Angela Gerlach":MAILTO:training@morainepark.edu
END:VEVENT
END:VCALENDAR