BEGIN:VCALENDAR
VERSION:2.0
PRODID:-//Moraine Park Technical College - ECPv6.15.20//NONSGML v1.0//EN
CALSCALE:GREGORIAN
METHOD:PUBLISH
X-WR-CALNAME:Moraine Park Technical College
X-ORIGINAL-URL:https://www.morainepark.edu
X-WR-CALDESC:Events for Moraine Park Technical College
REFRESH-INTERVAL;VALUE=DURATION:PT1H
X-Robots-Tag:noindex
X-PUBLISHED-TTL:PT1H
BEGIN:VTIMEZONE
TZID:America/Chicago
BEGIN:DAYLIGHT
TZOFFSETFROM:-0600
TZOFFSETTO:-0500
TZNAME:CDT
DTSTART:20200308T080000
END:DAYLIGHT
BEGIN:STANDARD
TZOFFSETFROM:-0500
TZOFFSETTO:-0600
TZNAME:CST
DTSTART:20201101T070000
END:STANDARD
BEGIN:DAYLIGHT
TZOFFSETFROM:-0600
TZOFFSETTO:-0500
TZNAME:CDT
DTSTART:20210314T080000
END:DAYLIGHT
BEGIN:STANDARD
TZOFFSETFROM:-0500
TZOFFSETTO:-0600
TZNAME:CST
DTSTART:20211107T070000
END:STANDARD
BEGIN:DAYLIGHT
TZOFFSETFROM:-0600
TZOFFSETTO:-0500
TZNAME:CDT
DTSTART:20220313T080000
END:DAYLIGHT
BEGIN:STANDARD
TZOFFSETFROM:-0500
TZOFFSETTO:-0600
TZNAME:CST
DTSTART:20221106T070000
END:STANDARD
END:VTIMEZONE
BEGIN:VEVENT
DTSTART;TZID=America/Chicago:20211103T113000
DTEND;TZID=America/Chicago:20211103T120000
DTSTAMP:20260422T011024
CREATED:20211007T224003Z
LAST-MODIFIED:20211007T224205Z
UID:10003547-1635939000-1635940800@www.morainepark.edu
SUMMARY:BD: Pie Eating Contest
DESCRIPTION:In under five minutes\, how much pie can you eat?! \nRound winners compete in the finale.  All participants receive gift cards and a chance at AMAZING prizes!! \nBlindfolds and aprons provided. \nTo enter and participate\, contact Lisa in Student Life; pre-registration is required. \nSponsored by the Beaver Dam Student Senate. \n  \n 
URL:https://www.morainepark.edu/event/bd-pie-eating-contest/
LOCATION:Beaver Dam Campus\, Commons Area
CATEGORIES:Student Event,Student Event - Beaver Dam
ORGANIZER;CN="Lisa Manuell":MAILTO:lmanuell@morainepark.edu
END:VEVENT
BEGIN:VEVENT
DTSTART;TZID=America/Chicago:20211104T080000
DTEND;TZID=America/Chicago:20211104T163000
DTSTAMP:20260422T011024
CREATED:20210708T184009Z
LAST-MODIFIED:20210708T184009Z
UID:10002863-1636012800-1636043400@www.morainepark.edu
SUMMARY:Zodiak: The Game of Business Strategy and Finance
DESCRIPTION:Zodiak is a sophisticated classroom business simulation disguised as a board game. It’s a fast-paced\, energizing and engaging way to build the financial literacy and business acumen skills of your managers\, leaders and employees. During this one-day classroom program\, participants use financial data to make decisions to invest in new product and equipment; manage inventory\, costs and cash flow; purchase materials; and respond to quality changes. \n$425 per person. Price includes materials and refreshments.
URL:https://www.morainepark.edu/event/zodiak-the-game-of-business-strategy-and-finance/
LOCATION:Fond du Lac Campus\, O-209\, 235 N National Ave\, Fond du Lac\, WI\, 54935\, United States
CATEGORIES:Business & Industry Course,Public
ORGANIZER;CN="Angela Gerlach":MAILTO:training@morainepark.edu
END:VEVENT
BEGIN:VEVENT
DTSTART;TZID=America/Chicago:20211104T113000
DTEND;TZID=America/Chicago:20211104T123000
DTSTAMP:20260422T011024
CREATED:20210712T143958Z
LAST-MODIFIED:20210712T143958Z
UID:10003482-1636025400-1636029000@www.morainepark.edu
SUMMARY:BD: Student Senate Meeting
DESCRIPTION:You are invited to Student Senate!  Membership requirements are minimal but meaningful.  Besides enhancing their employability skills and resumes\, members receive a ton of perks! \nFREE lunch for members and prospective members. \nJoin us.  Why? \n\nTo enhance your resume\nTo develop employability skills\nTo meet new people and make friends\nTo get involved\nTo network – on campus\, in the community and throughout the state\nTo plan and promote entertaining and educational activities and events\nTo give a voice to Moraine Park’s student body and make decisions that affect them\nTo attend leadership and programming conferences and workshops\, legislative seminars\, and state-wide student government meetings\nTo experience college life and learning beyond the classroom\nTo influence change at Moraine Park\nTo grow as a leader\, team-player and communicator\nTo learn balance\, multi-tasking and prioritization\nTo make a difference in the community by supporting\, sponsoring and leading community service projects\nTo have fun!\n\nAll students are welcome. \nFor more information\, contact Lisa (K-323)\, lmanuell@morainepark.edu\, 920-887-4462.
URL:https://www.morainepark.edu/event/bd-student-senate-meeting-20/
LOCATION:Beaver Dam Campus; Room K-305
CATEGORIES:Student Event,Student Event - Beaver Dam
ORGANIZER;CN="Lisa Manuell":MAILTO:lmanuell@morainepark.edu
END:VEVENT
BEGIN:VEVENT
DTSTART;TZID=America/Chicago:20211104T120000
DTEND;TZID=America/Chicago:20211104T130000
DTSTAMP:20260422T011024
CREATED:20210602T175053Z
LAST-MODIFIED:20210602T175053Z
UID:10003441-1636027200-1636030800@www.morainepark.edu
SUMMARY:WB: Student Senate Meeting
DESCRIPTION:You are invited to Student Senate!  Membership requirements are minimal but meaningful.  Besides enhancing their employability skills and resumes\, members receive a ton of perks! \nSpecial Guest: Roy Marquez\,  Director of Facilities \nFREE lunch for members and prospective members. \nJoin us.  Why? \n\nTo enhance your resume\nTo develop employability skills\nTo meet new people and make friends\nTo get involved\nTo network – on campus\, in the community and throughout the state\nTo plan and promote entertaining and educational activities and events\nTo give a voice to Moraine Park’s student body and make decisions that affect them\nTo attend leadership and programming conferences and workshops\, legislative seminars\, and state-wide student government meetings\nTo experience college life and learning beyond the classroom\nTo influence change at Moraine Park\nTo grow as a leader\, team-player and communicator\nTo learn balance\, multi-tasking and prioritization\nTo make a difference in the community by supporting\, sponsoring and leading community service projects\nTo have fun!\n\nAll students are welcome. \nFor more information\, you can contact Sandy (L 160.2); sbotham@morainepark.edu; (262) 335-5743
URL:https://www.morainepark.edu/event/wb-student-senate-meeting-13/
LOCATION:West Bend Campus Room T-101
CATEGORIES:Student Event,Student Event - West Bend
ORGANIZER;CN="Sandy Botham":MAILTO:sbotham@morainepark.edu
END:VEVENT
BEGIN:VEVENT
DTSTART;TZID=America/Chicago:20211104T170000
DTEND;TZID=America/Chicago:20211104T190000
DTSTAMP:20260422T011024
CREATED:20211022T130008Z
LAST-MODIFIED:20211022T130008Z
UID:10003551-1636045200-1636052400@www.morainepark.edu
SUMMARY:FDL: Student Life Bowling Night
DESCRIPTION:Join Fond du Lac Student Life for a night of bowling\, pizza\, and fun!  This FREE event is for current MPTC students.  Pre-registration required by Monday\, November 1st.  Sign up outside Student Life office (A102.10). \nSponsored by Fond du Lac Student Senate
URL:https://www.morainepark.edu/event/fdl-student-life-bowling-night/
LOCATION:Ledgeview Lanes\, 170 Prairie Road\, Fond du Lac\, WI\, 54935\, United States
CATEGORIES:Student Event
ORGANIZER;CN="Lucas Nieman":MAILTO:lnieman@morainepark.edu
END:VEVENT
END:VCALENDAR