BEGIN:VCALENDAR
VERSION:2.0
PRODID:-//Moraine Park Technical College - ECPv6.15.17.1//NONSGML v1.0//EN
CALSCALE:GREGORIAN
METHOD:PUBLISH
X-WR-CALNAME:Moraine Park Technical College
X-ORIGINAL-URL:https://www.morainepark.edu
X-WR-CALDESC:Events for Moraine Park Technical College
REFRESH-INTERVAL;VALUE=DURATION:PT1H
X-Robots-Tag:noindex
X-PUBLISHED-TTL:PT1H
BEGIN:VTIMEZONE
TZID:America/Chicago
BEGIN:DAYLIGHT
TZOFFSETFROM:-0600
TZOFFSETTO:-0500
TZNAME:CDT
DTSTART:20200308T080000
END:DAYLIGHT
BEGIN:STANDARD
TZOFFSETFROM:-0500
TZOFFSETTO:-0600
TZNAME:CST
DTSTART:20201101T070000
END:STANDARD
BEGIN:DAYLIGHT
TZOFFSETFROM:-0600
TZOFFSETTO:-0500
TZNAME:CDT
DTSTART:20210314T080000
END:DAYLIGHT
BEGIN:STANDARD
TZOFFSETFROM:-0500
TZOFFSETTO:-0600
TZNAME:CST
DTSTART:20211107T070000
END:STANDARD
BEGIN:DAYLIGHT
TZOFFSETFROM:-0600
TZOFFSETTO:-0500
TZNAME:CDT
DTSTART:20220313T080000
END:DAYLIGHT
BEGIN:STANDARD
TZOFFSETFROM:-0500
TZOFFSETTO:-0600
TZNAME:CST
DTSTART:20221106T070000
END:STANDARD
END:VTIMEZONE
BEGIN:VEVENT
DTSTART;TZID=America/Chicago:20211001T090000
DTEND;TZID=America/Chicago:20211001T153000
DTSTAMP:20260419T094131
CREATED:20210708T173503Z
LAST-MODIFIED:20210708T173503Z
UID:10003457-1633078800-1633102200@www.morainepark.edu
SUMMARY:Automotive Voltage and Ohmeters
DESCRIPTION:Use digital volt ohmeters (DVOM)\, conduct voltage drop and relay circuit testing\, and learn how to read automotive wiring diagrams. Classroom education is combined with hands-on application. Course prepares students for completion of A6 ASE electrical exam. Students are encourage to complete Automotive Circuits and Testing prior to this course. \n$169 per person. Price includes materials and lunch. \n 
URL:https://www.morainepark.edu/event/automotive-voltage-and-ohmeters-5/
LOCATION:Fond du Lac Campus\, Room B-128\, 235 N. National Ave.\, Fond du Lac\, WI\, 54936\, United States
CATEGORIES:Business & Industry Course,Public
ORGANIZER;CN="Angela Gerlach":MAILTO:training@morainepark.edu
END:VEVENT
BEGIN:VEVENT
DTSTART;TZID=America/Chicago:20211002T080000
DTEND;TZID=America/Chicago:20211002T160000
DTSTAMP:20260419T094131
CREATED:20210713T163333Z
LAST-MODIFIED:20210713T163648Z
UID:10002921-1633161600-1633190400@www.morainepark.edu
SUMMARY:Forklift Safety
DESCRIPTION:Obtain compliance with OSHA standard 1910.178 for powered trucks as a new driver\, attend for refresher training\, or update your certification every 3 years by exploring the fundamentals of forklift operation.  Students receive classroom and hands-on application by practicing with a forklift. \n$125 per person.  Price includes materials. Lunch on your own.
URL:https://www.morainepark.edu/event/forklift-safety-copy/
LOCATION:Fond du Lac Campus\, Room B-109\, 235 N. National Avenue\, Fond du Lac\, WI\, 54935\, United States
CATEGORIES:Business & Industry Course,Public
ORGANIZER;CN="Angela Gerlach":MAILTO:training@morainepark.edu
GEO:43.785195;-88.4178935
X-APPLE-STRUCTURED-LOCATION;VALUE=URI;X-ADDRESS=Fond du Lac Campus Room B-109 235 N. National Avenue Fond du Lac WI 54935 United States;X-APPLE-RADIUS=500;X-TITLE=235 N. National Avenue:geo:-88.4178935,43.785195
END:VEVENT
BEGIN:VEVENT
DTSTART;TZID=America/Chicago:20211002T080000
DTEND;TZID=America/Chicago:20211002T160000
DTSTAMP:20260419T094131
CREATED:20210713T162002Z
LAST-MODIFIED:20210713T162002Z
UID:10002909-1633161600-1633190400@www.morainepark.edu
SUMMARY:Structural Welding Certification Exams
DESCRIPTION:Wisconsin Statute #Ind.53.63 requires that all structural welding done in the state of Wisconsin be performed by state-certified welders. Single family or two-family dwellings and buildings used solely for agricultural purposes are exempt from this requirement. \nAll tests are in accordance with AWS D1.1 Structural Steel Welding Code. All joint configurations and welding processes must meet the criteria given under section 3 of AWS D1.1 titled Prequalification of WPSs. \nExam Information: \n\nAll tests are given by State of Wisconsin Weld Test Conductors. Welders successfully passing this test can be registered with the state of Wisconsin as certified welders. This is commonly known as being “state certified.”\n\n\nExams are given on 1” or 3/8” steel plate.\nJoints are V-grooves with or without backing strips in the positions needed.\nSMAW\, FCAW or GMAW processes may be used.\nMore plates can be purchased for an additional fee.
URL:https://www.morainepark.edu/event/structural-welding-certification-exams/
LOCATION:Fond du Lac Campus\, Room E-156\, 235 N National Ave \, Fond du Lac \, 54935
CATEGORIES:Business & Industry Course,Public
ORGANIZER;CN="Angela Gerlach":MAILTO:training@morainepark.edu
GEO:43.785195;-88.4178935
X-APPLE-STRUCTURED-LOCATION;VALUE=URI;X-ADDRESS=Fond du Lac Campus Room E-156 235 N National Ave  Fond du Lac  54935;X-APPLE-RADIUS=500;X-TITLE=235 N National Ave:geo:-88.4178935,43.785195
END:VEVENT
BEGIN:VEVENT
DTSTART;TZID=America/Chicago:20211004T113000
DTEND;TZID=America/Chicago:20211004T123000
DTSTAMP:20260419T094131
CREATED:20210712T154451Z
LAST-MODIFIED:20210712T154451Z
UID:10003501-1633347000-1633350600@www.morainepark.edu
SUMMARY:BD: Comedy Lunch Hour featuring Lucas Bohn
DESCRIPTION:Comedian Lucas Bohn is the perfect blend of schoolboy charm and bad-boy charisma.  His comedy is both smart and audacious.  Known as the little guy who generates big laughs\, Lucas has shared the stage with Dave Chappelle\, Jimmy Fallon and Kevin Hart.  His high-energy shows and hilarious impersonations make him and instant hit with audiences of all ages. \nFree lunch for students w/ ID or $1 w/o.; $2 for staff and $5 for public. \nSponsored by the Beaver Dam Student Senate.
URL:https://www.morainepark.edu/event/bd-comedy-lunch-hour-featuring-lucas-bohn/
LOCATION:Beaver Dam Campus\, Commons Area
CATEGORIES:Public,Student Event,Student Event - Beaver Dam
ORGANIZER;CN="Lisa Manuell":MAILTO:lmanuell@morainepark.edu
END:VEVENT
BEGIN:VEVENT
DTSTART;TZID=America/Chicago:20211005T113000
DTEND;TZID=America/Chicago:20211005T123000
DTSTAMP:20260419T094131
CREATED:20210706T024145Z
LAST-MODIFIED:20210706T024145Z
UID:10003452-1633433400-1633437000@www.morainepark.edu
SUMMARY:FDL: Comedy Lunch Hour w/ Lucas Bohn
DESCRIPTION:Join your friends and classmates for a free lunch and comedy hour with campus favorite\, Lucas Bohn. \nLunch is first come\, first served. Free with student ID ($1 without)\, $2 for staff\, $5 for public. Lunch is served 11-1 p.m. Entertainment 11:30-12:30. \nSponsored by Fond du Lac Student Senate.
URL:https://www.morainepark.edu/event/fdl-comedy-lunch-hour-w-lucas-bohn/
LOCATION:Fond du Lac Campus\, Commons Area\, 235 N. National Avenue\, Fond du Lac\, WI\, 54935
CATEGORIES:Public,Student Event
ORGANIZER;CN="Sam Saeger":MAILTO:ssaeger@morainepark.edu
GEO:43.785821;-88.418698
X-APPLE-STRUCTURED-LOCATION;VALUE=URI;X-ADDRESS=Fond du Lac Campus Commons Area 235 N. National Avenue Fond du Lac WI 54935;X-APPLE-RADIUS=500;X-TITLE=235 N. National Avenue:geo:-88.418698,43.785821
END:VEVENT
BEGIN:VEVENT
DTSTART;TZID=America/Chicago:20211006T113000
DTEND;TZID=America/Chicago:20211006T123000
DTSTAMP:20260419T094131
CREATED:20210713T173348Z
LAST-MODIFIED:20210713T173348Z
UID:10003524-1633519800-1633523400@www.morainepark.edu
SUMMARY:WB: BINGO with FREE PIZZA
DESCRIPTION:Time for another round of BINGO on campus!  Not only will you have a chance to win $25 gas cards and $50 Visa gift cards but you’ll get to enjoy FREE PIZZA!   Stop down to the Commons to participate! \nStaff may eat for $1 but no longer able to play to win prizes. \nSponsored by the West Bend Senate
URL:https://www.morainepark.edu/event/wb-bingo-with-free-pizza-2/
LOCATION:West Bend Cafe
CATEGORIES:Student Event,Student Event - West Bend
ORGANIZER;CN="Sandy Botham":MAILTO:sbotham@morainepark.edu
END:VEVENT
BEGIN:VEVENT
DTSTART;TZID=America/Chicago:20211006T170000
DTEND;TZID=America/Chicago:20211006T200000
DTSTAMP:20260419T094131
CREATED:20210713T165318Z
LAST-MODIFIED:20210713T165318Z
UID:10003521-1633539600-1633550400@www.morainepark.edu
SUMMARY:EPA 608 Universal Cert Prep
DESCRIPTION:The EPA 608 Universal Certification Preparation Course reviews Core\, Type I\, Type II\, and Type III sections for the 608 exam. This class meets face to face in a classroom and includes a study manual and practice tests. This course is designed for those working in the industry and will prepare you to pass our EPA Section 608 certification exam. \nThis training meets Wednesdays\, October 6 and 13\, 2021. \n$150 per person. Price includes materials.
URL:https://www.morainepark.edu/event/epa-608-universal-cert-prep/
LOCATION:West Bend Campus\, Room T-105\, 2151 N Main St\, West Bend\, 53090
CATEGORIES:Business & Industry Course,Public
ORGANIZER;CN="Angela Gerlach":MAILTO:training@morainepark.edu
END:VEVENT
BEGIN:VEVENT
DTSTART;TZID=America/Chicago:20211007T113000
DTEND;TZID=America/Chicago:20211007T123000
DTSTAMP:20260419T094131
CREATED:20210712T143543Z
LAST-MODIFIED:20210712T143543Z
UID:10003480-1633606200-1633609800@www.morainepark.edu
SUMMARY:BD: Student Senate Meeting
DESCRIPTION:You are invited to Student Senate!  Membership requirements are minimal but meaningful.  Besides enhancing their employability skills and resumes\, members receive a ton of perks! \nFREE lunch for members and prospective members. \nJoin us.  Why? \n\nTo enhance your resume\nTo develop employability skills\nTo meet new people and make friends\nTo get involved\nTo network – on campus\, in the community and throughout the state\nTo plan and promote entertaining and educational activities and events\nTo give a voice to Moraine Park’s student body and make decisions that affect them\nTo attend leadership and programming conferences and workshops\, legislative seminars\, and state-wide student government meetings\nTo experience college life and learning beyond the classroom\nTo influence change at Moraine Park\nTo grow as a leader\, team-player and communicator\nTo learn balance\, multi-tasking and prioritization\nTo make a difference in the community by supporting\, sponsoring and leading community service projects\nTo have fun!\n\nAll students are welcome. \nFor more information\, contact Lisa (K-323)\, lmanuell@morainepark.edu\, 920-887-4462.
URL:https://www.morainepark.edu/event/bd-student-senate-meeting-18/
LOCATION:Beaver Dam Campus; Room K-305
CATEGORIES:Student Event,Student Event - Beaver Dam
ORGANIZER;CN="Lisa Manuell":MAILTO:lmanuell@morainepark.edu
END:VEVENT
BEGIN:VEVENT
DTSTART;TZID=America/Chicago:20211007T120000
DTEND;TZID=America/Chicago:20211007T130000
DTSTAMP:20260419T094131
CREATED:20210602T174709Z
LAST-MODIFIED:20210602T174709Z
UID:10003439-1633608000-1633611600@www.morainepark.edu
SUMMARY:WB: Student Senate Meeting
DESCRIPTION:You are invited to Student Senate!  Membership requirements are minimal but meaningful.  Besides enhancing their employability skills and resumes\, members receive a ton of perks! \nSpecial Guest: Jim Barrett\,  VP of Student Services \nFREE lunch for members and prospective members. \nJoin us.  Why? \n\nTo enhance your resume\nTo develop employability skills\nTo meet new people and make friends\nTo get involved\nTo network – on campus\, in the community and throughout the state\nTo plan and promote entertaining and educational activities and events\nTo give a voice to Moraine Park’s student body and make decisions that affect them\nTo attend leadership and programming conferences and workshops\, legislative seminars\, and state-wide student government meetings\nTo experience college life and learning beyond the classroom\nTo influence change at Moraine Park\nTo grow as a leader\, team-player and communicator\nTo learn balance\, multi-tasking and prioritization\nTo make a difference in the community by supporting\, sponsoring and leading community service projects\nTo have fun!\n\nAll students are welcome. \nFor more information\, you can contact Sandy (L 160.2); sbotham@morainepark.edu; (262) 335-5743
URL:https://www.morainepark.edu/event/wb-student-senate-meeting-11/
LOCATION:West Bend Campus Room T-101
CATEGORIES:Student Event,Student Event - West Bend
ORGANIZER;CN="Sandy Botham":MAILTO:sbotham@morainepark.edu
END:VEVENT
BEGIN:VEVENT
DTSTART;VALUE=DATE:20211008
DTEND;VALUE=DATE:20211009
DTSTAMP:20260419T094131
CREATED:20210712T145931Z
LAST-MODIFIED:20210712T150002Z
UID:10003495-1633651200-1633737599@www.morainepark.edu
SUMMARY:Wisconsin Student Government Meeting
DESCRIPTION:Wisconsin Student Government’s (WSG) mission is to represent\, promote\, advocate\, and protect the interests of the technical colleges and their students.  Students who participate create a positive and active network amongst the 16 technical colleges in the state.  Opportunities are provided to develop leadership skills. \nWSG is comprised of representatives from each of Wisconsin’s 16 technical colleges\, and the group meets approximately five times a year throughout the state. \nAll students welcome.  To attend a WSG meeting\, contact your Student Life Specialist. \n(Specific times and location/virtual TBD) \nFor more information about WSG\, visit https://wsgtech.com/
URL:https://www.morainepark.edu/event/wisconsin-student-government-meeting-6/
CATEGORIES:Student Event,Student Event - All Campuses
ORGANIZER;CN="Lisa Manuell":MAILTO:lmanuell@morainepark.edu
END:VEVENT
END:VCALENDAR