BEGIN:VCALENDAR
VERSION:2.0
PRODID:-//Moraine Park Technical College - ECPv6.15.20//NONSGML v1.0//EN
CALSCALE:GREGORIAN
METHOD:PUBLISH
X-WR-CALNAME:Moraine Park Technical College
X-ORIGINAL-URL:https://www.morainepark.edu
X-WR-CALDESC:Events for Moraine Park Technical College
REFRESH-INTERVAL;VALUE=DURATION:PT1H
X-Robots-Tag:noindex
X-PUBLISHED-TTL:PT1H
BEGIN:VTIMEZONE
TZID:America/Chicago
BEGIN:DAYLIGHT
TZOFFSETFROM:-0600
TZOFFSETTO:-0500
TZNAME:CDT
DTSTART:20200308T080000
END:DAYLIGHT
BEGIN:STANDARD
TZOFFSETFROM:-0500
TZOFFSETTO:-0600
TZNAME:CST
DTSTART:20201101T070000
END:STANDARD
BEGIN:DAYLIGHT
TZOFFSETFROM:-0600
TZOFFSETTO:-0500
TZNAME:CDT
DTSTART:20210314T080000
END:DAYLIGHT
BEGIN:STANDARD
TZOFFSETFROM:-0500
TZOFFSETTO:-0600
TZNAME:CST
DTSTART:20211107T070000
END:STANDARD
BEGIN:DAYLIGHT
TZOFFSETFROM:-0600
TZOFFSETTO:-0500
TZNAME:CDT
DTSTART:20220313T080000
END:DAYLIGHT
BEGIN:STANDARD
TZOFFSETFROM:-0500
TZOFFSETTO:-0600
TZNAME:CST
DTSTART:20221106T070000
END:STANDARD
END:VTIMEZONE
BEGIN:VEVENT
DTSTART;TZID=America/Chicago:20210916T080000
DTEND;TZID=America/Chicago:20210916T120000
DTSTAMP:20260424T164417
CREATED:20210708T182817Z
LAST-MODIFIED:20210708T182817Z
UID:10003470-1631779200-1631793600@www.morainepark.edu
SUMMARY:Communicate Clearly
DESCRIPTION:Participants learn to be clear and concise when giving directions and presenting information in an organized format. They further learn to communicate in writing using appropriate grammar\, spelling format and technical terms\, according to established writing standards. \n$99 per person.
URL:https://www.morainepark.edu/event/communicate-clearly-3/
LOCATION:Beaver Dam Campus\, Room K-307
CATEGORIES:Business & Industry Course,Public
ORGANIZER;CN="Angela Gerlach":MAILTO:training@morainepark.edu
END:VEVENT
BEGIN:VEVENT
DTSTART;TZID=America/Chicago:20210916T110000
DTEND;TZID=America/Chicago:20210916T150000
DTSTAMP:20260424T164417
CREATED:20210806T165231Z
LAST-MODIFIED:20210806T165231Z
UID:10003539-1631790000-1631804400@www.morainepark.edu
SUMMARY:Tri-Campus:  Moraine Park Technical College Spirit Day
DESCRIPTION:MPTC Spirit Day Poster \nIn celebration of National Spirit Week\, MPTC is hosting a Spirit Day on Thursday\, September 16th from 11am – 3pm on each respective campus. \nSTUDENTS and EMPLOYEES are both invited to stop by a Spirit Table from 11:00am – 3:00pm in the Commons to sign up to win a SPIRIT DOOR PRIZE and to receive an MPTC Spirit Gift! \nWe want to shout it to the roof tops how proud we are to work and study here at MPTC! \nSponsored by Student Life and Max Pack!
URL:https://www.morainepark.edu/event/tri-campus-moraine-park-technical-college-spirit-day/
LOCATION:Commons area on each CAMPUS
CATEGORIES:Student Event,Student Event - All Campuses
ORGANIZER;CN="Sandy Botham":MAILTO:sbotham@morainepark.edu
END:VEVENT
BEGIN:VEVENT
DTSTART;TZID=America/Chicago:20210916T113000
DTEND;TZID=America/Chicago:20210916T123000
DTSTAMP:20260424T164417
CREATED:20210712T143347Z
LAST-MODIFIED:20210712T143347Z
UID:10003478-1631791800-1631795400@www.morainepark.edu
SUMMARY:BD: Student Senate Meeting
DESCRIPTION:You are invited to Student Senate!  Membership requirements are minimal but meaningful.  Besides enhancing their employability skills and resumes\, members receive a ton of perks! \nFREE lunch for members and prospective members. \nJoin us.  Why? \n\nTo enhance your resume\nTo develop employability skills\nTo meet new people and make friends\nTo get involved\nTo network – on campus\, in the community and throughout the state\nTo plan and promote entertaining and educational activities and events\nTo give a voice to Moraine Park’s student body and make decisions that affect them\nTo attend leadership and programming conferences and workshops\, legislative seminars\, and state-wide student government meetings\nTo experience college life and learning beyond the classroom\nTo influence change at Moraine Park\nTo grow as a leader\, team-player and communicator\nTo learn balance\, multi-tasking and prioritization\nTo make a difference in the community by supporting\, sponsoring and leading community service projects\nTo have fun!\n\nAll students are welcome. \nFor more information\, contact Lisa (K-323)\, lmanuell@morainepark.edu\, 920-887-4462.
URL:https://www.morainepark.edu/event/bd-student-senate-meeting-16/
LOCATION:Beaver Dam Campus; Room K-305
CATEGORIES:Student Event,Student Event - Beaver Dam
ORGANIZER;CN="Lisa Manuell":MAILTO:lmanuell@morainepark.edu
END:VEVENT
BEGIN:VEVENT
DTSTART;TZID=America/Chicago:20210917T090000
DTEND;TZID=America/Chicago:20210917T153000
DTSTAMP:20260424T164417
CREATED:20210708T173327Z
LAST-MODIFIED:20210708T173327Z
UID:10003456-1631869200-1631892600@www.morainepark.edu
SUMMARY:Automotive Circuits and Testing
DESCRIPTION:Build circuits and utilize basic electrical test equipment to understand electrical fundamentals. Apply Ohm’s law to series\, parallel\, and series-parallel circuits. Classroom education is combined with hands-on application. Course prepares student for completion of A6 ASE electrical exam. \n$169 per person. Price includes materials and lunch.
URL:https://www.morainepark.edu/event/automotive-circuits-and-testing-3/
LOCATION:Fond du Lac Campus\, Room B-128\, 235 N. National Ave.\, Fond du Lac\, WI\, 54936\, United States
CATEGORIES:Business & Industry Course,Public
ORGANIZER;CN="Angela Gerlach":MAILTO:training@morainepark.edu
END:VEVENT
BEGIN:VEVENT
DTSTART;TZID=America/Chicago:20210917T093000
DTEND;TZID=America/Chicago:20210917T120000
DTSTAMP:20260424T164417
CREATED:20210712T204744Z
LAST-MODIFIED:20210712T204744Z
UID:10003505-1631871000-1631880000@www.morainepark.edu
SUMMARY:BD: Softball 'n Lunch
DESCRIPTION:Let’s play ball in the Fall!  Join us for a friendly game of softball; NO experience necessary and all students are welcome. \nPRE-registration is required.  Contact Lisa in Student Life (lmanuell@morainepark.edu) \nBring your own glove (and bat) if you have one. \nFREE lunch after the game. \nBeaver Dam Campus.  Sponsored by the Beaver Dam Student Senate.
URL:https://www.morainepark.edu/event/bd-softball-n-lunch/
CATEGORIES:Student Event,Student Event - Beaver Dam
ORGANIZER;CN="Lisa Manuell":MAILTO:lmanuell@morainepark.edu
END:VEVENT
BEGIN:VEVENT
DTSTART;TZID=America/Chicago:20210917T113000
DTEND;TZID=America/Chicago:20210917T130000
DTSTAMP:20260424T164417
CREATED:20210714T162029Z
LAST-MODIFIED:20210714T182509Z
UID:10003525-1631878200-1631883600@www.morainepark.edu
SUMMARY:WB: French Fry Friday
DESCRIPTION:Stop by the Cafe to get yourself a FREE basket of French Fries!  Staff just $1.  YUMMY! \nSponsored by West Bend Student Senate
URL:https://www.morainepark.edu/event/wb-french-fry-friday-3/
LOCATION:West Bend Cafe
CATEGORIES:Student Event,Student Event - West Bend
ORGANIZER;CN="Sandy Botham":MAILTO:sbotham@morainepark.edu
END:VEVENT
BEGIN:VEVENT
DTSTART;TZID=America/Chicago:20210917T150000
DTEND;TZID=America/Chicago:20210917T163000
DTSTAMP:20260424T164417
CREATED:20210708T175334Z
LAST-MODIFIED:20210708T175334Z
UID:10003462-1631890800-1631896200@www.morainepark.edu
SUMMARY:Zoom for Professionals
DESCRIPTION:Learn to “Zoom” in your work environment. We will meet in Zoom and you will learn how to use advanced features and maximize participant engagement. Next we will share with you tips and best practices to give you confidence in your use of Zoom. Finally get your questions answered. \n$49 per person.
URL:https://www.morainepark.edu/event/zoom-for-professionals/
LOCATION:Virtual
CATEGORIES:Business & Industry Course,Public
ORGANIZER;CN="Angela Gerlach":MAILTO:training@morainepark.edu
END:VEVENT
END:VCALENDAR