BEGIN:VCALENDAR
VERSION:2.0
PRODID:-//Moraine Park Technical College - ECPv6.15.20//NONSGML v1.0//EN
CALSCALE:GREGORIAN
METHOD:PUBLISH
X-WR-CALNAME:Moraine Park Technical College
X-ORIGINAL-URL:https://www.morainepark.edu
X-WR-CALDESC:Events for Moraine Park Technical College
REFRESH-INTERVAL;VALUE=DURATION:PT1H
X-Robots-Tag:noindex
X-PUBLISHED-TTL:PT1H
BEGIN:VTIMEZONE
TZID:America/Chicago
BEGIN:DAYLIGHT
TZOFFSETFROM:-0600
TZOFFSETTO:-0500
TZNAME:CDT
DTSTART:20200308T080000
END:DAYLIGHT
BEGIN:STANDARD
TZOFFSETFROM:-0500
TZOFFSETTO:-0600
TZNAME:CST
DTSTART:20201101T070000
END:STANDARD
BEGIN:DAYLIGHT
TZOFFSETFROM:-0600
TZOFFSETTO:-0500
TZNAME:CDT
DTSTART:20210314T080000
END:DAYLIGHT
BEGIN:STANDARD
TZOFFSETFROM:-0500
TZOFFSETTO:-0600
TZNAME:CST
DTSTART:20211107T070000
END:STANDARD
BEGIN:DAYLIGHT
TZOFFSETFROM:-0600
TZOFFSETTO:-0500
TZNAME:CDT
DTSTART:20220313T080000
END:DAYLIGHT
BEGIN:STANDARD
TZOFFSETFROM:-0500
TZOFFSETTO:-0600
TZNAME:CST
DTSTART:20221106T070000
END:STANDARD
END:VTIMEZONE
BEGIN:VEVENT
DTSTART;TZID=America/Chicago:20210522T100000
DTEND;TZID=America/Chicago:20210522T120000
DTSTAMP:20260421T060251
CREATED:20210205T192152Z
LAST-MODIFIED:20210205T192152Z
UID:10003338-1621677600-1621684800@www.morainepark.edu
SUMMARY:2021 Commencement Ceremony
DESCRIPTION:Stay tuned for more details!
URL:https://www.morainepark.edu/event/2021-commencement-ceremony/
END:VEVENT
BEGIN:VEVENT
DTSTART;VALUE=DATE:20210524
DTEND;VALUE=DATE:20210525
DTSTAMP:20260421T060251
CREATED:20210212T163226Z
LAST-MODIFIED:20210212T224948Z
UID:10003369-1621814400-1621900799@www.morainepark.edu
SUMMARY:United Way 21 Week Equity Challenge
DESCRIPTION:The 21 Week Equity Challenge is an opportunity to develop a deeper understanding of how inequity and racism affect our lives and communities.\n\nParticipants will receive an email at the beginning of each week from Monday\, February 1st through Monday\, June 21st.\nWeekly topics take participants through a journey that starts with understanding internalized racism and explores how racism permeates person-to-person interactions\, institutions and social structures.\nThe experience is intended to deepen understanding\, suggest ways to take action\, and help launch what we hope will be a lifelong commitment to improving equity and inclusion in our communities.\n\nIndividuals are encouraged to take on the challenge themselves\, or form groups for discussion and reflection. \nFor more information or to sign up for the challenge click the link below:\nhttps://www.unitedwaywi.org/page/equity-challenge \n 
URL:https://www.morainepark.edu/event/united-way-21-week-equity-challenge/2021-05-24/
CATEGORIES:Cultural Connections
END:VEVENT
BEGIN:VEVENT
DTSTART;TZID=America/Chicago:20210527T080000
DTEND;TZID=America/Chicago:20210527T160000
DTSTAMP:20260421T060251
CREATED:20210114T161018Z
LAST-MODIFIED:20210114T161055Z
UID:10002752-1622102400-1622131200@www.morainepark.edu
SUMMARY:Forklift Safety
DESCRIPTION:Explore the fundamentals of forklift operation in the workplace.  Students receive hands-on application by practicing with a forklift.  Participants examine factors affecting safe operation for the operator\, the load\, the forklift and the physical environment. Certification is available upon completion for propane\, electric and pallet jack forklifts (types I\, IV\, V). Class is compliant with OSHA standard 1910.178 for powered trucks.  Forklift books are included in the cost and will be distributed by the instructor the day of the class. \n$125 per person.  Price includes materials. Lunch is on your own.
URL:https://www.morainepark.edu/event/forklift-safety-5-copy-copy/
LOCATION:Fond du Lac Campus\, Room B-128\, 235 N. National Ave.\, Fond du Lac\, WI\, 54936\, United States
CATEGORIES:Business & Industry Course,Public
ORGANIZER;CN="Angela Gerlach":MAILTO:training@morainepark.edu
END:VEVENT
BEGIN:VEVENT
DTSTART;VALUE=DATE:20210528
DTEND;VALUE=DATE:20210529
DTSTAMP:20260421T060251
CREATED:20210212T163226Z
LAST-MODIFIED:20210212T224948Z
UID:10003370-1622160000-1622246399@www.morainepark.edu
SUMMARY:United Way 21 Week Equity Challenge
DESCRIPTION:The 21 Week Equity Challenge is an opportunity to develop a deeper understanding of how inequity and racism affect our lives and communities.\n\nParticipants will receive an email at the beginning of each week from Monday\, February 1st through Monday\, June 21st.\nWeekly topics take participants through a journey that starts with understanding internalized racism and explores how racism permeates person-to-person interactions\, institutions and social structures.\nThe experience is intended to deepen understanding\, suggest ways to take action\, and help launch what we hope will be a lifelong commitment to improving equity and inclusion in our communities.\n\nIndividuals are encouraged to take on the challenge themselves\, or form groups for discussion and reflection. \nFor more information or to sign up for the challenge click the link below:\nhttps://www.unitedwaywi.org/page/equity-challenge \n 
URL:https://www.morainepark.edu/event/united-way-21-week-equity-challenge/2021-05-28/
CATEGORIES:Cultural Connections
END:VEVENT
BEGIN:VEVENT
DTSTART;TZID=America/Chicago:20210528T090000
DTEND;TZID=America/Chicago:20210528T153000
DTSTAMP:20260421T060251
CREATED:20210528T140000Z
LAST-MODIFIED:20210113T203333Z
UID:10003429-1622192400-1622215800@www.morainepark.edu
SUMMARY:Automotive Labscope Application
DESCRIPTION:Hands-on application of labscope testing in a shop setting. Briefly reviews introductory concepts but utilizes application on vehicles with concerns on a more advanced level. Students are encouraged to bring vehicles with concerns. Students are encouraged to take Automotive Labscope prior to this course.  Course prepares students for completion of A6 ASE electrical exam. \n$169 per person. Price includes materials and lunch.
URL:https://www.morainepark.edu/event/automotive-labscope-application/
LOCATION:Fond du Lac Campus\, Room B-128\, 235 N. National Ave.\, Fond du Lac\, WI\, 54936\, United States
CATEGORIES:Business & Industry Course,Public
ORGANIZER;CN="Angela Gerlach":MAILTO:training@morainepark.edu
END:VEVENT
BEGIN:VEVENT
DTSTART;VALUE=DATE:20210531
DTEND;VALUE=DATE:20210601
DTSTAMP:20260421T060251
CREATED:20210212T163226Z
LAST-MODIFIED:20210212T224948Z
UID:10003371-1622419200-1622505599@www.morainepark.edu
SUMMARY:United Way 21 Week Equity Challenge
DESCRIPTION:The 21 Week Equity Challenge is an opportunity to develop a deeper understanding of how inequity and racism affect our lives and communities.\n\nParticipants will receive an email at the beginning of each week from Monday\, February 1st through Monday\, June 21st.\nWeekly topics take participants through a journey that starts with understanding internalized racism and explores how racism permeates person-to-person interactions\, institutions and social structures.\nThe experience is intended to deepen understanding\, suggest ways to take action\, and help launch what we hope will be a lifelong commitment to improving equity and inclusion in our communities.\n\nIndividuals are encouraged to take on the challenge themselves\, or form groups for discussion and reflection. \nFor more information or to sign up for the challenge click the link below:\nhttps://www.unitedwaywi.org/page/equity-challenge \n 
URL:https://www.morainepark.edu/event/united-way-21-week-equity-challenge/2021-05-31/
CATEGORIES:Cultural Connections
END:VEVENT
BEGIN:VEVENT
DTSTART;VALUE=DATE:20210604
DTEND;VALUE=DATE:20210605
DTSTAMP:20260421T060251
CREATED:20210212T163226Z
LAST-MODIFIED:20210212T224948Z
UID:10003372-1622764800-1622851199@www.morainepark.edu
SUMMARY:United Way 21 Week Equity Challenge
DESCRIPTION:The 21 Week Equity Challenge is an opportunity to develop a deeper understanding of how inequity and racism affect our lives and communities.\n\nParticipants will receive an email at the beginning of each week from Monday\, February 1st through Monday\, June 21st.\nWeekly topics take participants through a journey that starts with understanding internalized racism and explores how racism permeates person-to-person interactions\, institutions and social structures.\nThe experience is intended to deepen understanding\, suggest ways to take action\, and help launch what we hope will be a lifelong commitment to improving equity and inclusion in our communities.\n\nIndividuals are encouraged to take on the challenge themselves\, or form groups for discussion and reflection. \nFor more information or to sign up for the challenge click the link below:\nhttps://www.unitedwaywi.org/page/equity-challenge \n 
URL:https://www.morainepark.edu/event/united-way-21-week-equity-challenge/2021-06-04/
CATEGORIES:Cultural Connections
END:VEVENT
BEGIN:VEVENT
DTSTART;VALUE=DATE:20210607
DTEND;VALUE=DATE:20210608
DTSTAMP:20260421T060251
CREATED:20210212T163226Z
LAST-MODIFIED:20210212T224948Z
UID:10003373-1623024000-1623110399@www.morainepark.edu
SUMMARY:United Way 21 Week Equity Challenge
DESCRIPTION:The 21 Week Equity Challenge is an opportunity to develop a deeper understanding of how inequity and racism affect our lives and communities.\n\nParticipants will receive an email at the beginning of each week from Monday\, February 1st through Monday\, June 21st.\nWeekly topics take participants through a journey that starts with understanding internalized racism and explores how racism permeates person-to-person interactions\, institutions and social structures.\nThe experience is intended to deepen understanding\, suggest ways to take action\, and help launch what we hope will be a lifelong commitment to improving equity and inclusion in our communities.\n\nIndividuals are encouraged to take on the challenge themselves\, or form groups for discussion and reflection. \nFor more information or to sign up for the challenge click the link below:\nhttps://www.unitedwaywi.org/page/equity-challenge \n 
URL:https://www.morainepark.edu/event/united-way-21-week-equity-challenge/2021-06-07/
CATEGORIES:Cultural Connections
END:VEVENT
BEGIN:VEVENT
DTSTART;VALUE=DATE:20210611
DTEND;VALUE=DATE:20210612
DTSTAMP:20260421T060251
CREATED:20210212T163226Z
LAST-MODIFIED:20210212T224948Z
UID:10003374-1623369600-1623455999@www.morainepark.edu
SUMMARY:United Way 21 Week Equity Challenge
DESCRIPTION:The 21 Week Equity Challenge is an opportunity to develop a deeper understanding of how inequity and racism affect our lives and communities.\n\nParticipants will receive an email at the beginning of each week from Monday\, February 1st through Monday\, June 21st.\nWeekly topics take participants through a journey that starts with understanding internalized racism and explores how racism permeates person-to-person interactions\, institutions and social structures.\nThe experience is intended to deepen understanding\, suggest ways to take action\, and help launch what we hope will be a lifelong commitment to improving equity and inclusion in our communities.\n\nIndividuals are encouraged to take on the challenge themselves\, or form groups for discussion and reflection. \nFor more information or to sign up for the challenge click the link below:\nhttps://www.unitedwaywi.org/page/equity-challenge \n 
URL:https://www.morainepark.edu/event/united-way-21-week-equity-challenge/2021-06-11/
CATEGORIES:Cultural Connections
END:VEVENT
BEGIN:VEVENT
DTSTART;VALUE=DATE:20210614
DTEND;VALUE=DATE:20210615
DTSTAMP:20260421T060251
CREATED:20210212T163226Z
LAST-MODIFIED:20210212T224948Z
UID:10003375-1623628800-1623715199@www.morainepark.edu
SUMMARY:United Way 21 Week Equity Challenge
DESCRIPTION:The 21 Week Equity Challenge is an opportunity to develop a deeper understanding of how inequity and racism affect our lives and communities.\n\nParticipants will receive an email at the beginning of each week from Monday\, February 1st through Monday\, June 21st.\nWeekly topics take participants through a journey that starts with understanding internalized racism and explores how racism permeates person-to-person interactions\, institutions and social structures.\nThe experience is intended to deepen understanding\, suggest ways to take action\, and help launch what we hope will be a lifelong commitment to improving equity and inclusion in our communities.\n\nIndividuals are encouraged to take on the challenge themselves\, or form groups for discussion and reflection. \nFor more information or to sign up for the challenge click the link below:\nhttps://www.unitedwaywi.org/page/equity-challenge \n 
URL:https://www.morainepark.edu/event/united-way-21-week-equity-challenge/2021-06-14/
CATEGORIES:Cultural Connections
END:VEVENT
BEGIN:VEVENT
DTSTART;TZID=America/Chicago:20210616T170000
DTEND;TZID=America/Chicago:20210616T190000
DTSTAMP:20260421T060251
CREATED:20210325T185942Z
LAST-MODIFIED:20210615T202114Z
UID:10003407-1623862800-1623870000@www.morainepark.edu
SUMMARY:District Board Meeting
DESCRIPTION:Click here to view the agenda
URL:https://www.morainepark.edu/event/district-board-meeting-june-2021/
LOCATION:Fond du Lac Campus\, Room A-112\, 235 N. National Avenue\, Fond du Lac\, WI\, 54935
CATEGORIES:Public
GEO:43.785821;-88.418698
X-APPLE-STRUCTURED-LOCATION;VALUE=URI;X-ADDRESS=Fond du Lac Campus Room A-112 235 N. National Avenue Fond du Lac WI 54935;X-APPLE-RADIUS=500;X-TITLE=235 N. National Avenue:geo:-88.418698,43.785821
END:VEVENT
BEGIN:VEVENT
DTSTART;VALUE=DATE:20210618
DTEND;VALUE=DATE:20210619
DTSTAMP:20260421T060251
CREATED:20210212T163226Z
LAST-MODIFIED:20210212T224948Z
UID:10003376-1623974400-1624060799@www.morainepark.edu
SUMMARY:United Way 21 Week Equity Challenge
DESCRIPTION:The 21 Week Equity Challenge is an opportunity to develop a deeper understanding of how inequity and racism affect our lives and communities.\n\nParticipants will receive an email at the beginning of each week from Monday\, February 1st through Monday\, June 21st.\nWeekly topics take participants through a journey that starts with understanding internalized racism and explores how racism permeates person-to-person interactions\, institutions and social structures.\nThe experience is intended to deepen understanding\, suggest ways to take action\, and help launch what we hope will be a lifelong commitment to improving equity and inclusion in our communities.\n\nIndividuals are encouraged to take on the challenge themselves\, or form groups for discussion and reflection. \nFor more information or to sign up for the challenge click the link below:\nhttps://www.unitedwaywi.org/page/equity-challenge \n 
URL:https://www.morainepark.edu/event/united-way-21-week-equity-challenge/2021-06-18/
CATEGORIES:Cultural Connections
END:VEVENT
BEGIN:VEVENT
DTSTART;VALUE=DATE:20210621
DTEND;VALUE=DATE:20210622
DTSTAMP:20260421T060251
CREATED:20210212T163226Z
LAST-MODIFIED:20210212T224948Z
UID:10003377-1624233600-1624319999@www.morainepark.edu
SUMMARY:United Way 21 Week Equity Challenge
DESCRIPTION:The 21 Week Equity Challenge is an opportunity to develop a deeper understanding of how inequity and racism affect our lives and communities.\n\nParticipants will receive an email at the beginning of each week from Monday\, February 1st through Monday\, June 21st.\nWeekly topics take participants through a journey that starts with understanding internalized racism and explores how racism permeates person-to-person interactions\, institutions and social structures.\nThe experience is intended to deepen understanding\, suggest ways to take action\, and help launch what we hope will be a lifelong commitment to improving equity and inclusion in our communities.\n\nIndividuals are encouraged to take on the challenge themselves\, or form groups for discussion and reflection. \nFor more information or to sign up for the challenge click the link below:\nhttps://www.unitedwaywi.org/page/equity-challenge \n 
URL:https://www.morainepark.edu/event/united-way-21-week-equity-challenge/2021-06-21/
CATEGORIES:Cultural Connections
END:VEVENT
BEGIN:VEVENT
DTSTART;TZID=America/Chicago:20210712T170000
DTEND;TZID=America/Chicago:20210712T190000
DTSTAMP:20260421T060251
CREATED:20210325T190032Z
LAST-MODIFIED:20210712T195614Z
UID:10003408-1626109200-1626116400@www.morainepark.edu
SUMMARY:District Board Organizational Meeting
DESCRIPTION:Click Here to view the agenda \n  \nMS Teams Meeting Information \nJoin Teams Meeting Online \nPhone: (414) 662-4790 \nConference ID: 317 462 466#
URL:https://www.morainepark.edu/event/district-board-organizational-meeting-july-2021/
LOCATION:Fond du Lac Campus\, Room A-112\, 235 N. National Avenue\, Fond du Lac\, WI\, 54935
CATEGORIES:Public
GEO:43.785821;-88.418698
X-APPLE-STRUCTURED-LOCATION;VALUE=URI;X-ADDRESS=Fond du Lac Campus Room A-112 235 N. National Avenue Fond du Lac WI 54935;X-APPLE-RADIUS=500;X-TITLE=235 N. National Avenue:geo:-88.418698,43.785821
END:VEVENT
BEGIN:VEVENT
DTSTART;TZID=America/Chicago:20210809T173000
DTEND;TZID=America/Chicago:20210809T211500
DTSTAMP:20260421T060251
CREATED:20210707T175032Z
LAST-MODIFIED:20210707T175101Z
UID:10003455-1628530200-1628543700@www.morainepark.edu
SUMMARY:CDL Learner's Permit Exam Prep
DESCRIPTION:The WI Commercial Driver’s License Learner’s Permit exam prep class is designed to help you pass the written portion of the CDL exam or the knowledge test. Upon completion\, students may test and obtain a Commercial Learner’s Permit (CLP). This is the first step to becoming a truck driver. Students are now qualified to start behind the wheel training with another person licensed to drive the same type of vehicle. Disclaimer: Moraine Park does not provide vehicles to practice on. \nThis class meets Monday – Thursday\, August 9\, 10\, 11 & 12\, 2021.
URL:https://www.morainepark.edu/event/cdl-learners-permit-exam-prep/
LOCATION:Fond du Lac Campus\, O-209\, 235 N National Ave\, Fond du Lac\, WI\, 54935\, United States
CATEGORIES:Business & Industry Course,Public
ORGANIZER;CN="Angela Gerlach":MAILTO:training@morainepark.edu
END:VEVENT
BEGIN:VEVENT
DTSTART;TZID=America/Chicago:20210811T113000
DTEND;TZID=America/Chicago:20210811T133000
DTSTAMP:20260421T060251
CREATED:20210708T175442Z
LAST-MODIFIED:20210708T175442Z
UID:10003463-1628681400-1628688600@www.morainepark.edu
SUMMARY:Virtual Meetings with MS Teams
DESCRIPTION:Virtual meetings have become standard practice in today’s workplace.  It’s clear that strategies for effective meeting management are different in this format.  Do you know how to engage your audience or what features are available?  We will meet via Teams to learn how to use basic and advanced features to maximize participant engagement.  Learn the tips and tricks that will grow your confidence in virtual meetings!
URL:https://www.morainepark.edu/event/virtual-meetings-with-ms-teams/
LOCATION:Virtual
CATEGORIES:Business & Industry Course,Public
ORGANIZER;CN="Angela Gerlach":MAILTO:training@morainepark.edu
END:VEVENT
BEGIN:VEVENT
DTSTART;TZID=America/Chicago:20210812T080000
DTEND;TZID=America/Chicago:20210812T163000
DTSTAMP:20260421T060251
CREATED:20210713T155646Z
LAST-MODIFIED:20210713T155646Z
UID:10003515-1628755200-1628785800@www.morainepark.edu
SUMMARY:Metrology
DESCRIPTION:Consistent\, reliable\, and accurate measurements are a requirement for any manufacturing business. This course introduces participants to dimensional metrology with exposure to various measurement techniques. Participants develop skills and knowledge of vernier calipers\, dial calipers\, depth micrometers\, outside micrometers with both inch and metric scales\, indicators\, telescoping gages\, sine bars\, gage blocks\, and instruments for surface analysis. Upon completion\, participants will be able to: \n\nIdentify units of measurements\nIdentify gage blocks and their use for calibration purposes\nUse micrometers and calipers to measure part features\nUse indicators and gage blocks to measure part features\n\n$299 per person. Includes materials and refreshments. Lunch not included.
URL:https://www.morainepark.edu/event/metrology/
LOCATION:Fond du Lac Campus\, Room B-128\, 235 N. National Ave.\, Fond du Lac\, WI\, 54936\, United States
CATEGORIES:Business & Industry Course,Public
ORGANIZER;CN="Angela Gerlach":MAILTO:training@morainepark.edu
END:VEVENT
END:VCALENDAR