BEGIN:VCALENDAR
VERSION:2.0
PRODID:-//Moraine Park Technical College - ECPv6.15.20//NONSGML v1.0//EN
CALSCALE:GREGORIAN
METHOD:PUBLISH
X-WR-CALNAME:Moraine Park Technical College
X-ORIGINAL-URL:https://www.morainepark.edu
X-WR-CALDESC:Events for Moraine Park Technical College
REFRESH-INTERVAL;VALUE=DURATION:PT1H
X-Robots-Tag:noindex
X-PUBLISHED-TTL:PT1H
BEGIN:VTIMEZONE
TZID:America/Chicago
BEGIN:DAYLIGHT
TZOFFSETFROM:-0600
TZOFFSETTO:-0500
TZNAME:CDT
DTSTART:20200308T080000
END:DAYLIGHT
BEGIN:STANDARD
TZOFFSETFROM:-0500
TZOFFSETTO:-0600
TZNAME:CST
DTSTART:20201101T070000
END:STANDARD
BEGIN:DAYLIGHT
TZOFFSETFROM:-0600
TZOFFSETTO:-0500
TZNAME:CDT
DTSTART:20210314T080000
END:DAYLIGHT
BEGIN:STANDARD
TZOFFSETFROM:-0500
TZOFFSETTO:-0600
TZNAME:CST
DTSTART:20211107T070000
END:STANDARD
BEGIN:DAYLIGHT
TZOFFSETFROM:-0600
TZOFFSETTO:-0500
TZNAME:CDT
DTSTART:20220313T080000
END:DAYLIGHT
BEGIN:STANDARD
TZOFFSETFROM:-0500
TZOFFSETTO:-0600
TZNAME:CST
DTSTART:20221106T070000
END:STANDARD
END:VTIMEZONE
BEGIN:VEVENT
DTSTART;TZID=America/Chicago:20210428T100000
DTEND;TZID=America/Chicago:20210428T140000
DTSTAMP:20260420T145140
CREATED:20210405T182644Z
LAST-MODIFIED:20210405T182644Z
UID:10003414-1619604000-1619618400@www.morainepark.edu
SUMMARY:FDL: Make and Take — Painting Kits
DESCRIPTION:In this kit you will receive everything needed to paint a fun image on canvas. Includes paint\, brushes\, and a stenciled canvas. Free for students and staff.
URL:https://www.morainepark.edu/event/fdl-make-and-take-painting-kits/
LOCATION:Fond du Lac Campus\, Commons Area\, 235 N. National Avenue\, Fond du Lac\, WI\, 54935
CATEGORIES:Student Event
ORGANIZER;CN="Sam Saeger":MAILTO:ssaeger@morainepark.edu
GEO:43.785821;-88.418698
X-APPLE-STRUCTURED-LOCATION;VALUE=URI;X-ADDRESS=Fond du Lac Campus Commons Area 235 N. National Avenue Fond du Lac WI 54935;X-APPLE-RADIUS=500;X-TITLE=235 N. National Avenue:geo:-88.418698,43.785821
END:VEVENT
BEGIN:VEVENT
DTSTART;TZID=America/Chicago:20210428T110000
DTEND;TZID=America/Chicago:20210428T123000
DTSTAMP:20260420T145140
CREATED:20210419T190810Z
LAST-MODIFIED:20210419T190810Z
UID:10002819-1619607600-1619613000@www.morainepark.edu
SUMMARY:Lakeland University Transfer Webinar
DESCRIPTION:UPCOMING WEBINARS \nJoin Lakeland University to learn more about our programs and the benefits you are awarded. Click the links below to join the webinars.\nApril 28 (11 a.m. – 12:30 p.m.)\nhttps://zoom.us/j/94870243526?pwd=R0J0cWptWXFINzRYRms3bENhNEttUT09&from=addon#success \nMay 4 (2:30 – 3:30 p.m.)\nhttps://zoom.us/j/98988243073?pwd=QUZlODk2Undoc3g4b1JpeXRsQkl2Zz09&from=addon#success \nWhy Lakeland?\nTransfer up to 72-credits\nGraduate in as little as 18-months\nDiscounted tuition. Students that have earned their associates degree and were PTK members\, have achieved a GPA of 3.0 or higher\, or work for one of our corporate partners are eligible for discounts.\nPersonalized admission and academic advising services\nEasy application process. Apply for free using waiver code ‘Tech2LU’.\nCredit for work. Earn academic credit for current or future work projects.\nNo additional course fees\nNo lost work. Maintain a healthy school/life/family balance because you can take classes when they are convenient for you \nFlexible delivery formats:\nOnsite: In class one night per week\nOnline: participate weekly when it works best for you\nBlendEd Live: attend live classes virtually from anywhere one night per week
URL:https://www.morainepark.edu/event/lakeland-university-transfer-webinar/2021-04-28/
LOCATION:Virtual
CATEGORIES:Public,Student Event - All Campuses
ORGANIZER;CN="Sam Saeger":MAILTO:ssaeger@morainepark.edu
END:VEVENT
BEGIN:VEVENT
DTSTART;TZID=America/Chicago:20210428T160000
DTEND;TZID=America/Chicago:20210428T170000
DTSTAMP:20260420T145140
CREATED:20210419T191333Z
LAST-MODIFIED:20210419T191333Z
UID:10002822-1619625600-1619629200@www.morainepark.edu
SUMMARY:UW-Stout Transfer Webinar
DESCRIPTION:This session is open to all students interested in learning more about transferring to UW-Stout! See below for more details. \nWe’re giving away a $2\,000 scholarship to one lucky student – sign up now (registration link below). \nRegister at: https://www.uwstout.edu/mollie-ficek
URL:https://www.morainepark.edu/event/uw-stout-transfer-webinar/
LOCATION:Virtual
CATEGORIES:Public,Student Event - All Campuses
ORGANIZER;CN="Sam Saeger":MAILTO:ssaeger@morainepark.edu
END:VEVENT
BEGIN:VEVENT
DTSTART;TZID=America/Chicago:20210429T113000
DTEND;TZID=America/Chicago:20210429T123000
DTSTAMP:20260420T145140
CREATED:20200709T003510Z
LAST-MODIFIED:20220204T224007Z
UID:10003139-1619695800-1619699400@www.morainepark.edu
SUMMARY:FDL: Student Senate Meeting
DESCRIPTION:Do you want to meet new people\, plan activities\, make important decisions\, and enhance your resume? If yes\, join us! Besides enhancing their employability skills and resume\, members receive a ton of perks! \nAll students are welcome. FREE lunch for those that attend.
URL:https://www.morainepark.edu/event/fdl-student-senate-meeting-2/2021-04-29/
LOCATION:Fond du Lac Campus\, Room A-112\, 235 N National Ave\, Fond du Lac\, 54935
CATEGORIES:Student Event
ORGANIZER;CN="Sam Saeger":MAILTO:ssaeger@morainepark.edu
GEO:43.785195;-88.4178935
X-APPLE-STRUCTURED-LOCATION;VALUE=URI;X-ADDRESS=Fond du Lac Campus Room A-112 235 N National Ave Fond du Lac 54935;X-APPLE-RADIUS=500;X-TITLE=235 N National Ave:geo:-88.4178935,43.785195
END:VEVENT
END:VCALENDAR