BEGIN:VCALENDAR
VERSION:2.0
PRODID:-//Moraine Park Technical College - ECPv6.15.20//NONSGML v1.0//EN
CALSCALE:GREGORIAN
METHOD:PUBLISH
X-WR-CALNAME:Moraine Park Technical College
X-ORIGINAL-URL:https://www.morainepark.edu
X-WR-CALDESC:Events for Moraine Park Technical College
REFRESH-INTERVAL;VALUE=DURATION:PT1H
X-Robots-Tag:noindex
X-PUBLISHED-TTL:PT1H
BEGIN:VTIMEZONE
TZID:America/Chicago
BEGIN:DAYLIGHT
TZOFFSETFROM:-0600
TZOFFSETTO:-0500
TZNAME:CDT
DTSTART:20200308T080000
END:DAYLIGHT
BEGIN:STANDARD
TZOFFSETFROM:-0500
TZOFFSETTO:-0600
TZNAME:CST
DTSTART:20201101T070000
END:STANDARD
BEGIN:DAYLIGHT
TZOFFSETFROM:-0600
TZOFFSETTO:-0500
TZNAME:CDT
DTSTART:20210314T080000
END:DAYLIGHT
BEGIN:STANDARD
TZOFFSETFROM:-0500
TZOFFSETTO:-0600
TZNAME:CST
DTSTART:20211107T070000
END:STANDARD
BEGIN:DAYLIGHT
TZOFFSETFROM:-0600
TZOFFSETTO:-0500
TZNAME:CDT
DTSTART:20220313T080000
END:DAYLIGHT
BEGIN:STANDARD
TZOFFSETFROM:-0500
TZOFFSETTO:-0600
TZNAME:CST
DTSTART:20221106T070000
END:STANDARD
END:VTIMEZONE
BEGIN:VEVENT
DTSTART;VALUE=DATE:20210419
DTEND;VALUE=DATE:20210420
DTSTAMP:20260421T091846
CREATED:20210212T163226Z
LAST-MODIFIED:20210212T224948Z
UID:10003359-1618790400-1618876799@www.morainepark.edu
SUMMARY:United Way 21 Week Equity Challenge
DESCRIPTION:The 21 Week Equity Challenge is an opportunity to develop a deeper understanding of how inequity and racism affect our lives and communities.\n\nParticipants will receive an email at the beginning of each week from Monday\, February 1st through Monday\, June 21st.\nWeekly topics take participants through a journey that starts with understanding internalized racism and explores how racism permeates person-to-person interactions\, institutions and social structures.\nThe experience is intended to deepen understanding\, suggest ways to take action\, and help launch what we hope will be a lifelong commitment to improving equity and inclusion in our communities.\n\nIndividuals are encouraged to take on the challenge themselves\, or form groups for discussion and reflection. \nFor more information or to sign up for the challenge click the link below:\nhttps://www.unitedwaywi.org/page/equity-challenge \n 
URL:https://www.morainepark.edu/event/united-way-21-week-equity-challenge/2021-04-19/
CATEGORIES:Cultural Connections
END:VEVENT
BEGIN:VEVENT
DTSTART;TZID=America/Chicago:20210419T110000
DTEND;TZID=America/Chicago:20210419T123000
DTSTAMP:20260421T091846
CREATED:20210419T141617Z
LAST-MODIFIED:20210419T141617Z
UID:10002813-1618830000-1618835400@www.morainepark.edu
SUMMARY:Tri-campus:  Equity vs Equality Awareness Informational Table
DESCRIPTION:Stop by one of the Campus Commons to learn more about Equity vs Equality. \n 
URL:https://www.morainepark.edu/event/tri-campus-equity-vs-equality-awareness-informational-table/
CATEGORIES:Student Event,Student Event - All Campuses
ORGANIZER;CN="Kevin Rodriguez":MAILTO:krodriguez3@morainepark.edu
END:VEVENT
BEGIN:VEVENT
DTSTART;TZID=America/Chicago:20210420T110000
DTEND;TZID=America/Chicago:20210420T123000
DTSTAMP:20260421T091846
CREATED:20210419T141822Z
LAST-MODIFIED:20210419T141822Z
UID:10002815-1618916400-1618921800@www.morainepark.edu
SUMMARY:Tri-Campus: Privilege/Advantage Awareness Informational Table
DESCRIPTION:Stop by one of the campus commons to learn more about Privilege/Advantage in today’s culture. \n 
URL:https://www.morainepark.edu/event/tri-campus-privilege-advantage-awareness-informational-table/
CATEGORIES:Student Event,Student Event - All Campuses
ORGANIZER;CN="Kevin Rodriguez":MAILTO:krodriguez3@morainepark.edu
END:VEVENT
BEGIN:VEVENT
DTSTART;TZID=America/Chicago:20210420T113000
DTEND;TZID=America/Chicago:20210420T113000
DTSTAMP:20260421T091846
CREATED:20210106T215505Z
LAST-MODIFIED:20210106T215505Z
UID:10003329-1618918200-1618918200@www.morainepark.edu
SUMMARY:BD: Grab 'n Go Treats
DESCRIPTION:Grab a quick bite to eat courtesy of the Beaver Dam Student Senate! \nAvailable on a first-come\, first-served basis for students and staff. \n 
URL:https://www.morainepark.edu/event/bd-grab-n-go-treats/
LOCATION:Beaver Dam Campus\, Commons Area
CATEGORIES:Student Event,Student Event - Beaver Dam
ORGANIZER;CN="Lisa Manuell":MAILTO:lmanuell@morainepark.edu
END:VEVENT
BEGIN:VEVENT
DTSTART;TZID=America/Chicago:20210421T120000
DTEND;TZID=America/Chicago:20210421T130000
DTSTAMP:20260421T091846
CREATED:20210421T170000Z
LAST-MODIFIED:20210318T141441Z
UID:10002824-1619006400-1619010000@www.morainepark.edu
SUMMARY:WB: Bias/Stereotyping Lunch 'n Learn
DESCRIPTION:The Student Senate would like to have an open conversation about the topic of Bias/Stereotyping: what we can learn about it and how it has an effect in today’s world. \nA light lunch will be served\, as we sit down\,  talk openly and positively about becoming better informed on this important topic. \nSponsored by the West Bend Student Senate
URL:https://www.morainepark.edu/event/wb-bias-stereotyping-lunch-n-learn/
LOCATION:West Bend Campus\, Room T-101\, 2151 N. Main Street\, West Bend\, WI\, 53090\, United States
CATEGORIES:Student Event,Student Event - West Bend,Student Support
ORGANIZER;CN="Sandy Botham":MAILTO:sbotham@morainepark.edu
GEO:43.4485525;-88.1899928
X-APPLE-STRUCTURED-LOCATION;VALUE=URI;X-ADDRESS=West Bend Campus Room T-101 2151 N. Main Street West Bend WI 53090 United States;X-APPLE-RADIUS=500;X-TITLE=2151 N. Main Street:geo:-88.1899928,43.4485525
END:VEVENT
BEGIN:VEVENT
DTSTART;TZID=America/Chicago:20210421T170000
DTEND;TZID=America/Chicago:20210421T190000
DTSTAMP:20260421T091846
CREATED:20210421T220000Z
LAST-MODIFIED:20210421T133921Z
UID:10003419-1619024400-1619031600@www.morainepark.edu
SUMMARY:District Board Meeting
DESCRIPTION:Click here to view the agenda
URL:https://www.morainepark.edu/event/district-board-meeting-april-2021/
LOCATION:Beaver Dam Campus\, Room H104\, 700 Gould Street\, Beaver Dam\, WI\, 53916
CATEGORIES:Public
GEO:43.4616355;-88.8169137
X-APPLE-STRUCTURED-LOCATION;VALUE=URI;X-ADDRESS=Beaver Dam Campus Room H104 700 Gould Street Beaver Dam WI 53916;X-APPLE-RADIUS=500;X-TITLE=700 Gould Street:geo:-88.8169137,43.4616355
END:VEVENT
END:VCALENDAR