BEGIN:VCALENDAR
VERSION:2.0
PRODID:-//Moraine Park Technical College - ECPv6.15.20//NONSGML v1.0//EN
CALSCALE:GREGORIAN
METHOD:PUBLISH
X-WR-CALNAME:Moraine Park Technical College
X-ORIGINAL-URL:https://www.morainepark.edu
X-WR-CALDESC:Events for Moraine Park Technical College
REFRESH-INTERVAL;VALUE=DURATION:PT1H
X-Robots-Tag:noindex
X-PUBLISHED-TTL:PT1H
BEGIN:VTIMEZONE
TZID:America/Chicago
BEGIN:DAYLIGHT
TZOFFSETFROM:-0600
TZOFFSETTO:-0500
TZNAME:CDT
DTSTART:20200308T080000
END:DAYLIGHT
BEGIN:STANDARD
TZOFFSETFROM:-0500
TZOFFSETTO:-0600
TZNAME:CST
DTSTART:20201101T070000
END:STANDARD
BEGIN:DAYLIGHT
TZOFFSETFROM:-0600
TZOFFSETTO:-0500
TZNAME:CDT
DTSTART:20210314T080000
END:DAYLIGHT
BEGIN:STANDARD
TZOFFSETFROM:-0500
TZOFFSETTO:-0600
TZNAME:CST
DTSTART:20211107T070000
END:STANDARD
BEGIN:DAYLIGHT
TZOFFSETFROM:-0600
TZOFFSETTO:-0500
TZNAME:CDT
DTSTART:20220313T080000
END:DAYLIGHT
BEGIN:STANDARD
TZOFFSETFROM:-0500
TZOFFSETTO:-0600
TZNAME:CST
DTSTART:20221106T070000
END:STANDARD
END:VTIMEZONE
BEGIN:VEVENT
DTSTART;TZID=America/Chicago:20210319T090000
DTEND;TZID=America/Chicago:20210319T153000
DTSTAMP:20260420T124322
CREATED:20200513T193113Z
LAST-MODIFIED:20210113T202854Z
UID:10002993-1616144400-1616167800@www.morainepark.edu
SUMMARY:Automotive Computers And Scan Tools
DESCRIPTION:Explore computer control systems and troubleshoot using Snap-on Verus scan tools in class. Expand on electrical testing techniques covered in Automotive Circuits & Testing and Automotive Voltage & Ohmeters. Students are encouraged to bring other brand lab scopes for classroom discussion. It is recommended that students take auto scan tool class prior to this course or have significant scan tool experience. Classroom education is combined with hands-on application. Course prepares student for completion of A6 ASE electrical exam.
URL:https://www.morainepark.edu/event/automotive-computers-and-scan-tools-4/
LOCATION:Fond du Lac Campus\, Room B-128\, 235 N. National Ave.\, Fond du Lac\, WI\, 54936\, United States
CATEGORIES:Business & Industry Course,Public
ORGANIZER;CN="Angela Gerlach":MAILTO:training@morainepark.edu
END:VEVENT
BEGIN:VEVENT
DTSTART;TZID=America/Chicago:20210319T130000
DTEND;TZID=America/Chicago:20210319T150000
DTSTAMP:20260420T124322
CREATED:20210215T214058Z
LAST-MODIFIED:20210215T214058Z
UID:10002774-1616158800-1616166000@www.morainepark.edu
SUMMARY:The Bystander Imperative: Moving Beyond Midwest Nice with Nick Daily
DESCRIPTION:Event by UWO Diversity and Inclusion Programs \nOnline: http://bit.ly \nFriday\, March 19\, 2021 at 1 PM CDT – 3 PM CDT \nPrice: Free · Duration: 2 hr \nPublic  · Anyone on or off Facebook \nIn this session\, participants will learn about personal\, professional\, and organizational equity dimensions. They will identify their personal roadblocks to being active bystanders when witnessing microaggressions. Additionally\, they will learn key concepts\, history\, and research related to why we don’t act. Participants will also analyze campus and department culture and practices evaluating preparedness to meet The Bystander Imperative. Lastly\,participants will take the foundations of their knowledge from thought to action. Together\, we will learn and practice techniques to intervene in microaggressive situations and develop a personal response phrase. The session will conclude with participants building communities of accountability for continued learning and future practice intervening.
URL:https://www.morainepark.edu/event/the-bystander-imperative-moving-beyond-midwest-nice-with-nick-daily/
CATEGORIES:Cultural Connections
END:VEVENT
END:VCALENDAR