BEGIN:VCALENDAR
VERSION:2.0
PRODID:-//Moraine Park Technical College - ECPv6.15.20//NONSGML v1.0//EN
CALSCALE:GREGORIAN
METHOD:PUBLISH
X-WR-CALNAME:Moraine Park Technical College
X-ORIGINAL-URL:https://www.morainepark.edu
X-WR-CALDESC:Events for Moraine Park Technical College
REFRESH-INTERVAL;VALUE=DURATION:PT1H
X-Robots-Tag:noindex
X-PUBLISHED-TTL:PT1H
BEGIN:VTIMEZONE
TZID:America/Chicago
BEGIN:DAYLIGHT
TZOFFSETFROM:-0600
TZOFFSETTO:-0500
TZNAME:CDT
DTSTART:20200308T080000
END:DAYLIGHT
BEGIN:STANDARD
TZOFFSETFROM:-0500
TZOFFSETTO:-0600
TZNAME:CST
DTSTART:20201101T070000
END:STANDARD
BEGIN:DAYLIGHT
TZOFFSETFROM:-0600
TZOFFSETTO:-0500
TZNAME:CDT
DTSTART:20210314T080000
END:DAYLIGHT
BEGIN:STANDARD
TZOFFSETFROM:-0500
TZOFFSETTO:-0600
TZNAME:CST
DTSTART:20211107T070000
END:STANDARD
BEGIN:DAYLIGHT
TZOFFSETFROM:-0600
TZOFFSETTO:-0500
TZNAME:CDT
DTSTART:20220313T080000
END:DAYLIGHT
BEGIN:STANDARD
TZOFFSETFROM:-0500
TZOFFSETTO:-0600
TZNAME:CST
DTSTART:20221106T070000
END:STANDARD
END:VTIMEZONE
BEGIN:VEVENT
DTSTART;VALUE=DATE:20210308
DTEND;VALUE=DATE:20210309
DTSTAMP:20260419T130719
CREATED:20210212T163226Z
LAST-MODIFIED:20210212T224948Z
UID:10003347-1615161600-1615247999@www.morainepark.edu
SUMMARY:United Way 21 Week Equity Challenge
DESCRIPTION:The 21 Week Equity Challenge is an opportunity to develop a deeper understanding of how inequity and racism affect our lives and communities.\n\nParticipants will receive an email at the beginning of each week from Monday\, February 1st through Monday\, June 21st.\nWeekly topics take participants through a journey that starts with understanding internalized racism and explores how racism permeates person-to-person interactions\, institutions and social structures.\nThe experience is intended to deepen understanding\, suggest ways to take action\, and help launch what we hope will be a lifelong commitment to improving equity and inclusion in our communities.\n\nIndividuals are encouraged to take on the challenge themselves\, or form groups for discussion and reflection. \nFor more information or to sign up for the challenge click the link below:\nhttps://www.unitedwaywi.org/page/equity-challenge \n 
URL:https://www.morainepark.edu/event/united-way-21-week-equity-challenge/2021-03-08/
LOCATION:WI
CATEGORIES:Cultural Connections
END:VEVENT
BEGIN:VEVENT
DTSTART;TZID=America/Chicago:20210308T113000
DTEND;TZID=America/Chicago:20210308T123000
DTSTAMP:20260419T130719
CREATED:20210302T153342Z
LAST-MODIFIED:20210302T153342Z
UID:10003392-1615203000-1615206600@www.morainepark.edu
SUMMARY:WB: BINGO with FREE Lunch (Piled high Nachos)
DESCRIPTION:Stop by the Cafe to play BINGO\, while enjoying some yummy Nachos\, for your chance to win $25 Gas Cards and $50 Visa Cards! \nSponsored by the West Bend Student Senate
URL:https://www.morainepark.edu/event/wb-bingo-with-free-lunch-piled-high-nachos/
LOCATION:West Bend Campus\, Commons Area
CATEGORIES:Student Event,Student Event - West Bend
ORGANIZER;CN="Sandy Botham":MAILTO:sbotham@morainepark.edu
END:VEVENT
BEGIN:VEVENT
DTSTART;TZID=America/Chicago:20210308T173000
DTEND;TZID=America/Chicago:20210308T213000
DTSTAMP:20260419T130719
CREATED:20200515T135837Z
LAST-MODIFIED:20210114T194929Z
UID:10003122-1615224600-1615239000@www.morainepark.edu
SUMMARY:Civility and Communications
DESCRIPTION:The construction workplace is becoming more diverse and stressful. This 4- course seeks to promote civility and equality at the work site. Students will learn about the impact of stress\, aggression\, violence\, and incivility on themselves and other workers. Awareness of non-traditional populations on the jobsite\, proper management of personnel\, well-being\, and enhanced productive communication among stakeholders will be discussed. Approved by State of WI for four hours of credit for Dwelling Contractor Qualifier. \n$50 per person. Price includes materials.
URL:https://www.morainepark.edu/event/civility-and-communications/
LOCATION:West Bend Campus\, Room S-111\, 2151 North Main Street\, West Bend\, 53090
CATEGORIES:Business & Industry Course,Public
ORGANIZER;CN="Angela Gerlach":MAILTO:training@morainepark.edu
GEO:43.4488465;-88.1899769
X-APPLE-STRUCTURED-LOCATION;VALUE=URI;X-ADDRESS=West Bend Campus Room S-111 2151 North Main Street West Bend 53090;X-APPLE-RADIUS=500;X-TITLE=2151 North Main Street:geo:-88.1899769,43.4488465
END:VEVENT
BEGIN:VEVENT
DTSTART;TZID=America/Chicago:20210309T100000
DTEND;TZID=America/Chicago:20210309T110000
DTSTAMP:20260419T130719
CREATED:20210308T173932Z
LAST-MODIFIED:20210308T174209Z
UID:10003397-1615284000-1615287600@www.morainepark.edu
SUMMARY:MPTC’s Gray Area Table Talk
DESCRIPTION:The Gray Area is MPTC’s “Red Table talk”- replacing our virtual safe talks where the Diversity Relations team will be facilitating conversations on a variety of race related issues. Bringing the conversation to a more intimate setting to enhance the value of our time together.
URL:https://www.morainepark.edu/event/mptcs-gray-area-table-talk-copy-copy/
LOCATION:BD K-305
CATEGORIES:Student Event - Beaver Dam
END:VEVENT
BEGIN:VEVENT
DTSTART;TZID=America/Chicago:20210309T110000
DTEND;TZID=America/Chicago:20210309T123000
DTSTAMP:20260419T130719
CREATED:20210330T160000Z
LAST-MODIFIED:20210226T171902Z
UID:10003410-1615287600-1615293000@www.morainepark.edu
SUMMARY:BD: Make and Take: Beaded Bracelets & Keychains
DESCRIPTION:Join the Diversity Department as we piece together goals and dreams though beading. Create a bracelet or a key chain in celebration of elevating women everywhere. \nSponsored by the Diversity Department.
URL:https://www.morainepark.edu/event/fdl-make-and-take-beaded-bracelets-keychains/
LOCATION:Beaver Dam Campus\, Commons Area
CATEGORIES:Student Event,Student Event - Beaver Dam,Student Support
ORGANIZER;CN="Kevin Rodriguez":MAILTO:krodriguez3@morainepark.edu
END:VEVENT
BEGIN:VEVENT
DTSTART;TZID=America/Chicago:20210309T110000
DTEND;TZID=America/Chicago:20210309T130000
DTSTAMP:20260419T130719
CREATED:20210224T163510Z
LAST-MODIFIED:20210224T163510Z
UID:10002778-1615287600-1615294800@www.morainepark.edu
SUMMARY:FDL: Make and Take - Bath Bombs
DESCRIPTION:The ultimate in DIY pampering! Take the opportunity to create your own relaxing bath bomb\, with your unique touches. Your take away is a personalized pampering creation!
URL:https://www.morainepark.edu/event/fdl-make-and-take-bath-bombs/
LOCATION:Fond du Lac Campus\, Commons Area\, 235 N. National Avenue\, Fond du Lac\, WI\, 54935
CATEGORIES:Student Event
ORGANIZER;CN="Sam Saeger":MAILTO:ssaeger@morainepark.edu
GEO:43.785821;-88.418698
X-APPLE-STRUCTURED-LOCATION;VALUE=URI;X-ADDRESS=Fond du Lac Campus Commons Area 235 N. National Avenue Fond du Lac WI 54935;X-APPLE-RADIUS=500;X-TITLE=235 N. National Avenue:geo:-88.418698,43.785821
END:VEVENT
BEGIN:VEVENT
DTSTART;TZID=America/Chicago:20210311T080000
DTEND;TZID=America/Chicago:20210311T120000
DTSTAMP:20260419T130719
CREATED:20200514T174132Z
LAST-MODIFIED:20210114T151626Z
UID:10003018-1615449600-1615464000@www.morainepark.edu
SUMMARY:Emotional Intelligence
DESCRIPTION:No doubt technical and task-oriented skills are important to bring to any working environment\, but research has proven that real success comes from those who have honed the soft skill of emotional intelligence. No organization is without its ups\, downs\, and of course\, turnarounds\, which is why emotional intelligence is an essential aspect for anyone in the working field. In a world of deadlines\, organizational changes\, limited resources\, and conflicting orders (to name a few stressors)\, having the ability to control your emotions is essential to navigating the unavoidably high-stress environment that often shapes the working world. \n$145 per person. Price includes materials.
URL:https://www.morainepark.edu/event/emotional-intelligence-2/
LOCATION:Online
CATEGORIES:Business & Industry Course,Public
ORGANIZER;CN="Angela Gerlach":MAILTO:training@morainepark.edu
END:VEVENT
BEGIN:VEVENT
DTSTART;TZID=America/Chicago:20210311T100000
DTEND;TZID=America/Chicago:20210311T110000
DTSTAMP:20260419T130719
CREATED:20210308T173559Z
LAST-MODIFIED:20210308T173823Z
UID:10003395-1615456800-1615460400@www.morainepark.edu
SUMMARY:MPTC’s Gray Area Table Talk WB 3/11/21
DESCRIPTION:The Gray Area is MPTC’s “Red Table talk”- replacing our virtual safe talks where the Diversity Relations team will be facilitating conversations on a variety of race related issues. Bringing the conversation to a more intimate setting to enhance the value of our time together.
URL:https://www.morainepark.edu/event/mptcs-gray-area-table-talk-copy-2/
LOCATION:West Bend Campus L-123
CATEGORIES:Student Event - West Bend
END:VEVENT
BEGIN:VEVENT
DTSTART;TZID=America/Chicago:20210311T113000
DTEND;TZID=America/Chicago:20210311T123000
DTSTAMP:20260419T130719
CREATED:20200729T144654Z
LAST-MODIFIED:20200729T144654Z
UID:10003153-1615462200-1615465800@www.morainepark.edu
SUMMARY:BD: Student Senate Meeting
DESCRIPTION:You are invited to Student Senate!  Membership requirements are minimal but meaningful.  Besides enhancing their employability skills and resumes\, members receive a ton of perks! \nFREE lunch for members and prospective members. \nJoin us.  Why? \n\nTo enhance your resume\nTo develop employability skills\nTo meet new people and make friends\nTo get involved\nTo network – on campus\, in the community and throughout the state\nTo plan and promote entertaining and educational activities and events\nTo give a voice to Moraine Park’s student body and make decisions that affect them\nTo attend leadership and programming conferences and workshops\, legislative seminars\, and state-wide student government meetings\nTo experience college life and learning beyond the classroom\nTo influence change at Moraine Park\nTo grow as a leader\, team-player and communicator\nTo learn balance\, multi-tasking and prioritization\nTo make a difference in the community by supporting\, sponsoring and leading community service projects\nTo have fun!\n\nAll students are welcome. \nFor more information\, contact Lisa (K-323)\, lmanuell@morainepark.edu\, 920-887-4462.
URL:https://www.morainepark.edu/event/bd-student-senate-meeting-12/
LOCATION:BD K-305
CATEGORIES:Student Event,Student Event - Beaver Dam
ORGANIZER;CN="Lisa Manuell":MAILTO:lmanuell@morainepark.edu
END:VEVENT
BEGIN:VEVENT
DTSTART;TZID=America/Chicago:20210311T113000
DTEND;TZID=America/Chicago:20210311T123000
DTSTAMP:20260419T130719
CREATED:20200709T003510Z
LAST-MODIFIED:20220204T224007Z
UID:10003138-1615462200-1615465800@www.morainepark.edu
SUMMARY:FDL: Student Senate Meeting
DESCRIPTION:Do you want to meet new people\, plan activities\, make important decisions\, and enhance your resume? If yes\, join us! Besides enhancing their employability skills and resume\, members receive a ton of perks! \nAll students are welcome. FREE lunch for those that attend.
URL:https://www.morainepark.edu/event/fdl-student-senate-meeting-2/2021-03-11/
LOCATION:Fond du Lac Campus\, Room A-112\, 235 N National Ave\, Fond du Lac\, 54935
CATEGORIES:Student Event
ORGANIZER;CN="Sam Saeger":MAILTO:ssaeger@morainepark.edu
GEO:43.785195;-88.4178935
X-APPLE-STRUCTURED-LOCATION;VALUE=URI;X-ADDRESS=Fond du Lac Campus Room A-112 235 N National Ave Fond du Lac 54935;X-APPLE-RADIUS=500;X-TITLE=235 N National Ave:geo:-88.4178935,43.785195
END:VEVENT
BEGIN:VEVENT
DTSTART;TZID=America/Chicago:20210311T113000
DTEND;TZID=America/Chicago:20210311T130000
DTSTAMP:20260419T130719
CREATED:20210215T213712Z
LAST-MODIFIED:20210215T213926Z
UID:10003390-1615462200-1615467600@www.morainepark.edu
SUMMARY:Warrior Women
DESCRIPTION:Event by UWO Diversity and Inclusion Programs \nOnline: http://bit.ly \nThursday\, March 11\, 2021 at 11:30 AM CST – 1 PM CST \nPrice: Free · Duration: 1 hr 30 min \nPublic  · Anyone on or off Facebook \nIn the 1970s\, with the swagger of unapologetic Indianness\, organizers of the American Indian Movement (AIM) fought for Native liberation and survival as a community of extended families. Through a circular Indigenous style of storytelling\, this film explores what it means to navigate a movement and motherhood and how activist legacies are passed down and transformed from generation to generation in the context of colonizing government that meets Native resistance with violence.
URL:https://www.morainepark.edu/event/warrior-women/
LOCATION:WI
CATEGORIES:Cultural Connections
END:VEVENT
BEGIN:VEVENT
DTSTART;TZID=America/Chicago:20210311T120000
DTEND;TZID=America/Chicago:20210311T130000
DTSTAMP:20260419T130719
CREATED:20201216T183620Z
LAST-MODIFIED:20201216T183620Z
UID:10003315-1615464000-1615467600@www.morainepark.edu
SUMMARY:WB: Student Senate Meeting
DESCRIPTION:12:00pm – 1:00pm in Room T-101 (Auditorium) \nYou are invited to Student Senate!  Membership requirements are minimal but meaningful.  Besides enhancing their employability skills and resumes\, members receive a ton of perks! \nFREE lunch for members and prospective members. \nJoin us.  Why? \n\nTo enhance your resume\nTo develop employability skills\nTo meet new people and make friends\nTo get involved\nTo network – on campus\, in the community and throughout the state\nTo plan and promote entertaining and educational activities and events\nTo give a voice to Moraine Park’s student body and make decisions that affect them\nTo attend leadership and programming conferences and workshops\, legislative seminars\, and state-wide student government meetings\nTo experience college life and learning beyond the classroom\nTo influence change at Moraine Park\nTo grow as a leader\, team-player and communicator\nTo learn balance\, multi-tasking and prioritization\nTo make a difference in the community by supporting\, sponsoring and leading community service projects\nTo have fun!\n\nAll students are welcome. \nFor more information\, you can contact Sandy (L 160.2) at sbotham@morainepark.edu or (262) 335-5743.
URL:https://www.morainepark.edu/event/wb-student-senate-meeting-9/2021-03-11/
LOCATION:West Bend Campus Room T-101
CATEGORIES:Student Event - West Bend
ORGANIZER;CN="Sandy Botham":MAILTO:sbotham@morainepark.edu
END:VEVENT
BEGIN:VEVENT
DTSTART;TZID=America/Chicago:20210311T153000
DTEND;TZID=America/Chicago:20210311T183000
DTSTAMP:20260419T130719
CREATED:20200514T150044Z
LAST-MODIFIED:20210113T214154Z
UID:10002603-1615476600-1615487400@www.morainepark.edu
SUMMARY:Grant Writing 101
DESCRIPTION:Know the basics about grant writing form the preplanning steps to identifying and selecting opportunities. Understand the process\, format\, content\, and submission guidelines you need to be aware of. This foundation grant writing course will get you started in the grant writing world! \n$90 per person. Price include materials.
URL:https://www.morainepark.edu/event/grant-writing-101-2/
LOCATION:Online
CATEGORIES:Business & Industry Course,Public
ORGANIZER;CN="Angela Gerlach":MAILTO:training@morainepark.edu
END:VEVENT
BEGIN:VEVENT
DTSTART;VALUE=DATE:20210312
DTEND;VALUE=DATE:20210313
DTSTAMP:20260419T130719
CREATED:20210212T163226Z
LAST-MODIFIED:20210212T224948Z
UID:10003348-1615507200-1615593599@www.morainepark.edu
SUMMARY:United Way 21 Week Equity Challenge
DESCRIPTION:The 21 Week Equity Challenge is an opportunity to develop a deeper understanding of how inequity and racism affect our lives and communities.\n\nParticipants will receive an email at the beginning of each week from Monday\, February 1st through Monday\, June 21st.\nWeekly topics take participants through a journey that starts with understanding internalized racism and explores how racism permeates person-to-person interactions\, institutions and social structures.\nThe experience is intended to deepen understanding\, suggest ways to take action\, and help launch what we hope will be a lifelong commitment to improving equity and inclusion in our communities.\n\nIndividuals are encouraged to take on the challenge themselves\, or form groups for discussion and reflection. \nFor more information or to sign up for the challenge click the link below:\nhttps://www.unitedwaywi.org/page/equity-challenge \n 
URL:https://www.morainepark.edu/event/united-way-21-week-equity-challenge/2021-03-12/
LOCATION:WI
CATEGORIES:Cultural Connections
END:VEVENT
BEGIN:VEVENT
DTSTART;TZID=America/Chicago:20210312T120000
DTEND;TZID=America/Chicago:20210312T130000
DTSTAMP:20260419T130719
CREATED:20200729T145830Z
LAST-MODIFIED:20200729T145830Z
UID:10003161-1615550400-1615554000@www.morainepark.edu
SUMMARY:District Student Government Meeting
DESCRIPTION:District Student Government (DSG) is a college-wide student governing body that meets approximately once a month in Lomira.  DSG is comprised of representatives from each campus senate. \nTo attend a DSG meeting or for more information\, contact your Student Life Specialist.
URL:https://www.morainepark.edu/event/district-student-government-meeting-6/
LOCATION:WI
CATEGORIES:Student Event,Student Event - All Campuses
ORGANIZER;CN="Lisa Manuell":MAILTO:lmanuell@morainepark.edu
END:VEVENT
BEGIN:VEVENT
DTSTART;VALUE=DATE:20210315
DTEND;VALUE=DATE:20210316
DTSTAMP:20260419T130719
CREATED:20210212T163226Z
LAST-MODIFIED:20210212T224948Z
UID:10003349-1615766400-1615852799@www.morainepark.edu
SUMMARY:United Way 21 Week Equity Challenge
DESCRIPTION:The 21 Week Equity Challenge is an opportunity to develop a deeper understanding of how inequity and racism affect our lives and communities.\n\nParticipants will receive an email at the beginning of each week from Monday\, February 1st through Monday\, June 21st.\nWeekly topics take participants through a journey that starts with understanding internalized racism and explores how racism permeates person-to-person interactions\, institutions and social structures.\nThe experience is intended to deepen understanding\, suggest ways to take action\, and help launch what we hope will be a lifelong commitment to improving equity and inclusion in our communities.\n\nIndividuals are encouraged to take on the challenge themselves\, or form groups for discussion and reflection. \nFor more information or to sign up for the challenge click the link below:\nhttps://www.unitedwaywi.org/page/equity-challenge \n 
URL:https://www.morainepark.edu/event/united-way-21-week-equity-challenge/2021-03-15/
LOCATION:WI
CATEGORIES:Cultural Connections
END:VEVENT
BEGIN:VEVENT
DTSTART;TZID=America/Chicago:20210315T113000
DTEND;TZID=America/Chicago:20210315T123000
DTSTAMP:20260419T130719
CREATED:20210224T164833Z
LAST-MODIFIED:20210224T164935Z
UID:10002780-1615807800-1615811400@www.morainepark.edu
SUMMARY:FDL: Monday Funday Snack
DESCRIPTION:Enjoy a snack and freebie.
URL:https://www.morainepark.edu/event/fdl-monday-funday-snack-3-15/
LOCATION:Fond du Lac Campus\, Commons Area\, 235 N. National Avenue\, Fond du Lac\, WI\, 54935
ORGANIZER;CN="Sam Saeger":MAILTO:ssaeger@morainepark.edu
GEO:43.785821;-88.418698
X-APPLE-STRUCTURED-LOCATION;VALUE=URI;X-ADDRESS=Fond du Lac Campus Commons Area 235 N. National Avenue Fond du Lac WI 54935;X-APPLE-RADIUS=500;X-TITLE=235 N. National Avenue:geo:-88.418698,43.785821
END:VEVENT
BEGIN:VEVENT
DTSTART;TZID=America/Chicago:20210317T100000
DTEND;TZID=America/Chicago:20210317T140000
DTSTAMP:20260419T130719
CREATED:20210111T183608Z
LAST-MODIFIED:20210309T173326Z
UID:10003333-1615975200-1615989600@www.morainepark.edu
SUMMARY:FDL: Make and Take: Architecture Signs
DESCRIPTION:Create your own keepsake! Architecture Signs are a collection of black & white photos taken from nature\, architecture and man-made objects. It’s up to you to create the combination of images that fit your word.
URL:https://www.morainepark.edu/event/fdl-make-and-take-architecture-names-2021/
LOCATION:Fond du Lac Campus\, Commons Area\, 235 N. National Avenue\, Fond du Lac\, WI\, 54935
CATEGORIES:Student Event
ORGANIZER;CN="Sam Saeger":MAILTO:ssaeger@morainepark.edu
GEO:43.785821;-88.418698
X-APPLE-STRUCTURED-LOCATION;VALUE=URI;X-ADDRESS=Fond du Lac Campus Commons Area 235 N. National Avenue Fond du Lac WI 54935;X-APPLE-RADIUS=500;X-TITLE=235 N. National Avenue:geo:-88.418698,43.785821
END:VEVENT
BEGIN:VEVENT
DTSTART;TZID=America/Chicago:20210317T110000
DTEND;TZID=America/Chicago:20210317T190000
DTSTAMP:20260419T130719
CREATED:20210317T230000Z
LAST-MODIFIED:20210302T154358Z
UID:10003403-1615978800-1616007600@www.morainepark.edu
SUMMARY:WB: St. Patrick's Day Celebrations - for day and evening students
DESCRIPTION:We’re hosting two St. Patrick’s Day Celebrations: \n11:00am – 1:00pm: Mint Ice Cream Sandwiches & guess the number of Green M& M’s in a JAR for a prize/ \n6:00pm -7:00pm: Come test your St. Patrick’s Day knowledge by stopping down the Cafe to compete in a Trivia Contest for a $50 Gift Card and more prizes!  We’ll also have FREE BILLIARDS and a FREE DINNER for everyone! \nSponsored by the West Bend Student Senate
URL:https://www.morainepark.edu/event/st-patricks-day-trivia-billiards-and-free-dinner/
LOCATION:West Bend Campus\, Commons Area
CATEGORIES:Student Event,Student Event - West Bend
ORGANIZER;CN="Sandy Botham":MAILTO:sbotham@morainepark.edu
END:VEVENT
BEGIN:VEVENT
DTSTART;TZID=America/Chicago:20210317T113000
DTEND;TZID=America/Chicago:20210317T123000
DTSTAMP:20260419T130719
CREATED:20210106T214958Z
LAST-MODIFIED:20210106T214958Z
UID:10003328-1615980600-1615984200@www.morainepark.edu
SUMMARY:BD: St. Patrick's Day Goodies
DESCRIPTION:Celebrate St. Patrick’s Day with free goodies! \nServed on a first-come\, first-served basis for students and staff. \nSponsored by the Beaver Dam Student Senate.
URL:https://www.morainepark.edu/event/bd-st-patricks-day-goodies/
LOCATION:Beaver Dam Campus\, Commons Area
CATEGORIES:Student Event,Student Event - Beaver Dam
ORGANIZER;CN="Lisa Manuell":MAILTO:lmanuell@morainepark.edu
END:VEVENT
END:VCALENDAR