BEGIN:VCALENDAR
VERSION:2.0
PRODID:-//Moraine Park Technical College - ECPv6.15.20//NONSGML v1.0//EN
CALSCALE:GREGORIAN
METHOD:PUBLISH
X-WR-CALNAME:Moraine Park Technical College
X-ORIGINAL-URL:https://www.morainepark.edu
X-WR-CALDESC:Events for Moraine Park Technical College
REFRESH-INTERVAL;VALUE=DURATION:PT1H
X-Robots-Tag:noindex
X-PUBLISHED-TTL:PT1H
BEGIN:VTIMEZONE
TZID:America/Chicago
BEGIN:DAYLIGHT
TZOFFSETFROM:-0600
TZOFFSETTO:-0500
TZNAME:CDT
DTSTART:20200308T080000
END:DAYLIGHT
BEGIN:STANDARD
TZOFFSETFROM:-0500
TZOFFSETTO:-0600
TZNAME:CST
DTSTART:20201101T070000
END:STANDARD
BEGIN:DAYLIGHT
TZOFFSETFROM:-0600
TZOFFSETTO:-0500
TZNAME:CDT
DTSTART:20210314T080000
END:DAYLIGHT
BEGIN:STANDARD
TZOFFSETFROM:-0500
TZOFFSETTO:-0600
TZNAME:CST
DTSTART:20211107T070000
END:STANDARD
BEGIN:DAYLIGHT
TZOFFSETFROM:-0600
TZOFFSETTO:-0500
TZNAME:CDT
DTSTART:20220313T080000
END:DAYLIGHT
BEGIN:STANDARD
TZOFFSETFROM:-0500
TZOFFSETTO:-0600
TZNAME:CST
DTSTART:20221106T070000
END:STANDARD
END:VTIMEZONE
BEGIN:VEVENT
DTSTART;VALUE=DATE:20210308
DTEND;VALUE=DATE:20210309
DTSTAMP:20260420T023428
CREATED:20210212T163226Z
LAST-MODIFIED:20210212T224948Z
UID:10003347-1615161600-1615247999@www.morainepark.edu
SUMMARY:United Way 21 Week Equity Challenge
DESCRIPTION:The 21 Week Equity Challenge is an opportunity to develop a deeper understanding of how inequity and racism affect our lives and communities.\n\nParticipants will receive an email at the beginning of each week from Monday\, February 1st through Monday\, June 21st.\nWeekly topics take participants through a journey that starts with understanding internalized racism and explores how racism permeates person-to-person interactions\, institutions and social structures.\nThe experience is intended to deepen understanding\, suggest ways to take action\, and help launch what we hope will be a lifelong commitment to improving equity and inclusion in our communities.\n\nIndividuals are encouraged to take on the challenge themselves\, or form groups for discussion and reflection. \nFor more information or to sign up for the challenge click the link below:\nhttps://www.unitedwaywi.org/page/equity-challenge \n 
URL:https://www.morainepark.edu/event/united-way-21-week-equity-challenge/2021-03-08/
LOCATION:WI
CATEGORIES:Cultural Connections
END:VEVENT
BEGIN:VEVENT
DTSTART;TZID=America/Chicago:20210308T113000
DTEND;TZID=America/Chicago:20210308T123000
DTSTAMP:20260420T023428
CREATED:20210302T153342Z
LAST-MODIFIED:20210302T153342Z
UID:10003392-1615203000-1615206600@www.morainepark.edu
SUMMARY:WB: BINGO with FREE Lunch (Piled high Nachos)
DESCRIPTION:Stop by the Cafe to play BINGO\, while enjoying some yummy Nachos\, for your chance to win $25 Gas Cards and $50 Visa Cards! \nSponsored by the West Bend Student Senate
URL:https://www.morainepark.edu/event/wb-bingo-with-free-lunch-piled-high-nachos/
LOCATION:West Bend Campus\, Commons Area
CATEGORIES:Student Event,Student Event - West Bend
ORGANIZER;CN="Sandy Botham":MAILTO:sbotham@morainepark.edu
END:VEVENT
BEGIN:VEVENT
DTSTART;TZID=America/Chicago:20210308T173000
DTEND;TZID=America/Chicago:20210308T213000
DTSTAMP:20260420T023428
CREATED:20200515T135837Z
LAST-MODIFIED:20210114T194929Z
UID:10003122-1615224600-1615239000@www.morainepark.edu
SUMMARY:Civility and Communications
DESCRIPTION:The construction workplace is becoming more diverse and stressful. This 4- course seeks to promote civility and equality at the work site. Students will learn about the impact of stress\, aggression\, violence\, and incivility on themselves and other workers. Awareness of non-traditional populations on the jobsite\, proper management of personnel\, well-being\, and enhanced productive communication among stakeholders will be discussed. Approved by State of WI for four hours of credit for Dwelling Contractor Qualifier. \n$50 per person. Price includes materials.
URL:https://www.morainepark.edu/event/civility-and-communications/
LOCATION:West Bend Campus\, Room S-111\, 2151 North Main Street\, West Bend\, 53090
CATEGORIES:Business & Industry Course,Public
ORGANIZER;CN="Angela Gerlach":MAILTO:training@morainepark.edu
GEO:43.4488465;-88.1899769
X-APPLE-STRUCTURED-LOCATION;VALUE=URI;X-ADDRESS=West Bend Campus Room S-111 2151 North Main Street West Bend 53090;X-APPLE-RADIUS=500;X-TITLE=2151 North Main Street:geo:-88.1899769,43.4488465
END:VEVENT
BEGIN:VEVENT
DTSTART;TZID=America/Chicago:20210309T100000
DTEND;TZID=America/Chicago:20210309T110000
DTSTAMP:20260420T023428
CREATED:20210308T173932Z
LAST-MODIFIED:20210308T174209Z
UID:10003397-1615284000-1615287600@www.morainepark.edu
SUMMARY:MPTC’s Gray Area Table Talk
DESCRIPTION:The Gray Area is MPTC’s “Red Table talk”- replacing our virtual safe talks where the Diversity Relations team will be facilitating conversations on a variety of race related issues. Bringing the conversation to a more intimate setting to enhance the value of our time together.
URL:https://www.morainepark.edu/event/mptcs-gray-area-table-talk-copy-copy/
LOCATION:BD K-305
CATEGORIES:Student Event - Beaver Dam
END:VEVENT
BEGIN:VEVENT
DTSTART;TZID=America/Chicago:20210309T110000
DTEND;TZID=America/Chicago:20210309T123000
DTSTAMP:20260420T023428
CREATED:20210330T160000Z
LAST-MODIFIED:20210226T171902Z
UID:10003410-1615287600-1615293000@www.morainepark.edu
SUMMARY:BD: Make and Take: Beaded Bracelets & Keychains
DESCRIPTION:Join the Diversity Department as we piece together goals and dreams though beading. Create a bracelet or a key chain in celebration of elevating women everywhere. \nSponsored by the Diversity Department.
URL:https://www.morainepark.edu/event/fdl-make-and-take-beaded-bracelets-keychains/
LOCATION:Beaver Dam Campus\, Commons Area
CATEGORIES:Student Event,Student Event - Beaver Dam,Student Support
ORGANIZER;CN="Kevin Rodriguez":MAILTO:krodriguez3@morainepark.edu
END:VEVENT
BEGIN:VEVENT
DTSTART;TZID=America/Chicago:20210309T110000
DTEND;TZID=America/Chicago:20210309T130000
DTSTAMP:20260420T023428
CREATED:20210224T163510Z
LAST-MODIFIED:20210224T163510Z
UID:10002778-1615287600-1615294800@www.morainepark.edu
SUMMARY:FDL: Make and Take - Bath Bombs
DESCRIPTION:The ultimate in DIY pampering! Take the opportunity to create your own relaxing bath bomb\, with your unique touches. Your take away is a personalized pampering creation!
URL:https://www.morainepark.edu/event/fdl-make-and-take-bath-bombs/
LOCATION:Fond du Lac Campus\, Commons Area\, 235 N. National Avenue\, Fond du Lac\, WI\, 54935
CATEGORIES:Student Event
ORGANIZER;CN="Sam Saeger":MAILTO:ssaeger@morainepark.edu
GEO:43.785821;-88.418698
X-APPLE-STRUCTURED-LOCATION;VALUE=URI;X-ADDRESS=Fond du Lac Campus Commons Area 235 N. National Avenue Fond du Lac WI 54935;X-APPLE-RADIUS=500;X-TITLE=235 N. National Avenue:geo:-88.418698,43.785821
END:VEVENT
END:VCALENDAR