BEGIN:VCALENDAR
VERSION:2.0
PRODID:-//Moraine Park Technical College - ECPv6.15.17.1//NONSGML v1.0//EN
CALSCALE:GREGORIAN
METHOD:PUBLISH
X-WR-CALNAME:Moraine Park Technical College
X-ORIGINAL-URL:https://www.morainepark.edu
X-WR-CALDESC:Events for Moraine Park Technical College
REFRESH-INTERVAL;VALUE=DURATION:PT1H
X-Robots-Tag:noindex
X-PUBLISHED-TTL:PT1H
BEGIN:VTIMEZONE
TZID:America/Chicago
BEGIN:DAYLIGHT
TZOFFSETFROM:-0600
TZOFFSETTO:-0500
TZNAME:CDT
DTSTART:20200308T080000
END:DAYLIGHT
BEGIN:STANDARD
TZOFFSETFROM:-0500
TZOFFSETTO:-0600
TZNAME:CST
DTSTART:20201101T070000
END:STANDARD
BEGIN:DAYLIGHT
TZOFFSETFROM:-0600
TZOFFSETTO:-0500
TZNAME:CDT
DTSTART:20210314T080000
END:DAYLIGHT
BEGIN:STANDARD
TZOFFSETFROM:-0500
TZOFFSETTO:-0600
TZNAME:CST
DTSTART:20211107T070000
END:STANDARD
BEGIN:DAYLIGHT
TZOFFSETFROM:-0600
TZOFFSETTO:-0500
TZNAME:CDT
DTSTART:20220313T080000
END:DAYLIGHT
BEGIN:STANDARD
TZOFFSETFROM:-0500
TZOFFSETTO:-0600
TZNAME:CST
DTSTART:20221106T070000
END:STANDARD
END:VTIMEZONE
BEGIN:VEVENT
DTSTART;VALUE=DATE:20210226
DTEND;VALUE=DATE:20210227
DTSTAMP:20260419T080844
CREATED:20210212T163226Z
LAST-MODIFIED:20210212T224948Z
UID:10003344-1614297600-1614383999@www.morainepark.edu
SUMMARY:United Way 21 Week Equity Challenge
DESCRIPTION:The 21 Week Equity Challenge is an opportunity to develop a deeper understanding of how inequity and racism affect our lives and communities.\n\nParticipants will receive an email at the beginning of each week from Monday\, February 1st through Monday\, June 21st.\nWeekly topics take participants through a journey that starts with understanding internalized racism and explores how racism permeates person-to-person interactions\, institutions and social structures.\nThe experience is intended to deepen understanding\, suggest ways to take action\, and help launch what we hope will be a lifelong commitment to improving equity and inclusion in our communities.\n\nIndividuals are encouraged to take on the challenge themselves\, or form groups for discussion and reflection. \nFor more information or to sign up for the challenge click the link below:\nhttps://www.unitedwaywi.org/page/equity-challenge \n 
URL:https://www.morainepark.edu/event/united-way-21-week-equity-challenge/2021-02-26/
CATEGORIES:Cultural Connections
END:VEVENT
BEGIN:VEVENT
DTSTART;TZID=America/Chicago:20210226T173000
DTEND;TZID=America/Chicago:20210226T190000
DTSTAMP:20260419T080844
CREATED:20210226T031046Z
LAST-MODIFIED:20210226T170842Z
UID:10002797-1614360600-1614366000@www.morainepark.edu
SUMMARY:Grand Canyon University College of Business Virtual Event: Hospitality Spotlight
DESCRIPTION:CCOB VIRTUAL HOSPITALITY SPOTLIGHT\n\nAttention all future travelers\, resort leaders and restaurant entrepreneurs! If you are interested in a career in hospitality\, join us for GCU’s Colangelo College of Business Virtual Hospitality Informational Event on Feb. 26!\n\nHear directly from GCU’s hospitality program director\, the GCU Hotel general manager and other amazing industry guest speakers. Learn about the hospitality program\, tour the GCU Hotel and the Canyon 49 Grill and preview a multitude of career fields in the hospitality industry. The night will conclude with a Q&A session with industry experts. \nSpots are limited\, so RSVP today! \nREGISTER TODAY \nQuestions? Reach out to steve.thomas@gcu.edu for more information. \n\nParticipation in these events in no way requires a commitment to GCU. This is an opportunity for business students to learn more about the business industry.
URL:https://www.morainepark.edu/event/grand-canyon-university-college-of-business-virtual-event-2-26/
LOCATION:Virtual
CATEGORIES:Public,Student Event,Student Event - All Campuses
END:VEVENT
BEGIN:VEVENT
DTSTART;TZID=America/Chicago:20210227T080000
DTEND;TZID=America/Chicago:20210227T114500
DTSTAMP:20260419T080844
CREATED:20200514T190026Z
LAST-MODIFIED:20210114T155419Z
UID:10003096-1614412800-1614426300@www.morainepark.edu
SUMMARY:Welding Processes GMAW Workshop II
DESCRIPTION:Take your welding skills to the next level in this workshop. Advance your skills and incorporate new metals and thicknesses.  Students develop advanced welding techniques and receive instruction to give your welds a more professional appearance. We will also cover plasma cutting. Other welding processes may be explored with the permission of the instructor. PREREQUISITE: Gas Metal Arc Welding Workshop I. \nThis class meets Saturdays\, February 27\, March 6\, 13 and 20\, 2021. \n$169 per person.
URL:https://www.morainepark.edu/event/welding-processes-gmaw-workshop-ii-2/
LOCATION:Fond du Lac Campus\, Room E-156\, 235 N National Ave \, Fond du Lac \, 54935
CATEGORIES:Business & Industry Course,Public
ORGANIZER;CN="Angela Gerlach":MAILTO:training@morainepark.edu
GEO:43.785195;-88.4178935
X-APPLE-STRUCTURED-LOCATION;VALUE=URI;X-ADDRESS=Fond du Lac Campus Room E-156 235 N National Ave  Fond du Lac  54935;X-APPLE-RADIUS=500;X-TITLE=235 N National Ave:geo:-88.4178935,43.785195
END:VEVENT
BEGIN:VEVENT
DTSTART;TZID=America/Chicago:20210227T083000
DTEND;TZID=America/Chicago:20210227T113000
DTSTAMP:20260419T080844
CREATED:20200514T142251Z
LAST-MODIFIED:20210113T213942Z
UID:10002596-1614414600-1614425400@www.morainepark.edu
SUMMARY:QuickBooks Desktop Basics
DESCRIPTION:This is a brief introductory course that covers the basic concepts of QuickBooks. It also reviews fundamental accounting concepts. The key features you will learn are managing QuickBook files\, working with customer and vendor transactions\, banking with QuickBooks\, planning and creating a new company\, and opening of balances and balance sheet reports. \nThis class meets Saturdays\, February 27 – March 20\, 2021 \n$139 per person. Price includes materials.
URL:https://www.morainepark.edu/event/quickbooks-desktop-basics-3/
LOCATION:West Bend Campus\, Room T-105\, 2151 N Main St\, West Bend\, 53090
CATEGORIES:Business & Industry Course,Public
ORGANIZER;CN="Angela Gerlach":MAILTO:training@morainepark.edu
END:VEVENT
BEGIN:VEVENT
DTSTART;VALUE=DATE:20210301
DTEND;VALUE=DATE:20210302
DTSTAMP:20260419T080844
CREATED:20210212T163226Z
LAST-MODIFIED:20210212T224948Z
UID:10003345-1614556800-1614643199@www.morainepark.edu
SUMMARY:United Way 21 Week Equity Challenge
DESCRIPTION:The 21 Week Equity Challenge is an opportunity to develop a deeper understanding of how inequity and racism affect our lives and communities.\n\nParticipants will receive an email at the beginning of each week from Monday\, February 1st through Monday\, June 21st.\nWeekly topics take participants through a journey that starts with understanding internalized racism and explores how racism permeates person-to-person interactions\, institutions and social structures.\nThe experience is intended to deepen understanding\, suggest ways to take action\, and help launch what we hope will be a lifelong commitment to improving equity and inclusion in our communities.\n\nIndividuals are encouraged to take on the challenge themselves\, or form groups for discussion and reflection. \nFor more information or to sign up for the challenge click the link below:\nhttps://www.unitedwaywi.org/page/equity-challenge \n 
URL:https://www.morainepark.edu/event/united-way-21-week-equity-challenge/2021-03-01/
CATEGORIES:Cultural Connections
END:VEVENT
BEGIN:VEVENT
DTSTART;TZID=America/Chicago:20210302T110000
DTEND;TZID=America/Chicago:20210302T140000
DTSTAMP:20260419T080844
CREATED:20210106T181034Z
LAST-MODIFIED:20210106T181034Z
UID:10003320-1614682800-1614693600@www.morainepark.edu
SUMMARY:WB: Doug's Wire Art Make & Take
DESCRIPTION:11:00am – 2:00pm in Commons \nDoug’s Wire Art is a unique craft form in which a single piece of wire is creatively bent into any requested shape — names\, phrases\, titles\, symbols\, etc. \nFree for students with an ID\, Staff – $1 \nSponsored by the West Bend Student Senate
URL:https://www.morainepark.edu/event/wb-dougs-wire-art-make-take/
LOCATION:West Bend Campus\, Commons Area
CATEGORIES:Student Event,Student Event - West Bend
ORGANIZER;CN="Sandy Botham":MAILTO:sbotham@morainepark.edu
END:VEVENT
BEGIN:VEVENT
DTSTART;TZID=America/Chicago:20210302T173000
DTEND;TZID=America/Chicago:20210302T210000
DTSTAMP:20260419T080844
CREATED:20200513T202208Z
LAST-MODIFIED:20210113T211105Z
UID:10003003-1614706200-1614718800@www.morainepark.edu
SUMMARY:Microsoft Excel Level 3 Professional Series
DESCRIPTION:This course provides more complex skills than those presented in our Level 1 and Level 2 courses\, but with the same proven instructional design. This is an advanced course that will challenge students. \nTopics introduced include PivotTables and macros\, financial functions\, data analysis\, auditing and additional functions\, advanced formatting and analysis tools\, collaboration\, and more. \nThis class meets Tuesdays\, March 2 & 9\, 2021 \n$159 per person. Price includes materials.
URL:https://www.morainepark.edu/event/microsoft-excel-level-3-professional-series-4/
LOCATION:West Bend Campus\, Room L-114\, 2151 North Main Street \, West Bend \, WI\, 53090\, United States
CATEGORIES:Business & Industry Course,Public
ORGANIZER;CN="Angela Gerlach":MAILTO:training@morainepark.edu
GEO:43.449031;-88.1897687
X-APPLE-STRUCTURED-LOCATION;VALUE=URI;X-ADDRESS=West Bend Campus Room L-114 2151 North Main Street  West Bend  WI 53090 United States;X-APPLE-RADIUS=500;X-TITLE=2151 North Main Street:geo:-88.1897687,43.449031
END:VEVENT
BEGIN:VEVENT
DTSTART;TZID=America/Chicago:20210303T110000
DTEND;TZID=America/Chicago:20210303T133000
DTSTAMP:20260419T080844
CREATED:20210106T214731Z
LAST-MODIFIED:20210106T214731Z
UID:10003327-1614769200-1614778200@www.morainepark.edu
SUMMARY:BD: Make 'n Take - Wire Writing
DESCRIPTION:A single piece of wire is magically bent into any requested shape or word\, and it only takes minutes to create a finished product!  Stop by for your own one-of-a-kind work of art! \nFree for students and staff.  Available on a first-come\, first-served basis. \nSponsored by the Beaver Dam Student Senate.
URL:https://www.morainepark.edu/event/bd-make-n-take-wire-writing/
LOCATION:Beaver Dam Campus\, Commons Area
CATEGORIES:Student Event,Student Event - Beaver Dam
ORGANIZER;CN="Lisa Manuell":MAILTO:lmanuell@morainepark.edu
END:VEVENT
END:VCALENDAR