BEGIN:VCALENDAR
VERSION:2.0
PRODID:-//Moraine Park Technical College - ECPv6.15.17.1//NONSGML v1.0//EN
CALSCALE:GREGORIAN
METHOD:PUBLISH
X-WR-CALNAME:Moraine Park Technical College
X-ORIGINAL-URL:https://www.morainepark.edu
X-WR-CALDESC:Events for Moraine Park Technical College
REFRESH-INTERVAL;VALUE=DURATION:PT1H
X-Robots-Tag:noindex
X-PUBLISHED-TTL:PT1H
BEGIN:VTIMEZONE
TZID:America/Chicago
BEGIN:DAYLIGHT
TZOFFSETFROM:-0600
TZOFFSETTO:-0500
TZNAME:CDT
DTSTART:20200308T080000
END:DAYLIGHT
BEGIN:STANDARD
TZOFFSETFROM:-0500
TZOFFSETTO:-0600
TZNAME:CST
DTSTART:20201101T070000
END:STANDARD
BEGIN:DAYLIGHT
TZOFFSETFROM:-0600
TZOFFSETTO:-0500
TZNAME:CDT
DTSTART:20210314T080000
END:DAYLIGHT
BEGIN:STANDARD
TZOFFSETFROM:-0500
TZOFFSETTO:-0600
TZNAME:CST
DTSTART:20211107T070000
END:STANDARD
BEGIN:DAYLIGHT
TZOFFSETFROM:-0600
TZOFFSETTO:-0500
TZNAME:CDT
DTSTART:20220313T080000
END:DAYLIGHT
BEGIN:STANDARD
TZOFFSETFROM:-0500
TZOFFSETTO:-0600
TZNAME:CST
DTSTART:20221106T070000
END:STANDARD
END:VTIMEZONE
BEGIN:VEVENT
DTSTART;VALUE=DATE:20210108
DTEND;VALUE=DATE:20210109
DTSTAMP:20260419T113139
CREATED:20200729T163227Z
LAST-MODIFIED:20200729T163227Z
UID:10003169-1610064000-1610150399@www.morainepark.edu
SUMMARY:Wisconsin Student Government Meeting
DESCRIPTION:Wisconsin Student Government’s (WSG) mission is to represent\, promote\, advocate\, and protect the interests of the technical colleges and their students.  Students who participate create a positive and active network amongst the 16 technical colleges in the state.  Opportunities are provided to develop leadership skills. \nWSG is comprised of representatives from each of Wisconsin’s 16 technical colleges\, and the group meets approximately five times a year throughout the state. \nTo attend a WSG meeting\, contact your Student Life Specialist. \nFor more information about WSG\, visit https://wsgtech.com/
URL:https://www.morainepark.edu/event/wisconsin-student-government-meeting-4/
CATEGORIES:Student Event,Student Event - All Campuses
ORGANIZER;CN="Lisa Manuell":MAILTO:lmanuell@morainepark.edu
END:VEVENT
BEGIN:VEVENT
DTSTART;TZID=America/Chicago:20210114T150000
DTEND;TZID=America/Chicago:20210114T160000
DTSTAMP:20260419T113139
CREATED:20200928T205837Z
LAST-MODIFIED:20200928T205837Z
UID:10003277-1610636400-1610640000@www.morainepark.edu
SUMMARY:Honoring Ways of Knowing for Biocultural Restoration and Resilience in the Face of Climate Change
DESCRIPTION:Campus Compact’s National Webinar series returns for 2020-2021 with more to support and inspire you. Topics touch on issues of relevance to faculty\, staff\, students\, and their partners in education and community building. Be sure to tune to each session for information\, tools\, and resources to help you in your work. \nHonoring Ways of Knowing for Biocultural Restoration and Resilience in the Face of Climate Change
URL:https://www.morainepark.edu/event/honoring-ways-of-knowing-for-biocultural-restoration-and-resilience-in-the-face-of-climate-change/
CATEGORIES:Cultural Connections,Student Support
END:VEVENT
BEGIN:VEVENT
DTSTART;TZID=America/Chicago:20210120T170000
DTEND;TZID=America/Chicago:20210120T190000
DTSTAMP:20260419T113139
CREATED:20210120T164302Z
LAST-MODIFIED:20210120T164349Z
UID:10002765-1611162000-1611169200@www.morainepark.edu
SUMMARY:District Board Meeting
DESCRIPTION:Click here to view the agenda \nA Skype teleconference option is available for anyone wishing to join/listen in to the meeting remotely: \nSkype Meeting Information \nJoin Skype Meeting Online \nPhone: (920) 924-3400 \nConference ID: 156261
URL:https://www.morainepark.edu/event/district-board-meeting-january-2021/
LOCATION:West Bend Campus\, Room T-101\, 2151 N. Main Street\, West Bend\, WI\, 53090\, United States
CATEGORIES:Public
GEO:43.4485525;-88.1899928
X-APPLE-STRUCTURED-LOCATION;VALUE=URI;X-ADDRESS=West Bend Campus Room T-101 2151 N. Main Street West Bend WI 53090 United States;X-APPLE-RADIUS=500;X-TITLE=2151 N. Main Street:geo:-88.1899928,43.4485525
END:VEVENT
END:VCALENDAR