BEGIN:VCALENDAR
VERSION:2.0
PRODID:-//Moraine Park Technical College - ECPv6.15.20//NONSGML v1.0//EN
CALSCALE:GREGORIAN
METHOD:PUBLISH
X-WR-CALNAME:Moraine Park Technical College
X-ORIGINAL-URL:https://www.morainepark.edu
X-WR-CALDESC:Events for Moraine Park Technical College
REFRESH-INTERVAL;VALUE=DURATION:PT1H
X-Robots-Tag:noindex
X-PUBLISHED-TTL:PT1H
BEGIN:VTIMEZONE
TZID:America/Chicago
BEGIN:DAYLIGHT
TZOFFSETFROM:-0600
TZOFFSETTO:-0500
TZNAME:CDT
DTSTART:20200308T080000
END:DAYLIGHT
BEGIN:STANDARD
TZOFFSETFROM:-0500
TZOFFSETTO:-0600
TZNAME:CST
DTSTART:20201101T070000
END:STANDARD
BEGIN:DAYLIGHT
TZOFFSETFROM:-0600
TZOFFSETTO:-0500
TZNAME:CDT
DTSTART:20210314T080000
END:DAYLIGHT
BEGIN:STANDARD
TZOFFSETFROM:-0500
TZOFFSETTO:-0600
TZNAME:CST
DTSTART:20211107T070000
END:STANDARD
BEGIN:DAYLIGHT
TZOFFSETFROM:-0600
TZOFFSETTO:-0500
TZNAME:CDT
DTSTART:20220313T080000
END:DAYLIGHT
BEGIN:STANDARD
TZOFFSETFROM:-0500
TZOFFSETTO:-0600
TZNAME:CST
DTSTART:20221106T070000
END:STANDARD
END:VTIMEZONE
BEGIN:VEVENT
DTSTART;TZID=America/Chicago:20211215T170000
DTEND;TZID=America/Chicago:20211215T190000
DTSTAMP:20260420T174534
CREATED:20211215T150251Z
LAST-MODIFIED:20211215T150251Z
UID:10004008-1639587600-1639594800@www.morainepark.edu
SUMMARY:District Board Meeting
DESCRIPTION:Click Here to View the Agenda \n  \nPhone Listening Option: \nPhone: (414) 662-4790 \nConference ID: 515 397 953#
URL:https://www.morainepark.edu/event/district-board-meeting-december-2021/
LOCATION:Fond du Lac Campus\, Room A-112\, 235 N. National Avenue\, Fond du Lac\, WI\, 54935
CATEGORIES:Public
GEO:43.785821;-88.418698
X-APPLE-STRUCTURED-LOCATION;VALUE=URI;X-ADDRESS=Fond du Lac Campus Room A-112 235 N. National Avenue Fond du Lac WI 54935;X-APPLE-RADIUS=500;X-TITLE=235 N. National Avenue:geo:-88.418698,43.785821
END:VEVENT
BEGIN:VEVENT
DTSTART;VALUE=DATE:20211216
DTEND;VALUE=DATE:20211217
DTSTAMP:20260420T174534
CREATED:20211130T155244Z
LAST-MODIFIED:20211130T155244Z
UID:10003740-1639612800-1639699199@www.morainepark.edu
SUMMARY:Gas Utility Club: Christmas in a Shoebox
DESCRIPTION:Buy items to fill a “Shoebox”-sized box (children ages 1-4\, 5-7\, and 8+) \nItem ideas: toys\, personal hygiene products\, winter supplies\, etc. \nReturn filled box to the Gas Utility Classroom K-501 (Beaver Dam Campus) \nContact Steve Logan with questions: 920-887-4411 \nDonations due by December 10
URL:https://www.morainepark.edu/event/gas-utility-club-christmas-in-a-shoebox/2021-12-16/
CATEGORIES:Club Happenings
ORGANIZER;CN="Lisa Manuell":MAILTO:lmanuell@morainepark.edu
END:VEVENT
BEGIN:VEVENT
DTSTART;TZID=America/Chicago:20211216T170000
DTEND;TZID=America/Chicago:20211216T200000
DTSTAMP:20260420T174534
CREATED:20211116T141834Z
LAST-MODIFIED:20211130T142521Z
UID:10002961-1639674000-1639684800@www.morainepark.edu
SUMMARY:FDL: Holiday Party
DESCRIPTION:The weather outside is frightful\, but inside\, it will be delightful!  Join us for some holiday cheer at the Fond du Lac Holiday Party!  This FREE family-friendly event is for current MPTC students\, employees\, AND their families! \nEnjoy a spaghetti dinner\, kids games and activities\, balloon twisting\, Christmas cookie decorating\, facepainting\, live entertainment by the Fond du Lac High School Cardinal Singers\, and a chance to meet Santa and Mrs. Claus! \nDinner is served at 5:00PM with Holiday festivities beginning at 6:00PM. \nReservations ARE required for this event.  Sign-up outside the Fond du Lac Student Life Office (A102.10) or email Lucas at lnieman@morainepark.edu by Thursday\, December 9th!  Please include the number of adults and children attending.
URL:https://www.morainepark.edu/event/fdl-holiday-party/
LOCATION:Fond du Lac Campus\, Commons Area\, 235 N. National Avenue\, Fond du Lac\, WI\, 54935
CATEGORIES:Student Event
ORGANIZER;CN="Lucas Nieman":MAILTO:lnieman@morainepark.edu
GEO:43.785821;-88.418698
X-APPLE-STRUCTURED-LOCATION;VALUE=URI;X-ADDRESS=Fond du Lac Campus Commons Area 235 N. National Avenue Fond du Lac WI 54935;X-APPLE-RADIUS=500;X-TITLE=235 N. National Avenue:geo:-88.418698,43.785821
END:VEVENT
BEGIN:VEVENT
DTSTART;VALUE=DATE:20211218
DTEND;VALUE=DATE:20211219
DTSTAMP:20260420T174534
CREATED:20211130T155244Z
LAST-MODIFIED:20211130T155244Z
UID:10003741-1639785600-1639871999@www.morainepark.edu
SUMMARY:Gas Utility Club: Christmas in a Shoebox
DESCRIPTION:Buy items to fill a “Shoebox”-sized box (children ages 1-4\, 5-7\, and 8+) \nItem ideas: toys\, personal hygiene products\, winter supplies\, etc. \nReturn filled box to the Gas Utility Classroom K-501 (Beaver Dam Campus) \nContact Steve Logan with questions: 920-887-4411 \nDonations due by December 10
URL:https://www.morainepark.edu/event/gas-utility-club-christmas-in-a-shoebox/2021-12-18/
CATEGORIES:Club Happenings
ORGANIZER;CN="Lisa Manuell":MAILTO:lmanuell@morainepark.edu
END:VEVENT
BEGIN:VEVENT
DTSTART;VALUE=DATE:20211220
DTEND;VALUE=DATE:20211221
DTSTAMP:20260420T174534
CREATED:20211130T155244Z
LAST-MODIFIED:20211130T155244Z
UID:10003742-1639958400-1640044799@www.morainepark.edu
SUMMARY:Gas Utility Club: Christmas in a Shoebox
DESCRIPTION:Buy items to fill a “Shoebox”-sized box (children ages 1-4\, 5-7\, and 8+) \nItem ideas: toys\, personal hygiene products\, winter supplies\, etc. \nReturn filled box to the Gas Utility Classroom K-501 (Beaver Dam Campus) \nContact Steve Logan with questions: 920-887-4411 \nDonations due by December 10
URL:https://www.morainepark.edu/event/gas-utility-club-christmas-in-a-shoebox/2021-12-20/
CATEGORIES:Club Happenings
ORGANIZER;CN="Lisa Manuell":MAILTO:lmanuell@morainepark.edu
END:VEVENT
BEGIN:VEVENT
DTSTART;VALUE=DATE:20211220
DTEND;VALUE=DATE:20211221
DTSTAMP:20260420T174534
CREATED:20211101T213910Z
LAST-MODIFIED:20211101T213910Z
UID:10003570-1639958400-1640044799@www.morainepark.edu
SUMMARY:BD: Ornament Sale - Weld Club Fundraiser
DESCRIPTION:Support the Welding Club with their Fundraiser! \nSnowman ornaments are $5 each\nStands are $10 each\nPay cash or check in the Library. All orders are due by December 3rd.\nPick up on December 10th.\nEmail Andrew Luby for questions or to place orders:\naluby@morainepark.edu
URL:https://www.morainepark.edu/event/bd-ornament-sale-weld-club-fundraiser/2021-12-20/
LOCATION:Beaver Dam
CATEGORIES:Club Happenings
ORGANIZER;CN="Lisa Manuell":MAILTO:lmanuell@morainepark.edu
END:VEVENT
BEGIN:VEVENT
DTSTART;VALUE=DATE:20211222
DTEND;VALUE=DATE:20211223
DTSTAMP:20260420T174534
CREATED:20211130T155244Z
LAST-MODIFIED:20211130T155244Z
UID:10003743-1640131200-1640217599@www.morainepark.edu
SUMMARY:Gas Utility Club: Christmas in a Shoebox
DESCRIPTION:Buy items to fill a “Shoebox”-sized box (children ages 1-4\, 5-7\, and 8+) \nItem ideas: toys\, personal hygiene products\, winter supplies\, etc. \nReturn filled box to the Gas Utility Classroom K-501 (Beaver Dam Campus) \nContact Steve Logan with questions: 920-887-4411 \nDonations due by December 10
URL:https://www.morainepark.edu/event/gas-utility-club-christmas-in-a-shoebox/2021-12-22/
CATEGORIES:Club Happenings
ORGANIZER;CN="Lisa Manuell":MAILTO:lmanuell@morainepark.edu
END:VEVENT
BEGIN:VEVENT
DTSTART;VALUE=DATE:20211222
DTEND;VALUE=DATE:20211223
DTSTAMP:20260420T174534
CREATED:20211101T213910Z
LAST-MODIFIED:20211101T213910Z
UID:10003571-1640131200-1640217599@www.morainepark.edu
SUMMARY:BD: Ornament Sale - Weld Club Fundraiser
DESCRIPTION:Support the Welding Club with their Fundraiser! \nSnowman ornaments are $5 each\nStands are $10 each\nPay cash or check in the Library. All orders are due by December 3rd.\nPick up on December 10th.\nEmail Andrew Luby for questions or to place orders:\naluby@morainepark.edu
URL:https://www.morainepark.edu/event/bd-ornament-sale-weld-club-fundraiser/2021-12-22/
LOCATION:Beaver Dam
CATEGORIES:Club Happenings
ORGANIZER;CN="Lisa Manuell":MAILTO:lmanuell@morainepark.edu
END:VEVENT
END:VCALENDAR