BEGIN:VCALENDAR
VERSION:2.0
PRODID:-//Moraine Park Technical College - ECPv6.15.20//NONSGML v1.0//EN
CALSCALE:GREGORIAN
METHOD:PUBLISH
X-WR-CALNAME:Moraine Park Technical College
X-ORIGINAL-URL:https://www.morainepark.edu
X-WR-CALDESC:Events for Moraine Park Technical College
REFRESH-INTERVAL;VALUE=DURATION:PT1H
X-Robots-Tag:noindex
X-PUBLISHED-TTL:PT1H
BEGIN:VTIMEZONE
TZID:America/Chicago
BEGIN:DAYLIGHT
TZOFFSETFROM:-0600
TZOFFSETTO:-0500
TZNAME:CDT
DTSTART:20250309T080000
END:DAYLIGHT
BEGIN:STANDARD
TZOFFSETFROM:-0500
TZOFFSETTO:-0600
TZNAME:CST
DTSTART:20251102T070000
END:STANDARD
BEGIN:DAYLIGHT
TZOFFSETFROM:-0600
TZOFFSETTO:-0500
TZNAME:CDT
DTSTART:20260308T080000
END:DAYLIGHT
BEGIN:STANDARD
TZOFFSETFROM:-0500
TZOFFSETTO:-0600
TZNAME:CST
DTSTART:20261101T070000
END:STANDARD
BEGIN:DAYLIGHT
TZOFFSETFROM:-0600
TZOFFSETTO:-0500
TZNAME:CDT
DTSTART:20270314T080000
END:DAYLIGHT
BEGIN:STANDARD
TZOFFSETFROM:-0500
TZOFFSETTO:-0600
TZNAME:CST
DTSTART:20271107T070000
END:STANDARD
END:VTIMEZONE
BEGIN:VEVENT
DTSTART;TZID=America/Chicago:20260506T110000
DTEND;TZID=America/Chicago:20260506T130000
DTSTAMP:20260423T055413
CREATED:20260422T203954Z
LAST-MODIFIED:20260422T203954Z
UID:10005690-1778065200-1778072400@www.morainepark.edu
SUMMARY:BD: End of Semester Care Package
DESCRIPTION:The end of the semester is here! The 2025-2026 Academic Year is in the books. Stop in the commons and pick\nup a care package for current students from the Beaver Dam Student Senate. \nA little something to help you make the final push and finish the semester and\, year strong.
URL:https://www.morainepark.edu/event/bd-end-of-semester-care-package/
LOCATION:Beaver Dam Cafeteria
CATEGORIES:Student Event,Student Event - Beaver Dam
ORGANIZER;CN="Robert Burtley":MAILTO:rburtley@morainepark.edu
END:VEVENT
END:VCALENDAR