BEGIN:VCALENDAR
VERSION:2.0
PRODID:-//Moraine Park Technical College - ECPv6.15.20//NONSGML v1.0//EN
CALSCALE:GREGORIAN
METHOD:PUBLISH
X-ORIGINAL-URL:https://www.morainepark.edu
X-WR-CALDESC:Events for Moraine Park Technical College
REFRESH-INTERVAL;VALUE=DURATION:PT1H
X-Robots-Tag:noindex
X-PUBLISHED-TTL:PT1H
BEGIN:VTIMEZONE
TZID:America/Chicago
BEGIN:DAYLIGHT
TZOFFSETFROM:-0600
TZOFFSETTO:-0500
TZNAME:CDT
DTSTART:20190310T080000
END:DAYLIGHT
BEGIN:STANDARD
TZOFFSETFROM:-0500
TZOFFSETTO:-0600
TZNAME:CST
DTSTART:20191103T070000
END:STANDARD
BEGIN:DAYLIGHT
TZOFFSETFROM:-0600
TZOFFSETTO:-0500
TZNAME:CDT
DTSTART:20200308T080000
END:DAYLIGHT
BEGIN:STANDARD
TZOFFSETFROM:-0500
TZOFFSETTO:-0600
TZNAME:CST
DTSTART:20201101T070000
END:STANDARD
BEGIN:DAYLIGHT
TZOFFSETFROM:-0600
TZOFFSETTO:-0500
TZNAME:CDT
DTSTART:20210314T080000
END:DAYLIGHT
BEGIN:STANDARD
TZOFFSETFROM:-0500
TZOFFSETTO:-0600
TZNAME:CST
DTSTART:20211107T070000
END:STANDARD
END:VTIMEZONE
BEGIN:VEVENT
DTSTART;TZID=America/Chicago:20200911T113000
DTEND;TZID=America/Chicago:20200911T123000
DTSTAMP:20260424T082926
CREATED:20200910T142312Z
LAST-MODIFIED:20200910T142312Z
UID:10003256-1599823800-1599827400@www.morainepark.edu
SUMMARY:Patriot Day Recognition
DESCRIPTION:Moraine Park’s Student Veteran Specialist will be handing out Patriot Day pins to honor those who lost their lives during the September 11th attacks.  The first 75 individuals to visit the 9/11 memorial outside the Commons area will receive a commemorative pin. \nThe first 25 individuals from Beaver Dam and West Bend to email Steve Pepper on Friday (subject: Patriot Day) will also receive a pin. \nSocial Distancing rules apply.
URL:https://www.morainepark.edu/event/patriot-day-recognition/
LOCATION:Fond du Lac Campus\, Commons Area\, 235 N. National Avenue\, Fond du Lac\, WI\, 54935
CATEGORIES:Student Event,Student Event - All Campuses
ORGANIZER;CN="Steve Pepper":MAILTO:spepper1@morainepark.edu
GEO:43.785821;-88.418698
X-APPLE-STRUCTURED-LOCATION;VALUE=URI;X-ADDRESS=Fond du Lac Campus Commons Area 235 N. National Avenue Fond du Lac WI 54935;X-APPLE-RADIUS=500;X-TITLE=235 N. National Avenue:geo:-88.418698,43.785821
END:VEVENT
END:VCALENDAR