BEGIN:VCALENDAR
VERSION:2.0
PRODID:-//Moraine Park Technical College - ECPv6.15.20//NONSGML v1.0//EN
CALSCALE:GREGORIAN
METHOD:PUBLISH
X-ORIGINAL-URL:https://www.morainepark.edu
X-WR-CALDESC:Events for Moraine Park Technical College
REFRESH-INTERVAL;VALUE=DURATION:PT1H
X-Robots-Tag:noindex
X-PUBLISHED-TTL:PT1H
BEGIN:VTIMEZONE
TZID:America/Chicago
BEGIN:DAYLIGHT
TZOFFSETFROM:-0600
TZOFFSETTO:-0500
TZNAME:CDT
DTSTART:20240310T080000
END:DAYLIGHT
BEGIN:STANDARD
TZOFFSETFROM:-0500
TZOFFSETTO:-0600
TZNAME:CST
DTSTART:20241103T070000
END:STANDARD
BEGIN:DAYLIGHT
TZOFFSETFROM:-0600
TZOFFSETTO:-0500
TZNAME:CDT
DTSTART:20250309T080000
END:DAYLIGHT
BEGIN:STANDARD
TZOFFSETFROM:-0500
TZOFFSETTO:-0600
TZNAME:CST
DTSTART:20251102T070000
END:STANDARD
BEGIN:DAYLIGHT
TZOFFSETFROM:-0600
TZOFFSETTO:-0500
TZNAME:CDT
DTSTART:20260308T080000
END:DAYLIGHT
BEGIN:STANDARD
TZOFFSETFROM:-0500
TZOFFSETTO:-0600
TZNAME:CST
DTSTART:20261101T070000
END:STANDARD
BEGIN:DAYLIGHT
TZOFFSETFROM:-0600
TZOFFSETTO:-0500
TZNAME:CDT
DTSTART:20270314T080000
END:DAYLIGHT
BEGIN:STANDARD
TZOFFSETFROM:-0500
TZOFFSETTO:-0600
TZNAME:CST
DTSTART:20271107T070000
END:STANDARD
END:VTIMEZONE
BEGIN:VEVENT
DTSTART;TZID=America/Chicago:20251204T183000
DTEND;TZID=America/Chicago:20251204T193000
DTSTAMP:20260419T162321
CREATED:20250724T151026Z
LAST-MODIFIED:20250724T151026Z
UID:10005601-1764873000-1764876600@www.morainepark.edu
SUMMARY:Virtual Bingo
DESCRIPTION:Everyone loves to play BINGO\, and now you can experience the same in-person game show you know and love\, accessed virtually! Play from your phone or mobile device. \nGUARANTEED TO GIVE OUT $300 IN AMAZON GIFT CODES! \nClick on the link to login/set up your Free Twitch account and then join @6:30 CST here: https://micdropproductions.com/morainepark \nSponsored by Beaver Dam\, Fond du Lac\, and West Bend Student Senates
URL:https://www.morainepark.edu/event/virtual-bingo-4/
CATEGORIES:Student Event,Student Event - All Campuses
ORGANIZER;CN="Brittany Schmidt":MAILTO:bschmidt86@morainpark.edu
END:VEVENT
BEGIN:VEVENT
DTSTART;VALUE=DATE:20260203
DTEND;VALUE=DATE:20260228
DTSTAMP:20260419T162321
CREATED:20260203T171047Z
LAST-MODIFIED:20260203T171858Z
UID:10005665-1770076800-1772236799@www.morainepark.edu
SUMMARY:Black History Museum
DESCRIPTION:Black History Museum: Celebrate Black brilliance! Dive into powerful stories\, groundbreaking contributions\, and vibrant culture at our Traveling Black History Museum. Join the excitement! \nFond du Lac – Outside Library\, 2/2 – 2/13 \nWest Bed – Outside Library\, 2/16 – 2/20 \nBeaver Dam – Main Lobby (J1 Lobby)\, 2/23 – 2/27 \n \n 
URL:https://www.morainepark.edu/event/black-history-museum/
CATEGORIES:Student Event,Student Event - All Campuses,Student Event - Fond du Lac,Student Support
ORGANIZER;CN="Rich Givens":MAILTO:rgivens@morainepark.edu
END:VEVENT
BEGIN:VEVENT
DTSTART;TZID=America/Chicago:20260212T183000
DTEND;TZID=America/Chicago:20260212T193000
DTSTAMP:20260419T162321
CREATED:20250724T151421Z
LAST-MODIFIED:20250724T151421Z
UID:10005604-1770921000-1770924600@www.morainepark.edu
SUMMARY:Virtual Trivia Stream
DESCRIPTION:It’s the Trivia game show experience that you know and love\, accessed virtually! Play from your phone or mobile device. As a question is asked\, the quicker you answer\, the more points you get! Better yet\, we have increased the prize package amount! \nGUARANTEED TO GIVE OUT $300 IN AMAZON GIFT CODES! \nClick on the link to login/set up your Free Twitch account and then join @6:30 CST: https://triviastreamgameshow.com/morainepark \nSponsored by Beaver Dam\, Fond du Lac\, and West Bend Student Senates
URL:https://www.morainepark.edu/event/virtual-trivia-stream-5/
CATEGORIES:Student Event,Student Event - All Campuses
ORGANIZER;CN="Brittany Schmidt":MAILTO:bschmidt86@morainpark.edu
END:VEVENT
BEGIN:VEVENT
DTSTART;TZID=America/Chicago:20260331T110000
DTEND;TZID=America/Chicago:20260331T120000
DTSTAMP:20260419T162321
CREATED:20260304T162146Z
LAST-MODIFIED:20260304T170306Z
UID:10005680-1774954800-1774958400@www.morainepark.edu
SUMMARY:Pottery and Podcast
DESCRIPTION:Join us to paint pottery while listening to a podcast on a current topic\, blending creativity and conversation in a relaxed\, engaging atmosphere.  \n\nFond du Lac on March 31 from 11 am to noon in the cafeteria\nWest Bend on March 31 from 11 am to noon in the cafeteria
URL:https://www.morainepark.edu/event/pottery-and-podcast/
CATEGORIES:Student Event,Student Event - All Campuses,Student Event - Beaver Dam,Student Event - Fond du Lac,Student Event - West Bend,Student Support
END:VEVENT
BEGIN:VEVENT
DTSTART;TZID=America/Chicago:20260408T110000
DTEND;TZID=America/Chicago:20260408T120000
DTSTAMP:20260419T162321
CREATED:20260218T192933Z
LAST-MODIFIED:20260402T152557Z
UID:10005677-1775646000-1775649600@www.morainepark.edu
SUMMARY:Unlocking CommUNITY: Real Talk. Real Growth
DESCRIPTION:Unlocking CommUNITY: Real Talk. Real Growth invites participants to explore how identity\, values\, and personal experiences shape the way we connect with others. Through interactive activities and meaningful dialogue\, we’ll practice engaging in challenging conversations with empathy\, curiosity\, and respect. You’ll leave with practical strategies for personal growth and actionable steps to strengthen cultural awareness\, communication\, and belonging in your campus community. This program is for faculty\, staff and students of MPTC only. Attendees will receive a $10 food card for any campus cafe’.  \nFond du Lac Campus: 11 am to 12 pm room A112 \nWest Bend Campus: 11 am to 12 pm room N104 \nBeaver Dam Campus:11 am to 12 pm room K133 \n  \n \n 
URL:https://www.morainepark.edu/event/building-community-even-when-its-tough/
CATEGORIES:Student Event - All Campuses,Student Event - Fond du Lac,Student Support
END:VEVENT
BEGIN:VEVENT
DTSTART;TZID=America/Chicago:20260423T183000
DTEND;TZID=America/Chicago:20260423T193000
DTSTAMP:20260419T162321
CREATED:20250724T151127Z
LAST-MODIFIED:20250724T151127Z
UID:10005602-1776969000-1776972600@www.morainepark.edu
SUMMARY:Virtual Bingo
DESCRIPTION:Everyone loves to play BINGO\, and now you can experience the same in-person game show you know and love\, accessed virtually! Play from your phone or mobile device. \nGUARANTEED TO GIVE OUT $300 IN AMAZON GIFT CODES! \nClick on the link to login/set up your Free Twitch account and then join @6:30 CST here: https://micdropproductions.com/morainepark \nSponsored by Beaver Dam\, Fond du Lac\, and West Bend Student Senates
URL:https://www.morainepark.edu/event/virtual-bingo-5/
CATEGORIES:Student Event,Student Event - All Campuses
ORGANIZER;CN="Brittany Schmidt":MAILTO:bschmidt86@morainpark.edu
END:VEVENT
END:VCALENDAR