BEGIN:VCALENDAR
VERSION:2.0
PRODID:-//Moraine Park Technical College - ECPv6.15.20//NONSGML v1.0//EN
CALSCALE:GREGORIAN
METHOD:PUBLISH
X-ORIGINAL-URL:https://www.morainepark.edu
X-WR-CALDESC:Events for Moraine Park Technical College
REFRESH-INTERVAL;VALUE=DURATION:PT1H
X-Robots-Tag:noindex
X-PUBLISHED-TTL:PT1H
BEGIN:VTIMEZONE
TZID:America/Chicago
BEGIN:DAYLIGHT
TZOFFSETFROM:-0600
TZOFFSETTO:-0500
TZNAME:CDT
DTSTART:20220313T080000
END:DAYLIGHT
BEGIN:STANDARD
TZOFFSETFROM:-0500
TZOFFSETTO:-0600
TZNAME:CST
DTSTART:20221106T070000
END:STANDARD
BEGIN:DAYLIGHT
TZOFFSETFROM:-0600
TZOFFSETTO:-0500
TZNAME:CDT
DTSTART:20230312T080000
END:DAYLIGHT
BEGIN:STANDARD
TZOFFSETFROM:-0500
TZOFFSETTO:-0600
TZNAME:CST
DTSTART:20231105T070000
END:STANDARD
BEGIN:DAYLIGHT
TZOFFSETFROM:-0600
TZOFFSETTO:-0500
TZNAME:CDT
DTSTART:20240310T080000
END:DAYLIGHT
BEGIN:STANDARD
TZOFFSETFROM:-0500
TZOFFSETTO:-0600
TZNAME:CST
DTSTART:20241103T070000
END:STANDARD
BEGIN:DAYLIGHT
TZOFFSETFROM:-0600
TZOFFSETTO:-0500
TZNAME:CDT
DTSTART:20250309T080000
END:DAYLIGHT
BEGIN:STANDARD
TZOFFSETFROM:-0500
TZOFFSETTO:-0600
TZNAME:CST
DTSTART:20251102T070000
END:STANDARD
BEGIN:DAYLIGHT
TZOFFSETFROM:-0600
TZOFFSETTO:-0500
TZNAME:CDT
DTSTART:20260308T080000
END:DAYLIGHT
BEGIN:STANDARD
TZOFFSETFROM:-0500
TZOFFSETTO:-0600
TZNAME:CST
DTSTART:20261101T070000
END:STANDARD
BEGIN:DAYLIGHT
TZOFFSETFROM:-0600
TZOFFSETTO:-0500
TZNAME:CDT
DTSTART:20270314T080000
END:DAYLIGHT
BEGIN:STANDARD
TZOFFSETFROM:-0500
TZOFFSETTO:-0600
TZNAME:CST
DTSTART:20271107T070000
END:STANDARD
END:VTIMEZONE
BEGIN:VEVENT
DTSTART;VALUE=DATE:20230414
DTEND;VALUE=DATE:20230415
DTSTAMP:20260419T180957
CREATED:20220811T015430Z
LAST-MODIFIED:20220811T015430Z
UID:10003188-1681430400-1681516799@www.morainepark.edu
SUMMARY:Wisconsin Student Government Meeting
DESCRIPTION:Wisconsin Student Government’s (WSG) mission is to represent\, promote\, advocate\, and protect the interests of the technical colleges and their students.  Students who participate create a positive and active network amongst the 16 technical colleges in the state.  Opportunities are provided to develop leadership skills. \nWSG is comprised of representatives from each of Wisconsin’s 16 technical colleges\, and the group meets approximately five times a year throughout the state. \nAll students welcome.  To attend a WSG meeting\, contact your Student Life Specialist. \nThis meeting will be held in Stevens Point\, WI. \nFor more information about WSG\, visit https://wsgtech.com/
URL:https://www.morainepark.edu/event/wisconsin-student-government-meeting-14/
CATEGORIES:Student Event,Student Event - All Campuses
ORGANIZER;CN="Lisa Manuell":MAILTO:lmanuell@morainepark.edu
END:VEVENT
BEGIN:VEVENT
DTSTART;TZID=America/Chicago:20240125T183000
DTEND;TZID=America/Chicago:20240125T203000
DTSTAMP:20260419T180957
CREATED:20240105T203613Z
LAST-MODIFIED:20240105T203613Z
UID:10004823-1706207400-1706214600@www.morainepark.edu
SUMMARY:Virtual Bingo
DESCRIPTION:Play everyone’s favorite game BINGO\, virtually from anywhere! You can play right from you phone for a chance to win Amazon Gift Cards! We will be giving away $500 in prizes! Stay until the end for the $150 blackout bingo! Register here: https://micdropproductions.com/morainepark 
URL:https://www.morainepark.edu/event/virtual-bingo/
CATEGORIES:Student Event,Student Event - All Campuses
ORGANIZER;CN="Brittany Schmidt":MAILTO:bschmidt86@morainpark.edu
END:VEVENT
BEGIN:VEVENT
DTSTART;TZID=America/Chicago:20240229T190000
DTEND;TZID=America/Chicago:20240229T194500
DTSTAMP:20260419T180957
CREATED:20240213T211639Z
LAST-MODIFIED:20240221T193341Z
UID:10004862-1709233200-1709235900@www.morainepark.edu
SUMMARY:Virtual Mind Reading Show: Mark Toland
DESCRIPTION:Mark Toland is a master mind-reader and mentalist. Remotely\, using our Pro Zoom web video service\, Mark has featured his mind-reading skills on NBC\, ABC\, FOX\, CBS\, WGN\, NPR\, Sirius XM\, and more! He has also won numerous awards including “Best of Fest” (NYC)\, “Critic’s Choice” (Portland)\, and “Pick of Fringe” (Orlando)\, to name a few! Mark will prove to you that a mind reader doesn’t need to be there in person to read your mind! \n \n \nSponsored by Student Life \n 
URL:https://www.morainepark.edu/event/virtual-mind-reading-show-mark-toland/
LOCATION:Online
CATEGORIES:Student Event,Student Event - All Campuses
ORGANIZER;CN="Brittany Schmidt":MAILTO:bschmidt86@morainpark.edu
END:VEVENT
BEGIN:VEVENT
DTSTART;TZID=America/Chicago:20240828T110000
DTEND;TZID=America/Chicago:20240828T130000
DTSTAMP:20260419T180957
CREATED:20240709T163519Z
LAST-MODIFIED:20240709T164159Z
UID:10005326-1724842800-1724850000@www.morainepark.edu
SUMMARY:BD-Student Involvement Fair
DESCRIPTION:Stop by the Student Life Informational Fair! “Get the Scoop” on the many opportunities and resources that are available to you at MPTC. Plus\, students can also enjoy a FREE Hawaiian shaved ice just for stopping by and enter for one of three gift cards to our very own Canteen! \nBe sure to take advantage of meeting the many knowledgeable leaders who head up their areas! \n  \nSponsored by the Beaver Dam Student Senate
URL:https://www.morainepark.edu/event/bd-student-involvement-fair/
LOCATION:Beaver Dam Cafeteria
CATEGORIES:Student Event,Student Event - All Campuses
END:VEVENT
BEGIN:VEVENT
DTSTART;TZID=America/Chicago:20250122T103000
DTEND;TZID=America/Chicago:20250122T123000
DTSTAMP:20260419T180957
CREATED:20250114T172834Z
LAST-MODIFIED:20250114T173610Z
UID:10005479-1737541800-1737549000@www.morainepark.edu
SUMMARY:Cookies with a Counselor (All Campuses)
DESCRIPTION:Stop by\, enjoy a free cookie\, and meet your campus counselors. \nWednesday\, January 22 – 10:30 a.m. – 12:30 p.m. \nBeaver Dam – Room K112 \nFond du Lac – Cafeteria \nWest Bend – Cafeteria \n 
URL:https://www.morainepark.edu/event/cookies-with-a-counselor/
LOCATION:FDL Campus Cafeteria
CATEGORIES:Student Event - All Campuses
END:VEVENT
BEGIN:VEVENT
DTSTART;TZID=America/Chicago:20251030T183000
DTEND;TZID=America/Chicago:20251030T193000
DTSTAMP:20260419T180957
CREATED:20250724T151322Z
LAST-MODIFIED:20250724T151322Z
UID:10005603-1761849000-1761852600@www.morainepark.edu
SUMMARY:Virtual Trivia Stream
DESCRIPTION:It’s the Trivia game show experience that you know and love\, accessed virtually! Play from your phone or mobile device. As a question is asked\, the quicker you answer\, the more points you get! Better yet\, we have increased the prize package amount! \nGUARANTEED TO GIVE OUT $300 IN AMAZON GIFT CODES! \nClick on the link to login/set up your Free Twitch account and then join @6:30 CST: https://triviastreamgameshow.com/morainepark \nSponsored by Beaver Dam\, Fond du Lac\, and West Bend Student Senates
URL:https://www.morainepark.edu/event/virtual-trivia-stream-4/
CATEGORIES:Student Event,Student Event - All Campuses
ORGANIZER;CN="Brittany Schmidt":MAILTO:bschmidt86@morainpark.edu
END:VEVENT
BEGIN:VEVENT
DTSTART;TZID=America/Chicago:20251110T083000
DTEND;TZID=America/Chicago:20251110T093000
DTSTAMP:20260419T180957
CREATED:20251031T134913Z
LAST-MODIFIED:20251031T153326Z
UID:10005639-1762763400-1762767000@www.morainepark.edu
SUMMARY:WB: Coffee and Cards
DESCRIPTION:Join us for coffee and cookies\, and sign either a banner in support of veterans currently deployed or a card to be sent overseas during the holidays. \nWhen: November 10th\, 8:30 -9:30 a.m. \nWhere: Commons (West Bend campus) \nCoffee and Cards 2025
URL:https://www.morainepark.edu/event/coffee-and-cards-west-bend-copy/
LOCATION:West Bend Campus\, Commons Area
CATEGORIES:Student Event - All Campuses,Student Event - Fond du Lac,Student Event - West Bend,Student Support
ORGANIZER;CN="Steve Pepper":MAILTO:spepper1@morainepark.edu
END:VEVENT
BEGIN:VEVENT
DTSTART;TZID=America/Chicago:20251204T183000
DTEND;TZID=America/Chicago:20251204T193000
DTSTAMP:20260419T180957
CREATED:20250724T151026Z
LAST-MODIFIED:20250724T151026Z
UID:10005601-1764873000-1764876600@www.morainepark.edu
SUMMARY:Virtual Bingo
DESCRIPTION:Everyone loves to play BINGO\, and now you can experience the same in-person game show you know and love\, accessed virtually! Play from your phone or mobile device. \nGUARANTEED TO GIVE OUT $300 IN AMAZON GIFT CODES! \nClick on the link to login/set up your Free Twitch account and then join @6:30 CST here: https://micdropproductions.com/morainepark \nSponsored by Beaver Dam\, Fond du Lac\, and West Bend Student Senates
URL:https://www.morainepark.edu/event/virtual-bingo-4/
CATEGORIES:Student Event,Student Event - All Campuses
ORGANIZER;CN="Brittany Schmidt":MAILTO:bschmidt86@morainpark.edu
END:VEVENT
BEGIN:VEVENT
DTSTART;VALUE=DATE:20260203
DTEND;VALUE=DATE:20260228
DTSTAMP:20260419T180957
CREATED:20260203T171047Z
LAST-MODIFIED:20260203T171858Z
UID:10005665-1770076800-1772236799@www.morainepark.edu
SUMMARY:Black History Museum
DESCRIPTION:Black History Museum: Celebrate Black brilliance! Dive into powerful stories\, groundbreaking contributions\, and vibrant culture at our Traveling Black History Museum. Join the excitement! \nFond du Lac – Outside Library\, 2/2 – 2/13 \nWest Bed – Outside Library\, 2/16 – 2/20 \nBeaver Dam – Main Lobby (J1 Lobby)\, 2/23 – 2/27 \n \n 
URL:https://www.morainepark.edu/event/black-history-museum/
CATEGORIES:Student Event,Student Event - All Campuses,Student Event - Fond du Lac,Student Support
ORGANIZER;CN="Rich Givens":MAILTO:rgivens@morainepark.edu
END:VEVENT
BEGIN:VEVENT
DTSTART;TZID=America/Chicago:20260212T183000
DTEND;TZID=America/Chicago:20260212T193000
DTSTAMP:20260419T180957
CREATED:20250724T151421Z
LAST-MODIFIED:20250724T151421Z
UID:10005604-1770921000-1770924600@www.morainepark.edu
SUMMARY:Virtual Trivia Stream
DESCRIPTION:It’s the Trivia game show experience that you know and love\, accessed virtually! Play from your phone or mobile device. As a question is asked\, the quicker you answer\, the more points you get! Better yet\, we have increased the prize package amount! \nGUARANTEED TO GIVE OUT $300 IN AMAZON GIFT CODES! \nClick on the link to login/set up your Free Twitch account and then join @6:30 CST: https://triviastreamgameshow.com/morainepark \nSponsored by Beaver Dam\, Fond du Lac\, and West Bend Student Senates
URL:https://www.morainepark.edu/event/virtual-trivia-stream-5/
CATEGORIES:Student Event,Student Event - All Campuses
ORGANIZER;CN="Brittany Schmidt":MAILTO:bschmidt86@morainpark.edu
END:VEVENT
BEGIN:VEVENT
DTSTART;TZID=America/Chicago:20260331T110000
DTEND;TZID=America/Chicago:20260331T120000
DTSTAMP:20260419T180957
CREATED:20260304T162146Z
LAST-MODIFIED:20260304T170306Z
UID:10005680-1774954800-1774958400@www.morainepark.edu
SUMMARY:Pottery and Podcast
DESCRIPTION:Join us to paint pottery while listening to a podcast on a current topic\, blending creativity and conversation in a relaxed\, engaging atmosphere.  \n\nFond du Lac on March 31 from 11 am to noon in the cafeteria\nWest Bend on March 31 from 11 am to noon in the cafeteria
URL:https://www.morainepark.edu/event/pottery-and-podcast/
CATEGORIES:Student Event,Student Event - All Campuses,Student Event - Beaver Dam,Student Event - Fond du Lac,Student Event - West Bend,Student Support
END:VEVENT
BEGIN:VEVENT
DTSTART;TZID=America/Chicago:20260408T110000
DTEND;TZID=America/Chicago:20260408T120000
DTSTAMP:20260419T180957
CREATED:20260218T192933Z
LAST-MODIFIED:20260402T152557Z
UID:10005677-1775646000-1775649600@www.morainepark.edu
SUMMARY:Unlocking CommUNITY: Real Talk. Real Growth
DESCRIPTION:Unlocking CommUNITY: Real Talk. Real Growth invites participants to explore how identity\, values\, and personal experiences shape the way we connect with others. Through interactive activities and meaningful dialogue\, we’ll practice engaging in challenging conversations with empathy\, curiosity\, and respect. You’ll leave with practical strategies for personal growth and actionable steps to strengthen cultural awareness\, communication\, and belonging in your campus community. This program is for faculty\, staff and students of MPTC only. Attendees will receive a $10 food card for any campus cafe’.  \nFond du Lac Campus: 11 am to 12 pm room A112 \nWest Bend Campus: 11 am to 12 pm room N104 \nBeaver Dam Campus:11 am to 12 pm room K133 \n  \n \n 
URL:https://www.morainepark.edu/event/building-community-even-when-its-tough/
CATEGORIES:Student Event - All Campuses,Student Event - Fond du Lac,Student Support
END:VEVENT
BEGIN:VEVENT
DTSTART;TZID=America/Chicago:20260423T183000
DTEND;TZID=America/Chicago:20260423T193000
DTSTAMP:20260419T180957
CREATED:20250724T151127Z
LAST-MODIFIED:20250724T151127Z
UID:10005602-1776969000-1776972600@www.morainepark.edu
SUMMARY:Virtual Bingo
DESCRIPTION:Everyone loves to play BINGO\, and now you can experience the same in-person game show you know and love\, accessed virtually! Play from your phone or mobile device. \nGUARANTEED TO GIVE OUT $300 IN AMAZON GIFT CODES! \nClick on the link to login/set up your Free Twitch account and then join @6:30 CST here: https://micdropproductions.com/morainepark \nSponsored by Beaver Dam\, Fond du Lac\, and West Bend Student Senates
URL:https://www.morainepark.edu/event/virtual-bingo-5/
CATEGORIES:Student Event,Student Event - All Campuses
ORGANIZER;CN="Brittany Schmidt":MAILTO:bschmidt86@morainpark.edu
END:VEVENT
END:VCALENDAR