BEGIN:VCALENDAR
VERSION:2.0
PRODID:-//Moraine Park Technical College - ECPv6.15.20//NONSGML v1.0//EN
CALSCALE:GREGORIAN
METHOD:PUBLISH
X-WR-CALNAME:Moraine Park Technical College
X-ORIGINAL-URL:https://www.morainepark.edu
X-WR-CALDESC:Events for Moraine Park Technical College
REFRESH-INTERVAL;VALUE=DURATION:PT1H
X-Robots-Tag:noindex
X-PUBLISHED-TTL:PT1H
BEGIN:VTIMEZONE
TZID:America/Chicago
BEGIN:DAYLIGHT
TZOFFSETFROM:-0600
TZOFFSETTO:-0500
TZNAME:CDT
DTSTART:20190310T080000
END:DAYLIGHT
BEGIN:STANDARD
TZOFFSETFROM:-0500
TZOFFSETTO:-0600
TZNAME:CST
DTSTART:20191103T070000
END:STANDARD
BEGIN:DAYLIGHT
TZOFFSETFROM:-0600
TZOFFSETTO:-0500
TZNAME:CDT
DTSTART:20200308T080000
END:DAYLIGHT
BEGIN:STANDARD
TZOFFSETFROM:-0500
TZOFFSETTO:-0600
TZNAME:CST
DTSTART:20201101T070000
END:STANDARD
BEGIN:DAYLIGHT
TZOFFSETFROM:-0600
TZOFFSETTO:-0500
TZNAME:CDT
DTSTART:20210314T080000
END:DAYLIGHT
BEGIN:STANDARD
TZOFFSETFROM:-0500
TZOFFSETTO:-0600
TZNAME:CST
DTSTART:20211107T070000
END:STANDARD
END:VTIMEZONE
BEGIN:VEVENT
DTSTART;VALUE=DATE:20201209
DTEND;VALUE=DATE:20201210
DTSTAMP:20260424T191442
CREATED:20201201T182234Z
LAST-MODIFIED:20201201T182422Z
UID:10003309-1607472000-1607558399@www.morainepark.edu
SUMMARY:Welding Club Fundraiser: Tree Ornaments
DESCRIPTION:Only $3 each! \nPlace your order no later than Monday\, December 14. \nEmail Andrew at aluby@morainepark.edu and include: \n\nYour name\nType of ornament(s) – reindeer\, gift\, star\, Santa Claus\, MP logo\, and snowflake\nQuantity\nWhich campus you’d like to pick your order up from\n\nPayment due at time order is placed. \nOrders will be available for pick-up in Student Services on the Beaver Dam\, Fond du Lac\, and West Bend campuses on Friday\, December 18\, Monday\, December 21 and Tuesday\, December 22.
URL:https://www.morainepark.edu/event/welding-club-fundraiser-tree-ornaments-copy/
CATEGORIES:Student Event,Student Event - All Campuses
ORGANIZER;CN="Lisa Manuell":MAILTO:lmanuell@morainepark.edu
END:VEVENT
END:VCALENDAR