BEGIN:VCALENDAR
VERSION:2.0
PRODID:-//Moraine Park Technical College - ECPv6.15.20//NONSGML v1.0//EN
CALSCALE:GREGORIAN
METHOD:PUBLISH
X-ORIGINAL-URL:https://www.morainepark.edu
X-WR-CALDESC:Events for Moraine Park Technical College
REFRESH-INTERVAL;VALUE=DURATION:PT1H
X-Robots-Tag:noindex
X-PUBLISHED-TTL:PT1H
BEGIN:VTIMEZONE
TZID:America/Chicago
BEGIN:DAYLIGHT
TZOFFSETFROM:-0600
TZOFFSETTO:-0500
TZNAME:CDT
DTSTART:20190310T080000
END:DAYLIGHT
BEGIN:STANDARD
TZOFFSETFROM:-0500
TZOFFSETTO:-0600
TZNAME:CST
DTSTART:20191103T070000
END:STANDARD
BEGIN:DAYLIGHT
TZOFFSETFROM:-0600
TZOFFSETTO:-0500
TZNAME:CDT
DTSTART:20200308T080000
END:DAYLIGHT
BEGIN:STANDARD
TZOFFSETFROM:-0500
TZOFFSETTO:-0600
TZNAME:CST
DTSTART:20201101T070000
END:STANDARD
BEGIN:DAYLIGHT
TZOFFSETFROM:-0600
TZOFFSETTO:-0500
TZNAME:CDT
DTSTART:20210314T080000
END:DAYLIGHT
BEGIN:STANDARD
TZOFFSETFROM:-0500
TZOFFSETTO:-0600
TZNAME:CST
DTSTART:20211107T070000
END:STANDARD
END:VTIMEZONE
BEGIN:VEVENT
DTSTART;VALUE=DATE:20201113
DTEND;VALUE=DATE:20201114
DTSTAMP:20260424T154037
CREATED:20200729T163130Z
LAST-MODIFIED:20200729T163130Z
UID:10003167-1605225600-1605311999@www.morainepark.edu
SUMMARY:Wisconsin Student Government Meeting
DESCRIPTION:Wisconsin Student Government’s (WSG) mission is to represent\, promote\, advocate\, and protect the interests of the technical colleges and their students.  Students who participate create a positive and active network amongst the 16 technical colleges in the state.  Opportunities are provided to develop leadership skills. \nWSG is comprised of representatives from each of Wisconsin’s 16 technical colleges\, and the group meets approximately five times a year throughout the state. \nTo attend a WSG meeting\, contact your Student Life Specialist. \nFor more information about WSG\, visit https://wsgtech.com/
URL:https://www.morainepark.edu/event/wisconsin-student-government-meeting-3/
CATEGORIES:Student Event,Student Event - All Campuses
ORGANIZER;CN="Lisa Manuell":MAILTO:lmanuell@morainepark.edu
END:VEVENT
BEGIN:VEVENT
DTSTART;TZID=America/Chicago:20201120T120000
DTEND;TZID=America/Chicago:20201120T130000
DTSTAMP:20260424T154037
CREATED:20200729T145525Z
LAST-MODIFIED:20200729T145525Z
UID:10003157-1605873600-1605877200@www.morainepark.edu
SUMMARY:District Student Government Meeting
DESCRIPTION:District Student Government (DSG) is a college-wide student governing body that meets approximately once a month in Lomira.  DSG is comprised of representatives from each campus senate. \nTo attend a DSG meeting or for more information\, contact your Student Life Specialist.
URL:https://www.morainepark.edu/event/district-student-government-meeting-3/
CATEGORIES:Student Event,Student Event - All Campuses
ORGANIZER;CN="Lisa Manuell":MAILTO:lmanuell@morainepark.edu
END:VEVENT
BEGIN:VEVENT
DTSTART;VALUE=DATE:20201130
DTEND;VALUE=DATE:20201201
DTSTAMP:20260424T154037
CREATED:20201016T144645Z
LAST-MODIFIED:20201105T220041Z
UID:10003303-1606694400-1606780799@www.morainepark.edu
SUMMARY:Winter Holiday Photo Contest
DESCRIPTION:What’s the best winter or holiday photo you’ve taken?  Was it taken outdoors\, is it scenic?  Is it of a loved one(s) or of a special tradition?  Or\, maybe it’s a photo of your holiday lights\, or other decorations…whatever it is\, submit it Monday\, November 30 through Wednesday\, December 9! \nVisit myMPTC to enter! \nOne entry per person.  Photos must have been taken in the year 2019 or 2020. \nVoting ends on Friday\, December 11. \nAnyone can vote\, even those who didn’t submit an entry so visit myMPTC to cast a vote for your favorite entry. \nPrizes \nOne 1st place winner: $100 \nOne 2nd place winner: $75 \nOne 3rd place winner: $50 \nWinners will be notified via email by Tuesday\, December 22 and will receive gift cards as prizes. \n  \n 
URL:https://www.morainepark.edu/event/bd-winter-holiday-photo-contest/
CATEGORIES:Student Event,Student Event - All Campuses
ORGANIZER;CN="Lisa Manuell":MAILTO:lmanuell@morainepark.edu
END:VEVENT
END:VCALENDAR