BEGIN:VCALENDAR
VERSION:2.0
PRODID:-//Moraine Park Technical College - ECPv6.15.20//NONSGML v1.0//EN
CALSCALE:GREGORIAN
METHOD:PUBLISH
X-WR-CALNAME:Moraine Park Technical College
X-ORIGINAL-URL:https://www.morainepark.edu
X-WR-CALDESC:Events for Moraine Park Technical College
REFRESH-INTERVAL;VALUE=DURATION:PT1H
X-Robots-Tag:noindex
X-PUBLISHED-TTL:PT1H
BEGIN:VTIMEZONE
TZID:America/Chicago
BEGIN:DAYLIGHT
TZOFFSETFROM:-0600
TZOFFSETTO:-0500
TZNAME:CDT
DTSTART:20190310T080000
END:DAYLIGHT
BEGIN:STANDARD
TZOFFSETFROM:-0500
TZOFFSETTO:-0600
TZNAME:CST
DTSTART:20191103T070000
END:STANDARD
BEGIN:DAYLIGHT
TZOFFSETFROM:-0600
TZOFFSETTO:-0500
TZNAME:CDT
DTSTART:20200308T080000
END:DAYLIGHT
BEGIN:STANDARD
TZOFFSETFROM:-0500
TZOFFSETTO:-0600
TZNAME:CST
DTSTART:20201101T070000
END:STANDARD
BEGIN:DAYLIGHT
TZOFFSETFROM:-0600
TZOFFSETTO:-0500
TZNAME:CDT
DTSTART:20210314T080000
END:DAYLIGHT
BEGIN:STANDARD
TZOFFSETFROM:-0500
TZOFFSETTO:-0600
TZNAME:CST
DTSTART:20211107T070000
END:STANDARD
END:VTIMEZONE
BEGIN:VEVENT
DTSTART;TZID=America/Chicago:20201008T111500
DTEND;TZID=America/Chicago:20201008T123000
DTSTAMP:20260424T134546
CREATED:20200805T174411Z
LAST-MODIFIED:20200805T174411Z
UID:10003225-1602155700-1602160200@www.morainepark.edu
SUMMARY:Virtual Fall Leadership Conference
DESCRIPTION:Grab a hold of this great opportunity to: \n\nLearn how to play well with others and deal with conflict and drama.\nBuild your confidence as a leader by finding your purpose.\nUnderstand how to make the most of your 24/7 by using time to your advantage.\n\nParticipate virtually OR in-person from any campus – Beaver Dam – Room K-320\, Fond du Lac – Room A-112\, West Bend – Room T-101 \nClubs will receive $25 per member (up to $500) who attends. \nFree lunch for those who attend in person. \nContact your Student Life Specialist to sign-up; Pre-registration is required by Friday\, October 2. \nKeynote presented by Dave Kelly. \nSponsored by District Student Government.
URL:https://www.morainepark.edu/event/virtual-fall-leadership-conference/
CATEGORIES:Student Event,Student Event - All Campuses
ORGANIZER;CN="Lisa Manuell":MAILTO:lmanuell@morainepark.edu
END:VEVENT
BEGIN:VEVENT
DTSTART;TZID=America/Chicago:20201013T180000
DTEND;TZID=America/Chicago:20201013T190000
DTSTAMP:20260424T134546
CREATED:20200831T190128Z
LAST-MODIFIED:20201012T163258Z
UID:10003254-1602612000-1602615600@www.morainepark.edu
SUMMARY:Diversity Club Safe Talk
DESCRIPTION:Diversity Club is hosting Safe Talks for all students. \nWhat’s on your mind? \nMoraine Park’s Associate Director of Diversity and Inclusion Leslie Laster\, Multicultural Student Support Specialist Kevin Rodriguez\, and General Education faculty Emily Hayes want to hear what you have to say about just about anything. We’re listening. \nJoin Zoom Meeting: https://zoom.us/j/94254961777 \nMeeting ID: 942 5496 1777\nPasscode: 530579 \nOne tap mobile \n+16468769923\,\,94254961777# US
URL:https://www.morainepark.edu/event/diversity-club-safe-talk/
LOCATION:Moraine Park Technical College\, 700 Gould Street\, Beaver Dam\, WI\, 53916\, United States
CATEGORIES:Student Event,Student Event - All Campuses
END:VEVENT
BEGIN:VEVENT
DTSTART;TZID=America/Chicago:20201014T190000
DTEND;TZID=America/Chicago:20201014T190000
DTSTAMP:20260424T134546
CREATED:20200929T164955Z
LAST-MODIFIED:20200929T164956Z
UID:10003279-1602702000-1602702000@www.morainepark.edu
SUMMARY:Empowering the Conversation: Small Farmers\, Big Change
DESCRIPTION:Join us virtually to celebrate Fair Trade Month and Global Climate Change Week. \nRegister here: \nBit.ly/eesmallfarmers
URL:https://www.morainepark.edu/event/empowering-the-conversation-small-farmers-big-change/
LOCATION:Virtual
CATEGORIES:Fair Trade Event,Student Event,Student Event - All Campuses
END:VEVENT
BEGIN:VEVENT
DTSTART;VALUE=DATE:20201016
DTEND;VALUE=DATE:20201017
DTSTAMP:20260424T134546
CREATED:20200729T160057Z
LAST-MODIFIED:20200729T160057Z
UID:10003163-1602806400-1602892799@www.morainepark.edu
SUMMARY:Wisconsin Student Government Meeting
DESCRIPTION:Wisconsin Student Government’s (WSG) mission is to represent\, promote\, advocate\, and protect the interests of the technical colleges and their students.  Students who participate create a positive and active network amongst the 16 technical colleges in the state.  Opportunities are provided to develop leadership skills. \nWSG is comprised of representatives from each of Wisconsin’s 16 technical colleges\, and the group meets approximately five times a year throughout the state. \nTo attend a WSG meeting\, contact your Student Life Specialist. \nFor more information about WSG\, visit https://wsgtech.com/
URL:https://www.morainepark.edu/event/wisconsin-student-government-meeting/
CATEGORIES:Student Event,Student Event - All Campuses
ORGANIZER;CN="Lisa Manuell":MAILTO:lmanuell@morainepark.edu
END:VEVENT
BEGIN:VEVENT
DTSTART;VALUE=DATE:20201017
DTEND;VALUE=DATE:20201018
DTSTAMP:20260424T134546
CREATED:20200729T160153Z
LAST-MODIFIED:20200729T160153Z
UID:10003165-1602892800-1602979199@www.morainepark.edu
SUMMARY:Wisconsin Student Government Meeting
DESCRIPTION:Wisconsin Student Government’s (WSG) mission is to represent\, promote\, advocate\, and protect the interests of the technical colleges and their students.  Students who participate create a positive and active network amongst the 16 technical colleges in the state.  Opportunities are provided to develop leadership skills. \nWSG is comprised of representatives from each of Wisconsin’s 16 technical colleges\, and the group meets approximately five times a year throughout the state. \nTo attend a WSG meeting\, contact your Student Life Specialist. \nFor more information about WSG\, visit https://wsgtech.com/
URL:https://www.morainepark.edu/event/wisconsin-student-government-meeting-2/
CATEGORIES:Student Event,Student Event - All Campuses
ORGANIZER;CN="Lisa Manuell":MAILTO:lmanuell@morainepark.edu
END:VEVENT
BEGIN:VEVENT
DTSTART;TZID=America/Chicago:20201019T120000
DTEND;TZID=America/Chicago:20201019T130000
DTSTAMP:20260424T134546
CREATED:20201012T185258Z
LAST-MODIFIED:20201012T185258Z
UID:10003289-1603108800-1603112400@www.morainepark.edu
SUMMARY:Domestic Violence 101 Webinar
DESCRIPTION:Join Amy Bayer from SSM/Agnesian Domestic Violence for her presentation on Domestic Violence 101. \nOct. 19:\nZoom Meeting: https://zoom.us/j/97273596122 \nMeeting ID: 972 7359 6122\nDial:  1 312 626 6799 US (Chicago) \nOct. 20:\nZoom Meeting: https://zoom.us/j/98224927855 \nMeeting ID: 982 2492 7855\nDial:  1 312 626 6799 US (Chicago)
URL:https://www.morainepark.edu/event/domestic-violence-101-webinar/2020-10-19/
LOCATION:Virtual
CATEGORIES:Student Event,Student Event - All Campuses
END:VEVENT
BEGIN:VEVENT
DTSTART;TZID=America/Chicago:20201020T120000
DTEND;TZID=America/Chicago:20201020T130000
DTSTAMP:20260424T134546
CREATED:20201012T185258Z
LAST-MODIFIED:20201012T185258Z
UID:10003290-1603195200-1603198800@www.morainepark.edu
SUMMARY:Domestic Violence 101 Webinar
DESCRIPTION:Join Amy Bayer from SSM/Agnesian Domestic Violence for her presentation on Domestic Violence 101. \nOct. 19:\nZoom Meeting: https://zoom.us/j/97273596122 \nMeeting ID: 972 7359 6122\nDial:  1 312 626 6799 US (Chicago) \nOct. 20:\nZoom Meeting: https://zoom.us/j/98224927855 \nMeeting ID: 982 2492 7855\nDial:  1 312 626 6799 US (Chicago)
URL:https://www.morainepark.edu/event/domestic-violence-101-webinar/2020-10-20/
LOCATION:Virtual
CATEGORIES:Student Event,Student Event - All Campuses
END:VEVENT
BEGIN:VEVENT
DTSTART;TZID=America/Chicago:20201023T120000
DTEND;TZID=America/Chicago:20201023T130000
DTSTAMP:20260424T134546
CREATED:20200729T145432Z
LAST-MODIFIED:20200729T145432Z
UID:10003156-1603454400-1603458000@www.morainepark.edu
SUMMARY:District Student Government Meeting
DESCRIPTION:District Student Government (DSG) is a college-wide student governing body that meets approximately once a month in Lomira.  DSG is comprised of representatives from each campus senate. \nTo attend a DSG meeting or for more information\, contact your Student Life Specialist.
URL:https://www.morainepark.edu/event/district-student-government-meeting-2/
CATEGORIES:Student Event,Student Event - All Campuses
ORGANIZER;CN="Lisa Manuell":MAILTO:lmanuell@morainepark.edu
END:VEVENT
BEGIN:VEVENT
DTSTART;TZID=America/Chicago:20201028T113000
DTEND;TZID=America/Chicago:20201028T123000
DTSTAMP:20260424T134546
CREATED:20200811T162243Z
LAST-MODIFIED:20210115T161044Z
UID:10003235-1603884600-1603888200@www.morainepark.edu
SUMMARY:Virtual Trivia Hour for all MPTC students
DESCRIPTION:Event:  Virtual Trivia Hour for all MPTC students \nWhen:  Wednesday\, October 28th from 11:30 am – 12:30 pm. \nDescription:  Have a blast connecting with your neighbors through a unique virtual experience full of trivia and laughs. Safely socialize with fellow Moraine Park Technical College students on a live/hosted Zoom video call from the comfort of your own home (with or without your camera on). If that isn’t enough to be excited about\, winners get to take home some awesome prizes! \nThe following link leads to a virtual event promo video to show how much fun you will have when you join–> https://www.youtube.com/watch?v=r5oSQRYjcCk. \nJoin on your laptop (preferred) or phone to answer various forms of fun trivia experienced in small group settings.  A friendly trivia host will be in charge of asking questions in multiple entertaining ways\, ensuring you easily make new friends\, and creating/switching teams during the event! \nLink: https://us02web.zoom.us/j/87866967543?pwd=ZWdjNm5rZWI0K1hBSmVGZlAxRG5zUT09 \nMeeting ID: 878 6696 7543 \nPassword (all lower case letters): playnow \nNote: The virtual doors open at 11:30 am and close at 12:00 pm.  Scoring will be kept throughout the event so players who arrive on time will have more opportunities to earn points!  Once you join\, the trivia host will gladly explain everything you need to know. \nZoom Instructions: You can access the video call by clicking the link above OR by going to zoom.com → select “Join a Meeting” → enter the Meeting ID and Password provided in this invite.  If you haven’t used Zoom before\, you can quickly download the free Zoom app or download their free software in advance (takes roughly 1-2 minutes). A laptop is highly preferred but you can also use your phone to enjoy the fun. \nHave: Pen\, paper\, and lots of light on your smiling face! \n 
URL:https://www.morainepark.edu/event/virtual-trivia-event-for-all-mptc-students/
CATEGORIES:Student Event,Student Event - All Campuses
ORGANIZER;CN="Sandy Botham":MAILTO:sbotham@morainepark.edu
END:VEVENT
BEGIN:VEVENT
DTSTART;TZID=America/Chicago:20201030T170000
DTEND;TZID=America/Chicago:20201030T220000
DTSTAMP:20260424T134546
CREATED:20201005T155631Z
LAST-MODIFIED:20201005T155631Z
UID:10003282-1604077200-1604095200@www.morainepark.edu
SUMMARY:WB: Family Halloween Drive In MOVIE
DESCRIPTION:MPTC West Bend Student Senate presents: \nFamily Halloween Drive In Movie to benefit the United Way of Washington County \nMoraine Park Technical College – West Bend; T2 Parking Lot  (Space is limited to 64 cars) \nFriday\, October 30th: 5:00pm – 10:00pm \nCost: $5 per person; Children 5 and under are FREE (all proceeds benefits the United Way) \nREGISTER HERE \n5:00pm: Lot opens  \n\nDrive through Trick or Treating\nConcessions\nSpooky Halloween Music\n\n6:00-6:30pm: Car Decorating Contest (costumes will be added bonus points) \n6:30pm: United Way Fundraising REVEAL \n6:45pm: The Nightmare before Christmas (PG) (run time 1hr 16 mins) \n8:30ish pm: Beetlejuice (PG) (run time 1 hr 32 mins) \nIf you have any questions about the Drive In Movie\, feel free to contact Sandy Botham\, the Student Senate Advisor at sbotham@morainepark.edu or (262) 335-5743.
URL:https://www.morainepark.edu/event/wb-family-halloween-drive-in-movie/
LOCATION:West Bend Campus\, Main Parking Lot
CATEGORIES:Public,Student Event - All Campuses,Student Event - West Bend
ORGANIZER;CN="Sandy Botham":MAILTO:sbotham@morainepark.edu
END:VEVENT
END:VCALENDAR