BEGIN:VCALENDAR
VERSION:2.0
PRODID:-//Moraine Park Technical College - ECPv6.15.20//NONSGML v1.0//EN
CALSCALE:GREGORIAN
METHOD:PUBLISH
X-ORIGINAL-URL:https://www.morainepark.edu
X-WR-CALDESC:Events for Moraine Park Technical College
REFRESH-INTERVAL;VALUE=DURATION:PT1H
X-Robots-Tag:noindex
X-PUBLISHED-TTL:PT1H
BEGIN:VTIMEZONE
TZID:America/Chicago
BEGIN:DAYLIGHT
TZOFFSETFROM:-0600
TZOFFSETTO:-0500
TZNAME:CDT
DTSTART:20190310T080000
END:DAYLIGHT
BEGIN:STANDARD
TZOFFSETFROM:-0500
TZOFFSETTO:-0600
TZNAME:CST
DTSTART:20191103T070000
END:STANDARD
BEGIN:DAYLIGHT
TZOFFSETFROM:-0600
TZOFFSETTO:-0500
TZNAME:CDT
DTSTART:20200308T080000
END:DAYLIGHT
BEGIN:STANDARD
TZOFFSETFROM:-0500
TZOFFSETTO:-0600
TZNAME:CST
DTSTART:20201101T070000
END:STANDARD
BEGIN:DAYLIGHT
TZOFFSETFROM:-0600
TZOFFSETTO:-0500
TZNAME:CDT
DTSTART:20210314T080000
END:DAYLIGHT
BEGIN:STANDARD
TZOFFSETFROM:-0500
TZOFFSETTO:-0600
TZNAME:CST
DTSTART:20211107T070000
END:STANDARD
END:VTIMEZONE
BEGIN:VEVENT
DTSTART;TZID=America/Chicago:20200507T110000
DTEND;TZID=America/Chicago:20200507T160000
DTSTAMP:20260425T055428
CREATED:20200423T184339Z
LAST-MODIFIED:20200430T194556Z
UID:10002982-1588849200-1588867200@www.morainepark.edu
SUMMARY:LAST BLAST VIRTUAL DAY (5 events: come and go as your schedule allows)
DESCRIPTION:Since our campus LAST BLAST events were cancelled! \nWe thought the next best thing to celebrate our LAST WEEK officially together would be to host a LAST BLAST STREAMING DAY on our MPTC Discord Server!  Click HERE to JOIN! \nThursday\, May 7th from 11:00am-4:00pm \nSCHEDULE: \n11am-12pm:  BINGO with SANDY \n12pm-1pm: Drawing2 with Dylan \n1pm-2pm: Quiplash with Austin \n2pm-3pm: Stanley Parable with Anthony \n3pm-4pm: Trivia with Sandy \n 
URL:https://www.morainepark.edu/event/last-blast-streaming-day/
LOCATION:MPTC Discord Community
CATEGORIES:Student Event,Student Event - All Campuses
ORGANIZER;CN="Sandy Botham":MAILTO:sbotham@morainepark.edu
END:VEVENT
BEGIN:VEVENT
DTSTART;TZID=America/Chicago:20200512T113000
DTEND;TZID=America/Chicago:20200512T123000
DTSTAMP:20260425T055428
CREATED:20200511T181941Z
LAST-MODIFIED:20200511T181941Z
UID:10002983-1589283000-1589286600@www.morainepark.edu
SUMMARY:Virtual TRIVIA Contest
DESCRIPTION:Virtual Trivia Contest on MPTC Discord Server \nTuesday\, May 12th from 11:30am-12:30pm \nWe will play 4 rounds of Trivia for $25 Amazon Gift Cards! \nIf you’re interested in participating\, go to the MPTC Discord Server!   We will play the game on the Digital Events channel.
URL:https://www.morainepark.edu/event/virtual-trivia-contest/
LOCATION:MPTC Discord Community
CATEGORIES:Student Event,Student Event - All Campuses
ORGANIZER;CN="Sandy Botham":MAILTO:sbotham@morainepark.edu
END:VEVENT
END:VCALENDAR